From mboxrd@z Thu Jan 1 00:00:00 1970 Return-Path: Received: from mails.dpdk.org (mails.dpdk.org [217.70.189.124]) by inbox.dpdk.org (Postfix) with ESMTP id 5F83846B72 for ; Mon, 14 Jul 2025 17:50:15 +0200 (CEST) Received: from mails.dpdk.org (localhost [127.0.0.1]) by mails.dpdk.org (Postfix) with ESMTP id 59017400D5; Mon, 14 Jul 2025 17:50:15 +0200 (CEST) Received: from mail-pl1-f226.google.com (mail-pl1-f226.google.com [209.85.214.226]) by mails.dpdk.org (Postfix) with ESMTP id 8A12B400D5 for ; Mon, 14 Jul 2025 17:50:13 +0200 (CEST) Received: by mail-pl1-f226.google.com with SMTP id d9443c01a7336-234c5b57557so44080555ad.3 for ; Mon, 14 Jul 2025 08:50:13 -0700 (PDT) DKIM-Signature: v=1; a=rsa-sha256; c=relaxed/relaxed; d=iol.unh.edu; s=unh-iol; t=1752508213; x=1753113013; darn=dpdk.org; h=references:in-reply-to:cc:to:from:subject:message-id:date:from:to :cc:subject:date:message-id:reply-to; bh=p/VJ6mJTzQdMjHfbOZIkCWBjfoKMDj8NryZvbtbSbvc=; b=hUpRIZaPCpXrav3j1twdWkxJW60BGCpNxfMnzfg+zThP9aKPW808syOlyLpNBZjYpn kEmFmsDGV0yngyORM035uewaeh8hJcHsH61xjhxH/HaLB1g23zCDjh1dh0SEaJRX1lD/ elQsSaHtIYYXkhiLVtMqtHGgrILWh56s1luSk= X-Google-DKIM-Signature: v=1; a=rsa-sha256; c=relaxed/relaxed; d=1e100.net; s=20230601; t=1752508213; x=1753113013; h=references:in-reply-to:cc:to:from:subject:message-id:date :x-gm-message-state:from:to:cc:subject:date:message-id:reply-to; bh=p/VJ6mJTzQdMjHfbOZIkCWBjfoKMDj8NryZvbtbSbvc=; b=s+gJQNELWTYYXHZSxE+ngcbdcrAHWGok269GeI9KG0ZHlDeqzwU9L1UbnxvCzdaCVn /aneVrU0r1QbfutWUHv6o9NLmllXn4T+wUElzjVtZqDxHepEf6BTiGQ7/gVpjfkX3JnN LlazOQaYx8tWsCwKh37ljkXdsG2jXtxMP6B9Gf9PouWkC7NSKg0n+Ckxj3KoJmIqtTae 9dER5Cfp60pm1weDss4/40KNVIkqsYrlgMqMGGWaHgZ8jxmmvI0HyRmE70fNxRr7ThF6 AECMcD8lVK/4DBjaIpFsqOwqwFG0Y+IWJ1Mrjnxpe1Mu2PndQWErYkOgDd/M/l5L/zkh 0A5Q== X-Gm-Message-State: AOJu0YxXcw7fiKDfAN+MaAq/zzLraRToqIBQ28o/lELx9qE0R3yieamV W382KyDfyUeF4MNWlyhDEI/vXmCk/LvNAdjezRR4jSzRw3AUp0hu4q+RKFhPXHUSkY22fsQka16 W3O5zkq200qPAPIeOLlD3HQjrxfvgkl3+83/YueOsIz2DsYJFkeRKGhQvBUue X-Gm-Gg: ASbGnctM1m05R6spjpRLEUrbGlpev1GlVdZQpOQqsGNjMqnq72QkovfBPrkVJchoFBT 8vyJWBbDuDEKsG/bx9WrRDPmdkxuQw1ny266fS7cFugUPxCUKlJ0SiW5fAKfEaRLk4+f90w2CSD aOFO68zBe1lflbG+ySUMQuVCulbes8LRNFnQ5qJIPsEBCgHv/Fuz1N6vOuowfkCTaT/RqSgbVk3 /M7lU4fRdbV5fDe5YB04OQkxbIX8Y5UMXNcTWc+kvBgSndoY0BLTVHfebSiZSkA+bi882i2SFSA 59RAmaSSQJ0PRKBSkSj01Sm8YgUkwTGmLKAV032HmyQXcAi2dg== X-Google-Smtp-Source: AGHT+IGvmmMObE+fm+kw4wD3tDAI8kRsoWt+ha1mes+pSFZRg4feywAFdGZP15iIZg2u1VI8hP3T4TGjZXmX X-Received: by 2002:a17:902:d54c:b0:23c:7b9e:163e with SMTP id d9443c01a7336-23dede3061bmr205487575ad.11.1752508212576; Mon, 14 Jul 2025 08:50:12 -0700 (PDT) Received: from postal.iol.unh.edu (postal.iol.unh.edu. [2606:4100:3880:1234::84]) by smtp-relay.gmail.com with ESMTPS id d9443c01a7336-23de42a00e1sm5284515ad.37.2025.07.14.08.50.12 (version=TLS1_2 cipher=ECDHE-ECDSA-AES128-GCM-SHA256 bits=128/128); Mon, 14 Jul 2025 08:50:12 -0700 (PDT) X-Relaying-Domain: iol.unh.edu Date: Mon, 14 Jul 2025 08:50:12 -0700 (PDT) Message-ID: <68752734.170a0220.1dd763.ca46SMTPIN_ADDED_MISSING@mx.google.com> Received: from [172.21.0.7] (unknown [172.18.0.240]) by postal.iol.unh.edu (Postfix) with ESMTP id 1564C604D420; Mon, 14 Jul 2025 11:50:12 -0400 (EDT) Subject: |SUCCESS| pw155202 [PATCH] [RFC] doc: clarify VLAN and QinQ strippin From: dpdklab@iol.unh.edu To: Test Report Cc: dpdk-test-reports@iol.unh.edu In-Reply-To: <20250714133014.44597-1-bruce.richardson@intel.com> References: <20250714133014.44597-1-bruce.richardson@intel.com> Content-Type: text/plain X-BeenThere: test-report@dpdk.org X-Mailman-Version: 2.1.29 Precedence: list List-Id: automatic DPDK test reports List-Unsubscribe: , List-Archive: List-Post: List-Help: List-Subscribe: , Errors-To: test-report-bounces@dpdk.org Test-Label: iol-abi-testing Test-Status: SUCCESS http://dpdk.org/patch/155202 _Testing PASS_ Submitter: Bruce Richardson Date: Monday, July 14 2025 13:30:14 DPDK git baseline: Repo:dpdk Branch: master CommitID:9fe9c0b231c8da5435bfccb1963121b4277f961c 155202 --> testing pass Upstream job id: Generic-DPDK-Compile-ABI#134302 Test environment and result as below: +-------------------------------+----------+ | Environment | abi_test | +===============================+==========+ | CentOS Stream 10 | PASS | +-------------------------------+----------+ | Debian GNU/Linux 12 | PASS | +-------------------------------+----------+ | CentOS Stream 9 | PASS | +-------------------------------+----------+ | Fedora Linux 41 | PASS | +-------------------------------+----------+ | Fedora Linux 40 | PASS | +-------------------------------+----------+ | Red Hat Enterprise Linux 8.10 | PASS | +-------------------------------+----------+ | openSUSE Leap 15.6 | PASS | +-------------------------------+----------+ | Ubuntu 24.04 | PASS | +-------------------------------+----------+ | Ubuntu 22.04 | PASS | +-------------------------------+----------+ | Red Hat Enterprise Linux 9.5 | PASS | +-------------------------------+----------+ CentOS Stream 10 Kernel: 5.15 Compiler: gcc gcc (GCC) 14.2.1 20250110 (Red Hat 14.2.1-8) Debian GNU/Linux 12 Kernel: 5.15 Compiler: gcc gcc (Debian 12.2.0-14+deb12u1) 12.2.0 CentOS Stream 9 Kernel: 5.15 Compiler: gcc gcc (GCC) 11.5.0 20240719 (Red Hat 11.5.0-7) Fedora Linux 41 Kernel: 5.15 Compiler: clang gcc (GCC) 14.3.1 20250523 (Red Hat 14.3.1-1) Fedora Linux 40 Kernel: 5.15 Compiler: clang gcc (GCC) 14.2.1 20240912 (Red Hat 14.2.1-3) Red Hat Enterprise Linux 8.10 Kernel: 5.15 Compiler: gcc gcc (GCC) 8.5.0 20210514 (Red Hat 8.5.0-22) openSUSE Leap 15.6 Kernel: 5.15 Compiler: gcc gcc (SUSE Linux) 7.5.0 Ubuntu 24.04 Kernel: 5.15 Compiler: gcc gcc (Ubuntu 13.3.0-6ubuntu2~24.04) 13.3.0 Ubuntu 22.04 Kernel: 5.15 Compiler: gcc gcc (Ubuntu 11.4.0-1ubuntu1~22.04) 11.4.0 Red Hat Enterprise Linux 9.5 Kernel: 5.15 Compiler: gcc gcc (GCC) 11.5.0 20240719 (Red Hat 11.5.0-2) To view detailed results, visit: https://lab.dpdk.org/results/dashboard/patchsets/33649/ UNH-IOL DPDK Community Lab To manage your email subscriptions, visit: https://lab.dpdk.org/results/dashboard/preferences/subscriptions/