From mboxrd@z Thu Jan 1 00:00:00 1970 Return-Path: Received: from mails.dpdk.org (mails.dpdk.org [217.70.189.124]) by inbox.dpdk.org (Postfix) with ESMTP id B110946B72 for ; Mon, 14 Jul 2025 17:52:33 +0200 (CEST) Received: from mails.dpdk.org (localhost [127.0.0.1]) by mails.dpdk.org (Postfix) with ESMTP id 925B14021F; Mon, 14 Jul 2025 17:52:33 +0200 (CEST) Received: from mail-pf1-f227.google.com (mail-pf1-f227.google.com [209.85.210.227]) by mails.dpdk.org (Postfix) with ESMTP id 10FB54021F for ; Mon, 14 Jul 2025 17:52:33 +0200 (CEST) Received: by mail-pf1-f227.google.com with SMTP id d2e1a72fcca58-73c17c770a7so5475257b3a.2 for ; Mon, 14 Jul 2025 08:52:32 -0700 (PDT) DKIM-Signature: v=1; a=rsa-sha256; c=relaxed/relaxed; d=iol.unh.edu; s=unh-iol; t=1752508352; x=1753113152; darn=dpdk.org; h=references:in-reply-to:cc:to:from:subject:message-id:date:from:to :cc:subject:date:message-id:reply-to; bh=qZgg2TrEi3COM057ggD2C+vYAHu02Ksvx1YY/HSMfvE=; b=AN4drkPuleuQsUvmPvSbAp5u6lyhNJHg/TVG+L03/Er4cUNlbKcej9FkH7ySGspW+Q vj4LjiALKaZIAzy5NRNBZzSMD1Llmqi4hODYDR+mzTkVPJvBm3KR8YHfH+SdVjHLTu8j n89rKmTFw1+/p/sruqD+hakn7sXeAFT83eMPY= X-Google-DKIM-Signature: v=1; a=rsa-sha256; c=relaxed/relaxed; d=1e100.net; s=20230601; t=1752508352; x=1753113152; h=references:in-reply-to:cc:to:from:subject:message-id:date :x-gm-message-state:from:to:cc:subject:date:message-id:reply-to; bh=qZgg2TrEi3COM057ggD2C+vYAHu02Ksvx1YY/HSMfvE=; b=gnio0zB8/KSVXzmtKWCxUtjtwMXfZkshswWnV2Vx9t7dVtfCKq1NrMAQhA9dx6lPok pKvG/B0qQWTNHBgd9VYcNVLeWrw9qj5F/l3kCkhge8qSroKF3jkQV3cipDSFFYQfZQt+ oH7MtJvCPpV98sVtr0BZafKrcKMvq1KIxCXYLT3Vg4koTrdrOU1kUZYFB6KiVyji0Okg tBjEKvOxcu01E9l74oMveWrKOjfi/ChCnLa4cDT9YGuxDQb3vjNR1mL2yRAyrw52otjs h/7O5UrYkzeqBrnykAekEAeMnF94Qm2MCgQwLpF8qmB2Fh1r5pgecp6n3tw+vh8zuTsw Nr4A== X-Gm-Message-State: AOJu0YzJJNa05PgYVRjSYSLZUSdyePrVrvapWKTarrxE3dM933UMFSMa g/hHTpID/CERZOgshLrC9cWjhtCxPAxB5Ny+w5IFcX7GA6iMbncMR2YyRCP0cpp79k/bvuSVhb+ nzJ78SDnpSFGXw6iDe4ggeJwP0N5JaZQNyxeM7aAZkaxzykXjB8iHDNUcy0Rs X-Gm-Gg: ASbGncsEZNd0sUHa+kqC8ZhdLLadm+BB2GfWaX034trGVRwGtkHBo+ongYs1PnwRCRs GxNbtVKo2a/7Q6Nuq+oRphgEbBqJrXPxitMFUioC3ZqaT4cKVazyoIBZ/rpFe9m3KiUqeoToPsV MpZYDdK2OD/afQNrNTdPfJZrNY1DH9+THCnIZN2biFe1/Xgh/eg+5ZFdeu/0uByp6pgzrhMUEcz JESJwi0AVztSpDQWNHkcMVozBtjVgilbYDiRdun3P6WNjo4ZR9LOtOrJYRZ32SKIla8LnLz4FLa U72zp9MTlYApZ4sv8oDzVBrxnRR1oOa1qwXcH/q42Ezov75ZtQ== X-Google-Smtp-Source: AGHT+IFSj6qLy+SVtS36YSmQh10iBjKcbr9WxIf4zynwNyiUCHr7MGIsEKmhG9xz6gaUWws7q3k0fKykwDdP X-Received: by 2002:a05:6a00:1782:b0:74b:4cab:f01d with SMTP id d2e1a72fcca58-74ee244a46dmr20556999b3a.12.1752508352031; Mon, 14 Jul 2025 08:52:32 -0700 (PDT) Received: from postal.iol.unh.edu (postal.iol.unh.edu. [2606:4100:3880:1234::84]) by smtp-relay.gmail.com with ESMTPS id d2e1a72fcca58-74eb9f2396csm564787b3a.11.2025.07.14.08.52.31 (version=TLS1_2 cipher=ECDHE-ECDSA-AES128-GCM-SHA256 bits=128/128); Mon, 14 Jul 2025 08:52:32 -0700 (PDT) X-Relaying-Domain: iol.unh.edu Date: Mon, 14 Jul 2025 08:52:32 -0700 (PDT) Message-ID: <687527c0.050a0220.e416f.ddd0SMTPIN_ADDED_MISSING@mx.google.com> Received: from [172.21.0.5] (unknown [172.18.0.240]) by postal.iol.unh.edu (Postfix) with ESMTP id 2C953604D420; Mon, 14 Jul 2025 11:52:31 -0400 (EDT) Subject: |SUCCESS| pw155202 [PATCH] [RFC] doc: clarify VLAN and QinQ strippin From: dpdklab@iol.unh.edu To: Test Report Cc: dpdk-test-reports@iol.unh.edu In-Reply-To: <20250714133014.44597-1-bruce.richardson@intel.com> References: <20250714133014.44597-1-bruce.richardson@intel.com> Content-Type: text/plain X-BeenThere: test-report@dpdk.org X-Mailman-Version: 2.1.29 Precedence: list List-Id: automatic DPDK test reports List-Unsubscribe: , List-Archive: List-Post: List-Help: List-Subscribe: , Errors-To: test-report-bounces@dpdk.org Test-Label: iol-unit-amd64-testing Test-Status: SUCCESS http://dpdk.org/patch/155202 _Testing PASS_ Submitter: Bruce Richardson Date: Monday, July 14 2025 13:30:14 DPDK git baseline: Repo:dpdk Branch: master CommitID:9fe9c0b231c8da5435bfccb1963121b4277f961c 155202 --> testing pass Upstream job id: Generic-Unit-Test-DPDK#355284 Test environment and result as below: +-------------------------------+----------------+ | Environment | dpdk_unit_test | +===============================+================+ | Fedora Linux 40 | PASS | +-------------------------------+----------------+ | CentOS Stream 10 | PASS | +-------------------------------+----------------+ | Debian GNU/Linux 12 | PASS | +-------------------------------+----------------+ | CentOS Stream 9 | PASS | +-------------------------------+----------------+ | Fedora Linux 41 | PASS | +-------------------------------+----------------+ | Red Hat Enterprise Linux 9.5 | PASS | +-------------------------------+----------------+ | Red Hat Enterprise Linux 8.10 | PASS | +-------------------------------+----------------+ | Ubuntu 20.04 | PASS | +-------------------------------+----------------+ | Ubuntu 22.04 | PASS | +-------------------------------+----------------+ | Ubuntu 24.04 | PASS | +-------------------------------+----------------+ | Windows Server 2022 | PASS | +-------------------------------+----------------+ Fedora Linux 40 Kernel: 5.15 Compiler: gcc gcc (GCC) 14.2.1 20240912 (Red Hat 14.2.1-3) CentOS Stream 10 Kernel: 5.15 Compiler: gcc gcc (GCC) 14.2.1 20250110 (Red Hat 14.2.1-8) Debian GNU/Linux 12 Kernel: 5.15 Compiler: gcc gcc (Debian 12.2.0-14+deb12u1) 12.2.0 CentOS Stream 9 Kernel: 5.15 Compiler: gcc gcc (GCC) 11.5.0 20240719 (Red Hat 11.5.0-7) Fedora Linux 41 Kernel: 5.15 Compiler: gcc gcc (GCC) 14.3.1 20250523 (Red Hat 14.3.1-1) Red Hat Enterprise Linux 9.5 Kernel: 5.15 Compiler: gcc gcc (GCC) 11.5.0 20240719 (Red Hat 11.5.0-2) Red Hat Enterprise Linux 8.10 Kernel: 5.15 Compiler: gcc gcc (GCC) 8.5.0 20210514 (Red Hat 8.5.0-22) Ubuntu 20.04 Kernel: 5.15 Compiler: gcc gcc (Ubuntu 9.4.0-1ubuntu1~20.04.2) 9.4.0 Ubuntu 22.04 Kernel: 5.15 Compiler: gcc gcc (Ubuntu 11.4.0-1ubuntu1~22.04) 11.4.0 Ubuntu 24.04 Kernel: 5.15 Compiler: gcc gcc (Ubuntu 13.3.0-6ubuntu2~24.04) 13.3.0 Windows Server 2022 Kernel: 10.0.20348.2031 Compiler: clang 15.0.7, gcc 14.1.0 (MinGW), and MSVC VS 19.39.33521 To view detailed results, visit: https://lab.dpdk.org/results/dashboard/patchsets/33649/ UNH-IOL DPDK Community Lab To manage your email subscriptions, visit: https://lab.dpdk.org/results/dashboard/preferences/subscriptions/