From mboxrd@z Thu Jan 1 00:00:00 1970 Return-Path: Received: from mails.dpdk.org (mails.dpdk.org [217.70.189.124]) by inbox.dpdk.org (Postfix) with ESMTP id AA5DD46B73 for ; Mon, 14 Jul 2025 18:12:16 +0200 (CEST) Received: from mails.dpdk.org (localhost [127.0.0.1]) by mails.dpdk.org (Postfix) with ESMTP id A43F84021F; Mon, 14 Jul 2025 18:12:16 +0200 (CEST) Received: from mail-qt1-f226.google.com (mail-qt1-f226.google.com [209.85.160.226]) by mails.dpdk.org (Postfix) with ESMTP id 1C4DD4021F for ; Mon, 14 Jul 2025 18:12:15 +0200 (CEST) Received: by mail-qt1-f226.google.com with SMTP id d75a77b69052e-4ab5aec969eso30700571cf.3 for ; Mon, 14 Jul 2025 09:12:15 -0700 (PDT) DKIM-Signature: v=1; a=rsa-sha256; c=relaxed/relaxed; d=iol.unh.edu; s=unh-iol; t=1752509534; x=1753114334; darn=dpdk.org; h=references:in-reply-to:cc:to:from:subject:message-id:date:from:to :cc:subject:date:message-id:reply-to; bh=iqWzmpafC0D9ErnKuVu5X/frCCJpN5FhBH9764mVhiM=; b=XnCS7efA9K/ZiwoKMJ2kWa8AnnkAxikVGivuZOgwQ+ubRwpHdjico6gbFtcc5kloz2 hj5ELNqsLX+iNDO2KGSSVBzedXjXW8oUybItUV0O7kgJ542KcidoNbOvfek6XCWGcbfZ ia/63jlmRzmilMt1xjxlxh3FWYtS+Zi/lcjkE= X-Google-DKIM-Signature: v=1; a=rsa-sha256; c=relaxed/relaxed; d=1e100.net; s=20230601; t=1752509534; x=1753114334; h=references:in-reply-to:cc:to:from:subject:message-id:date :x-gm-message-state:from:to:cc:subject:date:message-id:reply-to; bh=iqWzmpafC0D9ErnKuVu5X/frCCJpN5FhBH9764mVhiM=; b=hhEcUd2F13Xc9jLq7AKLB3ZLkPIYDMHhEH40xBchRQsa7HSoS2PyEwb01/8EZ1yyAF b1a/ooWt/R5qi/ChvBJMtYez5sqCMg6f8KGrmyohCGlIDTJlggXq93nSyXgKGdpl5qz5 FhD4gudmmgxTDkNHE/zS1ZoJYQFojs5uojXCXKmU6KnSYWnE4cPgSMAixz536CUyonD7 6rgfxEZv5+xnh658o69P3yL5biniT9sjJaJ38Lx0dYsGCLW+pi5J13gPDtLnhKZQRViT 0u47UNM8HjZlqaIwD4lfEzXpyPOZbboik0TLA4fXwtGLnMBc3Lf9pcnxLHMUTv0r4Ty0 IAxQ== X-Gm-Message-State: AOJu0Yxa4J4acOeIlllzRHzv26w3EKqvbN3O64Mgek3E1oTw0AbEiCK1 OO0s3i4T6knmOqx5WMmtShPaL3xOj2GXeMYDb5BCGT60aPSVP/tIu58Q4OFOxz/fp22x2fw0pL5 BT/oADU9ljmNnZvIpTxnjYoo5VqQ1tDEzLHqDnqiPXkvP X-Gm-Gg: ASbGnctS92YC4fcspFbKg5Z9IEgCaAKpihLv1QhWfORZiyK5iEWRKOlLVQWbpxOsy93 977N20hzbgG9V+XDr26QkGzO4es0xQbUSE6nXiHkYNj9i2BAZem0jMUxs2NWJIwufLi9lhupgf+ hWCJFCN3nJNrdh9/fREUAXsCCZBxb7ajvVveTrx6kE4hzQLefpHfLRQ4BWrTDx3nHMuj9/f/G7t UoRBeiHhJKTQG6pfjzHT0Io3ydlgUujTzPf98kFP1jIehenluiZFjp+tl+8AbNlNLwICQOMigSX bYSNp90dWRJZ9OcAhz2SF/U0teefzXsQzYVSMVmgPpnkvxArcTXHOKnaGPU4gvlQu90nqMhH X-Google-Smtp-Source: AGHT+IGQlY/cDtydyxr1XKztBU0GUAwjAROqkGxGdCNjxaxFJ7Wk1Dkt1XjXQMpzIVukbgJg/B9awkFBAhSs X-Received: by 2002:a05:622a:2308:b0:4a9:c9c6:ae8d with SMTP id d75a77b69052e-4a9fb9612d9mr208452771cf.35.1752509534194; Mon, 14 Jul 2025 09:12:14 -0700 (PDT) Received: from postal.iol.unh.edu (postal.iol.unh.edu. [132.177.123.84]) by smtp-relay.gmail.com with ESMTPS id d75a77b69052e-4ab6cf63e82sm1324551cf.9.2025.07.14.09.12.14 (version=TLS1_2 cipher=ECDHE-ECDSA-AES128-GCM-SHA256 bits=128/128); Mon, 14 Jul 2025 09:12:14 -0700 (PDT) X-Relaying-Domain: iol.unh.edu Date: Mon, 14 Jul 2025 09:12:14 -0700 (PDT) Message-ID: <68752c5e.050a0220.385200.725cSMTPIN_ADDED_MISSING@mx.google.com> Received: from [172.21.0.5] (unknown [172.18.0.240]) by postal.iol.unh.edu (Postfix) with ESMTP id D65166050A61; Mon, 14 Jul 2025 12:12:13 -0400 (EDT) Subject: |SUCCESS| pw155201 [PATCH] net/mlx5: fix indirect age action handlin From: dpdklab@iol.unh.edu To: Test Report Cc: dpdk-test-reports@iol.unh.edu In-Reply-To: <20250714100437.993231-1-dsosnowski@nvidia.com> References: <20250714100437.993231-1-dsosnowski@nvidia.com> Content-Type: text/plain X-BeenThere: test-report@dpdk.org X-Mailman-Version: 2.1.29 Precedence: list List-Id: automatic DPDK test reports List-Unsubscribe: , List-Archive: List-Post: List-Help: List-Subscribe: , Errors-To: test-report-bounces@dpdk.org Test-Label: iol-compile-arm64-testing Test-Status: SUCCESS http://dpdk.org/patch/155201 _Testing PASS_ Submitter: Dariusz Sosnowski Date: Monday, July 14 2025 10:04:37 DPDK git baseline: Repo:dpdk Branch: master CommitID:9fe9c0b231c8da5435bfccb1963121b4277f961c 155201 --> testing pass Upstream job id: Generic-DPDK-Compile-Meson#408544 Test environment and result as below: +------------------------------+--------------------+ | Environment | dpdk_meson_compile | +==============================+====================+ | Red Hat Enterprise Linux 9.5 | PASS | +------------------------------+--------------------+ | Debian GNU/Linux 12 | PASS | +------------------------------+--------------------+ | Ubuntu 20.04 | PASS | +------------------------------+--------------------+ | Fedora Linux 40 | PASS | +------------------------------+--------------------+ | Fedora Linux 41 | PASS | +------------------------------+--------------------+ | Ubuntu 22.04 | PASS | +------------------------------+--------------------+ | Ubuntu 24.04 | PASS | +------------------------------+--------------------+ | CentOS Stream 9 | PASS | +------------------------------+--------------------+ | CentOS Stream 10 | PASS | +------------------------------+--------------------+ Red Hat Enterprise Linux 9.5 Kernel: 5.4 Compiler: gcc gcc (GCC) 11.5.0 20240719 (Red Hat 11.5.0-2) Debian GNU/Linux 12 Kernel: 5.4 Compiler: gcc gcc (Debian 12.2.0-14+deb12u1) 12.2.0 Ubuntu 20.04 Kernel: 5.4 Compiler: gcc gcc (Ubuntu 9.4.0-1ubuntu1~20.04.2) 9.4.0 Fedora Linux 40 Kernel: 5.4 Compiler: gcc gcc (GCC) 14.2.1 20240912 (Red Hat 14.2.1-3) Fedora Linux 41 Kernel: 5.4 Compiler: gcc gcc (GCC) 14.3.1 20250523 (Red Hat 14.3.1-1) Ubuntu 22.04 Kernel: 5.4 Compiler: gcc gcc (Ubuntu 11.4.0-1ubuntu1~22.04) 11.4.0 Ubuntu 24.04 Kernel: 5.4 Compiler: gcc gcc (Ubuntu 13.3.0-6ubuntu2~24.04) 13.3.0 CentOS Stream 9 Kernel: 5.4 Compiler: gcc gcc (GCC) 11.5.0 20240719 (Red Hat 11.5.0-7) CentOS Stream 10 Kernel: 5.4 Compiler: gcc gcc (GCC) 14.2.1 20250110 (Red Hat 14.2.1-8) To view detailed results, visit: https://lab.dpdk.org/results/dashboard/patchsets/33648/ UNH-IOL DPDK Community Lab To manage your email subscriptions, visit: https://lab.dpdk.org/results/dashboard/preferences/subscriptions/