From mboxrd@z Thu Jan 1 00:00:00 1970 Return-Path: Received: from mails.dpdk.org (mails.dpdk.org [217.70.189.124]) by inbox.dpdk.org (Postfix) with ESMTP id 7ACCA46B73 for ; Mon, 14 Jul 2025 18:12:36 +0200 (CEST) Received: from mails.dpdk.org (localhost [127.0.0.1]) by mails.dpdk.org (Postfix) with ESMTP id 7579C4021F; Mon, 14 Jul 2025 18:12:36 +0200 (CEST) Received: from mail-io1-f100.google.com (mail-io1-f100.google.com [209.85.166.100]) by mails.dpdk.org (Postfix) with ESMTP id D05CF4042C for ; Mon, 14 Jul 2025 18:12:35 +0200 (CEST) Received: by mail-io1-f100.google.com with SMTP id ca18e2360f4ac-8733548c627so161510739f.3 for ; Mon, 14 Jul 2025 09:12:35 -0700 (PDT) DKIM-Signature: v=1; a=rsa-sha256; c=relaxed/relaxed; d=iol.unh.edu; s=unh-iol; t=1752509555; x=1753114355; darn=dpdk.org; h=references:in-reply-to:cc:to:from:subject:message-id:date:from:to :cc:subject:date:message-id:reply-to; bh=9MJP7olwodq1Fkn6XIUlTed2Fzx03uj3rLjqW2aIzkw=; b=fC67sJx9xa4sB87A6zaSDPM2PgDvQIYyE7Aewag4HDEXiGOPrwcWGrJQikSmXHetzB op2sYXtKsdFSSlMwW5R6vKZ3HXseAIAl4dyg8e/35nDoNVvdIZcNbAHfm+1efMh5Fddf eyDTdDvLeqep3eoHsS8UmA04ZAVkL8bMNN3qg= X-Google-DKIM-Signature: v=1; a=rsa-sha256; c=relaxed/relaxed; d=1e100.net; s=20230601; t=1752509555; x=1753114355; h=references:in-reply-to:cc:to:from:subject:message-id:date :x-gm-message-state:from:to:cc:subject:date:message-id:reply-to; bh=9MJP7olwodq1Fkn6XIUlTed2Fzx03uj3rLjqW2aIzkw=; b=f8PHgZb3xzGwb8DKQyxG7IF+37yXxskSKqNkbVt7OMgBtufjnlXHbiuSBJJR4h72Xb pn4RXaS78AzpwNc7abhm+crLAXLf2TONx+EJrXv3YY1tH+G/7coWEvLENkqk5jMSwrLk A9le9WGp2zlDgTETw0/rRVz69tn7hQfs1cq8fmXHmVjqJEGomRP2iJtnf4CfljaoofN+ Bq+cz7rf9Lkr2KDl/sE53LltYytQg3ecvrSvV9wtMG8abgC707hB2J1WxAfTfgQUwKr5 KjVz5ez+WogV1lYjXMzTFrLWOyc77ul4xvLe0z9/rwcODl45WGLcsLOesHK0ueuW5/l/ tUJQ== X-Gm-Message-State: AOJu0Ywy3nkJoHdYy6cZRwg+M2ReR5mPFfKKj9xQ2WhgvAzgox4nElrH pqVuN5NbK2ozo9iN7y6MciKJ8f3MrFtthFfeScrwNwNYhimPCGfYo0YZEPqQ1NolkMEzeaZll1y cHcjTnJs6Q1xcupmjerPOSbAhYpE0l6mxMWatP3mRBFuWaNXNMRt3g5isLC2R X-Gm-Gg: ASbGnctoQ3ndRsK4AAemUFtDPDCVt1VXI+txic0ZzCKOj8B5feI1kcNAuJdIwVg0JIx uKaVKHICr/rrE+JgKnSbRvLsUukOHiN/wVR1RcvU4k4Wd0tbgeQIE5f/oLKj/IOYvExhocRRRw9 KHcLkziEIM6l6Sa2elZ/uvbt6evuTFjTjMJRXEXraIuoFdkNhxFbRgoqbjWxRlP1giWnm0zdEBD WCWL4DrpLbFuTyt9DL5sb444gFQKVfnDlihQzCTWHGOktOJHUsFs/gTSBGrgeeA8h18nDz3/EhQ +RAU8Y3jmWaq91qiAXRLGlcF9sbeN6XyuXai+onc0Q3ASBHE8w== X-Google-Smtp-Source: AGHT+IGmvbUspBFtEgGIRAcipviela88E2qNoNMamI7orpM56FlrGJONSjrhnvDLlGPb3mb02Ce9UJZKhtSu X-Received: by 2002:a05:6602:6417:b0:876:c5ff:24d4 with SMTP id ca18e2360f4ac-87977f78015mr1503777739f.4.1752509555005; Mon, 14 Jul 2025 09:12:35 -0700 (PDT) Received: from postal.iol.unh.edu (postal.iol.unh.edu. [2606:4100:3880:1234::84]) by smtp-relay.gmail.com with ESMTPS id ca18e2360f4ac-8796bad9ea9sm39607539f.15.2025.07.14.09.12.34 (version=TLS1_2 cipher=ECDHE-ECDSA-AES128-GCM-SHA256 bits=128/128); Mon, 14 Jul 2025 09:12:34 -0700 (PDT) X-Relaying-Domain: iol.unh.edu Date: Mon, 14 Jul 2025 09:12:34 -0700 (PDT) Message-ID: <68752c72.050a0220.30d4af.5227SMTPIN_ADDED_MISSING@mx.google.com> Received: from [172.21.0.5] (unknown [172.18.0.240]) by postal.iol.unh.edu (Postfix) with ESMTP id 80A7B6050A61; Mon, 14 Jul 2025 12:12:34 -0400 (EDT) Subject: |SUCCESS| pw155198 [PATCH] [v0,1/1] net/octeon_ep: fix mbuf data off From: dpdklab@iol.unh.edu To: Test Report Cc: dpdk-test-reports@iol.unh.edu In-Reply-To: <20250714054041.2257589-1-vattunuru@marvell.com> References: <20250714054041.2257589-1-vattunuru@marvell.com> Content-Type: text/plain X-BeenThere: test-report@dpdk.org X-Mailman-Version: 2.1.29 Precedence: list List-Id: automatic DPDK test reports List-Unsubscribe: , List-Archive: List-Post: List-Help: List-Subscribe: , Errors-To: test-report-bounces@dpdk.org Test-Label: iol-compile-arm64-testing Test-Status: SUCCESS http://dpdk.org/patch/155198 _Testing PASS_ Submitter: Vamsi Krishna Attunuru Date: Monday, July 14 2025 05:40:41 DPDK git baseline: Repo:dpdk Branch: master CommitID:3761152ec7f99c9b60c9cc933102d35fa663393a 155198 --> testing pass Upstream job id: Generic-DPDK-Compile-Meson#408602 Test environment and result as below: +------------------------------+--------------------+ | Environment | dpdk_meson_compile | +==============================+====================+ | Ubuntu 20.04 | PASS | +------------------------------+--------------------+ | Debian GNU/Linux 12 | PASS | +------------------------------+--------------------+ | Fedora Linux 40 | PASS | +------------------------------+--------------------+ | Fedora Linux 41 | PASS | +------------------------------+--------------------+ | Ubuntu 22.04 | PASS | +------------------------------+--------------------+ | Ubuntu 24.04 | PASS | +------------------------------+--------------------+ | CentOS Stream 9 | PASS | +------------------------------+--------------------+ | CentOS Stream 10 | PASS | +------------------------------+--------------------+ | Red Hat Enterprise Linux 9.5 | PASS | +------------------------------+--------------------+ Ubuntu 20.04 Kernel: 5.15 Compiler: aarch64-linux-gnu-gcc gcc (Ubuntu 9.4.0-1ubuntu1~20.04.2) 9.4.0 Debian GNU/Linux 12 Kernel: 5.4 Compiler: gcc gcc (Debian 12.2.0-14+deb12u1) 12.2.0 Fedora Linux 40 Kernel: 5.4 Compiler: gcc gcc (GCC) 14.2.1 20240912 (Red Hat 14.2.1-3) Fedora Linux 41 Kernel: 5.4 Compiler: gcc gcc (GCC) 14.3.1 20250523 (Red Hat 14.3.1-1) Ubuntu 22.04 Kernel: 5.4 Compiler: gcc gcc (Ubuntu 11.4.0-1ubuntu1~22.04) 11.4.0 Ubuntu 24.04 Kernel: 5.4 Compiler: gcc gcc (Ubuntu 13.3.0-6ubuntu2~24.04) 13.3.0 CentOS Stream 9 Kernel: 5.4 Compiler: gcc gcc (GCC) 11.5.0 20240719 (Red Hat 11.5.0-7) CentOS Stream 10 Kernel: 5.4 Compiler: gcc gcc (GCC) 14.2.1 20250110 (Red Hat 14.2.1-8) Red Hat Enterprise Linux 9.5 Kernel: 5.4 Compiler: gcc gcc (GCC) 11.5.0 20240719 (Red Hat 11.5.0-2) To view detailed results, visit: https://lab.dpdk.org/results/dashboard/patchsets/33645/ UNH-IOL DPDK Community Lab To manage your email subscriptions, visit: https://lab.dpdk.org/results/dashboard/preferences/subscriptions/