From mboxrd@z Thu Jan 1 00:00:00 1970 Return-Path: Received: from mails.dpdk.org (mails.dpdk.org [217.70.189.124]) by inbox.dpdk.org (Postfix) with ESMTP id 93FB446B73 for ; Mon, 14 Jul 2025 18:13:01 +0200 (CEST) Received: from mails.dpdk.org (localhost [127.0.0.1]) by mails.dpdk.org (Postfix) with ESMTP id 8CAC74021F; Mon, 14 Jul 2025 18:13:01 +0200 (CEST) Received: from mail-yw1-f225.google.com (mail-yw1-f225.google.com [209.85.128.225]) by mails.dpdk.org (Postfix) with ESMTP id 9FE274021F for ; Mon, 14 Jul 2025 18:13:00 +0200 (CEST) Received: by mail-yw1-f225.google.com with SMTP id 00721157ae682-70e64b430daso45939957b3.3 for ; Mon, 14 Jul 2025 09:13:00 -0700 (PDT) DKIM-Signature: v=1; a=rsa-sha256; c=relaxed/relaxed; d=iol.unh.edu; s=unh-iol; t=1752509580; x=1753114380; darn=dpdk.org; h=references:in-reply-to:cc:to:from:subject:message-id:date:from:to :cc:subject:date:message-id:reply-to; bh=DiP1pfAJa/hlprNGqQnR7FioZXO6IImP1uZXpRK4Wjg=; b=IZc0YeYL/tyNtCG4g0lBnrpSYcZhSfAHzXR2OPWcvpCA6fccXosNxllfR2bgahF5VZ xmU+s4jSAyT0tQa56WemFpKdQa0j5seTcjwDYKJKNOwuR881rmZmpzoHxOToN03eGoDG JMP5PyG7YMPUb9SEPBZF4XpAHWXoF93v2Coz8= X-Google-DKIM-Signature: v=1; a=rsa-sha256; c=relaxed/relaxed; d=1e100.net; s=20230601; t=1752509580; x=1753114380; h=references:in-reply-to:cc:to:from:subject:message-id:date :x-gm-message-state:from:to:cc:subject:date:message-id:reply-to; bh=DiP1pfAJa/hlprNGqQnR7FioZXO6IImP1uZXpRK4Wjg=; b=aPFKpReE920ICIHaVpw3C5HsBuJO19lE/j0QeiRWFe5yii+kMbDGP2cn9hVuoDdvMU F9295Z3p4g9KnmA3DXRWSDr3JX4GJ8Op21JfoZhJXVawbwdAFrh47zGaW4wCYUMVCuTZ KTb54BI7VDUwPvTuxSMnyFQZOAczFGVK0kRvH7a3ecdo/n5SK7tJdz7M1QiYnwmfnZ3b TZzGQ165ylS3kpIuHidqThSg0wXc5+cCNVB4R3yTsrrbQJ0pS2Zu+iFmwHXTPQJhw5/9 nrK6lC/1oXH9NIiuOycS6BVjgZ7uDDZJQ9XhC+tIfXrPrrK+RoljrtvzHZKwYCToxavv vedw== X-Gm-Message-State: AOJu0Yz/pKKXwwpsJ6uG46ac/IhqNVS6xHS5ZTutE4GPvPZkgujQelTW v/5ntnbBRMOl+AyOGLZ1LtTfO41OR+JIlwovGfiX8eO+dnw0N5E4ggOVdl0BC3MMIuEbLtxCyTA usWila94Z+ztKF/Lh49gwmuYohRq9/epxYy6vw6FsBNac X-Gm-Gg: ASbGnctNxR/BobfSTq439vJQqC8fC9KwE8NMYRAPH/YfmxHcNx8rXSQtz0ZZFUvtR6o pzDhQpLuR6OnsslrHU32DsLoK/2CnTYDEqDFlclSqjrn5YkunKwTdlcAodBh86UteJ6j1uzVlzP VkljkefiTYMh2Nm1tpRDT9Z86BBIjSnkHQqrjjPDNYF31YKUkNbe/KWq895y3j8jxdFsN9KS/GI uR+Q5vUohBfb8oN/a88mktCrw8qQt7SCJb/T8UF/FII8D6tBVv606HUIw13KX5I2Xno9FSwRA8R Zu70vsBONUruCtIioMLrJvheTSw5Guv3i1lXW9A/sRqDaytE33D3IOOliK0qM1vC540Y/MWb X-Google-Smtp-Source: AGHT+IEDCVfDPlf+OnGAV4WF2blkYRxZrj4XZXzLqLcugONcz/t6Bk+u/kQnvHeKFBP4A70FyEwa6Xyh4lKC X-Received: by 2002:a05:690c:6:b0:70e:29d2:fb96 with SMTP id 00721157ae682-717d7a6898bmr186868937b3.36.1752509580020; Mon, 14 Jul 2025 09:13:00 -0700 (PDT) Received: from postal.iol.unh.edu (postal.iol.unh.edu. [132.177.123.84]) by smtp-relay.gmail.com with ESMTPS id 00721157ae682-717c5db99b2sm2182917b3.18.2025.07.14.09.12.59 (version=TLS1_2 cipher=ECDHE-ECDSA-AES128-GCM-SHA256 bits=128/128); Mon, 14 Jul 2025 09:13:00 -0700 (PDT) X-Relaying-Domain: iol.unh.edu Date: Mon, 14 Jul 2025 09:13:00 -0700 (PDT) Message-ID: <68752c8c.050a0220.91cc0.b04dSMTPIN_ADDED_MISSING@mx.google.com> Received: from [172.21.0.5] (unknown [172.18.0.240]) by postal.iol.unh.edu (Postfix) with ESMTP id A6F766050A61; Mon, 14 Jul 2025 12:12:59 -0400 (EDT) Subject: |SUCCESS| pw155201 [PATCH] net/mlx5: fix indirect age action handlin From: dpdklab@iol.unh.edu To: Test Report Cc: dpdk-test-reports@iol.unh.edu In-Reply-To: <20250714100437.993231-1-dsosnowski@nvidia.com> References: <20250714100437.993231-1-dsosnowski@nvidia.com> Content-Type: text/plain X-BeenThere: test-report@dpdk.org X-Mailman-Version: 2.1.29 Precedence: list List-Id: automatic DPDK test reports List-Unsubscribe: , List-Archive: List-Post: List-Help: List-Subscribe: , Errors-To: test-report-bounces@dpdk.org Test-Label: iol-compile-arm64-testing Test-Status: SUCCESS http://dpdk.org/patch/155201 _Testing PASS_ Submitter: Dariusz Sosnowski Date: Monday, July 14 2025 10:04:37 DPDK git baseline: Repo:dpdk Branch: master CommitID:9fe9c0b231c8da5435bfccb1963121b4277f961c 155201 --> testing pass Upstream job id: Generic-DPDK-Compile-Meson#408542 Test environment and result as below: +------------------------------+--------------------+ | Environment | dpdk_meson_compile | +==============================+====================+ | Red Hat Enterprise Linux 9.5 | PASS | +------------------------------+--------------------+ | Debian GNU/Linux 12 | PASS | +------------------------------+--------------------+ | Ubuntu 20.04 | PASS | +------------------------------+--------------------+ | Fedora Linux 40 | PASS | +------------------------------+--------------------+ | Fedora Linux 41 | PASS | +------------------------------+--------------------+ | Ubuntu 22.04 | PASS | +------------------------------+--------------------+ | Ubuntu 24.04 | PASS | +------------------------------+--------------------+ | CentOS Stream 9 | PASS | +------------------------------+--------------------+ | CentOS Stream 10 | PASS | +------------------------------+--------------------+ Red Hat Enterprise Linux 9.5 Kernel: 5.4 Compiler: gcc gcc (GCC) 11.5.0 20240719 (Red Hat 11.5.0-2) Debian GNU/Linux 12 Kernel: 5.4 Compiler: gcc gcc (Debian 12.2.0-14+deb12u1) 12.2.0 Ubuntu 20.04 Kernel: 5.4 Compiler: gcc gcc (Ubuntu 9.4.0-1ubuntu1~20.04.2) 9.4.0 Fedora Linux 40 Kernel: 5.4 Compiler: gcc gcc (GCC) 14.2.1 20240912 (Red Hat 14.2.1-3) Fedora Linux 41 Kernel: 5.4 Compiler: gcc gcc (GCC) 14.3.1 20250523 (Red Hat 14.3.1-1) Ubuntu 22.04 Kernel: 5.4 Compiler: gcc gcc (Ubuntu 11.4.0-1ubuntu1~22.04) 11.4.0 Ubuntu 24.04 Kernel: 5.4 Compiler: gcc gcc (Ubuntu 13.3.0-6ubuntu2~24.04) 13.3.0 CentOS Stream 9 Kernel: 5.4 Compiler: gcc gcc (GCC) 11.5.0 20240719 (Red Hat 11.5.0-7) CentOS Stream 10 Kernel: 5.4 Compiler: gcc gcc (GCC) 14.2.1 20250110 (Red Hat 14.2.1-8) To view detailed results, visit: https://lab.dpdk.org/results/dashboard/patchsets/33648/ UNH-IOL DPDK Community Lab To manage your email subscriptions, visit: https://lab.dpdk.org/results/dashboard/preferences/subscriptions/