From mboxrd@z Thu Jan 1 00:00:00 1970 Return-Path: Received: from mails.dpdk.org (mails.dpdk.org [217.70.189.124]) by inbox.dpdk.org (Postfix) with ESMTP id 1ED4446B73 for ; Mon, 14 Jul 2025 18:15:46 +0200 (CEST) Received: from mails.dpdk.org (localhost [127.0.0.1]) by mails.dpdk.org (Postfix) with ESMTP id ED6654021F; Mon, 14 Jul 2025 18:15:45 +0200 (CEST) Received: from mail-pl1-f226.google.com (mail-pl1-f226.google.com [209.85.214.226]) by mails.dpdk.org (Postfix) with ESMTP id A23E74021F for ; Mon, 14 Jul 2025 18:15:44 +0200 (CEST) Received: by mail-pl1-f226.google.com with SMTP id d9443c01a7336-234d3261631so35698255ad.1 for ; Mon, 14 Jul 2025 09:15:44 -0700 (PDT) DKIM-Signature: v=1; a=rsa-sha256; c=relaxed/relaxed; d=iol.unh.edu; s=unh-iol; t=1752509744; x=1753114544; darn=dpdk.org; h=references:in-reply-to:cc:to:from:subject:message-id:date:from:to :cc:subject:date:message-id:reply-to; bh=OxjkWwPQZW9MGbZqldHfp8/f2WsfThgiwNCPtJfZyqg=; b=f+USEP96CR9BFljfJqDYgke4vXIEtovv0yM+yA5bYBBfSST33n55LWxdyKKnKREL5y Adf85liHNgaNcuZ2mURMSPAA2lEWstodmrw50bld6fAsYW4/3W+kkPBi4qAPxrU3Y9bb +DDBGaeWJZTgs6WC2WKgotpkXxKhi23bxU404= X-Google-DKIM-Signature: v=1; a=rsa-sha256; c=relaxed/relaxed; d=1e100.net; s=20230601; t=1752509744; x=1753114544; h=references:in-reply-to:cc:to:from:subject:message-id:date :x-gm-message-state:from:to:cc:subject:date:message-id:reply-to; bh=OxjkWwPQZW9MGbZqldHfp8/f2WsfThgiwNCPtJfZyqg=; b=VUdsH5TXUJwDPvT6dVAL5kUulSTGSU++edYNflHYssdyGWev+yjBFJ0fWwyO4e8ds7 oOlxbHUHdfKg0WrhyPedcj54WelBmJgscjRXC0hIbPQb8VnMuJqFZwS/vf1M5lo12LGV 4p8H0Lum5jVzNjpAl3fvP9kTOrRMHMGXM7C4aHTK56vHUlb/Ma1w1/QqwwE6iLMs0D6i e4Cvvae1PEAwZN2sJcdpT88EtNgMu9kETgdUtUwbLFR0O+tTKJ+heqQKRweOJ5UJIYPA uOXj3zCEDjv2J0guhxG30S1hGI63R6xfwuka58zdIdFvf+IgTwP9CrbsGCVW4IaKkTXd hDYg== X-Gm-Message-State: AOJu0YyTMIZMTv/BlVX1KkAn8CqSxvsYbjKsB4XvzbfmUSoHuhMQhFYW Q4/YvseUNfImLi8FHg5zBkRRgFjVtNL1MyijjzkAvjjrLzF7xn1yW6L/h1Q0yLXB948SElFxxHp nCXf/+JXC4ZbQZZnfNdJCUqDvdYfHo36NUXnL12qIQC+a X-Gm-Gg: ASbGnctGo2zHlWaLrnKJWldONzHZb8V60CBtT6BPGtBYOPm6IhNoJiucpWbHcKkg2o6 jokBcDNTmt83AHhi4rkvm8G5o+0QDH4hUd5Ltgb4a77fiQfVup4jQg5EcspJjZ2C4pVeRemeGnt J0hxA1Gkphbrn5i9Wdgpax1Twpvmo6qpNsqu0Z+DgtBdUba1kx02O+5QCZMIXv9xJ9eGe+vwe1o mLpa4DdZaJDiUAOkjrjv8JFl4IbBEyx8sl4SqH1n7bTIMtGB3f2DhVkG/zHqyyOQYtCsLKKraC5 dQz1XNxVSjwB+eWNTqoTKNkOv+PFkEd3EXFqAE/mMwr2QBhIRqU5yfDcc9vDKAh/4nQzSZU2 X-Google-Smtp-Source: AGHT+IEAiS38CaKfMYOoIW98ZQ9IK/nfZLdvF+PS7benpcJ2v0GlQ3QQupeO3m1e8UUZccIpQyCfgxD7i/3E X-Received: by 2002:a17:90a:da90:b0:31c:72d7:558b with SMTP id 98e67ed59e1d1-31c72d75601mr8400263a91.32.1752509743558; Mon, 14 Jul 2025 09:15:43 -0700 (PDT) Received: from postal.iol.unh.edu (postal.iol.unh.edu. [132.177.123.84]) by smtp-relay.gmail.com with ESMTPS id 98e67ed59e1d1-31c3eb4c365sm759007a91.11.2025.07.14.09.15.43 (version=TLS1_2 cipher=ECDHE-ECDSA-AES128-GCM-SHA256 bits=128/128); Mon, 14 Jul 2025 09:15:43 -0700 (PDT) X-Relaying-Domain: iol.unh.edu Date: Mon, 14 Jul 2025 09:15:43 -0700 (PDT) Message-ID: <68752d2f.170a0220.30352c.8c68SMTPIN_ADDED_MISSING@mx.google.com> Received: from [172.21.0.7] (unknown [172.18.0.240]) by postal.iol.unh.edu (Postfix) with ESMTP id BB7E86050A61; Mon, 14 Jul 2025 12:15:42 -0400 (EDT) Subject: |SUCCESS| pw155199 [PATCH] [v0,1/1] net/octeon_ep: fix device start From: dpdklab@iol.unh.edu To: Test Report Cc: dpdk-test-reports@iol.unh.edu In-Reply-To: <20250714055849.2258453-1-vattunuru@marvell.com> References: <20250714055849.2258453-1-vattunuru@marvell.com> Content-Type: text/plain X-BeenThere: test-report@dpdk.org X-Mailman-Version: 2.1.29 Precedence: list List-Id: automatic DPDK test reports List-Unsubscribe: , List-Archive: List-Post: List-Help: List-Subscribe: , Errors-To: test-report-bounces@dpdk.org Test-Label: iol-compile-arm64-testing Test-Status: SUCCESS http://dpdk.org/patch/155199 _Testing PASS_ Submitter: Vamsi Krishna Attunuru Date: Monday, July 14 2025 05:58:49 DPDK git baseline: Repo:dpdk Branch: master CommitID:3761152ec7f99c9b60c9cc933102d35fa663393a 155199 --> testing pass Upstream job id: Generic-DPDK-Compile-Meson#408603 Test environment and result as below: +------------------------------+--------------------+ | Environment | dpdk_meson_compile | +==============================+====================+ | Red Hat Enterprise Linux 9.5 | PASS | +------------------------------+--------------------+ | Ubuntu 20.04 | PASS | +------------------------------+--------------------+ | Debian GNU/Linux 12 | PASS | +------------------------------+--------------------+ | Fedora Linux 40 | PASS | +------------------------------+--------------------+ | Fedora Linux 41 | PASS | +------------------------------+--------------------+ | Ubuntu 22.04 | PASS | +------------------------------+--------------------+ | Ubuntu 24.04 | PASS | +------------------------------+--------------------+ | CentOS Stream 9 | PASS | +------------------------------+--------------------+ | CentOS Stream 10 | PASS | +------------------------------+--------------------+ Red Hat Enterprise Linux 9.5 Kernel: 5.4 Compiler: gcc gcc (GCC) 11.5.0 20240719 (Red Hat 11.5.0-2) Ubuntu 20.04 Kernel: 5.15 Compiler: aarch64-linux-gnu-gcc gcc (Ubuntu 9.4.0-1ubuntu1~20.04.2) 9.4.0 Debian GNU/Linux 12 Kernel: 5.4 Compiler: gcc gcc (Debian 12.2.0-14+deb12u1) 12.2.0 Fedora Linux 40 Kernel: 5.4 Compiler: gcc gcc (GCC) 14.2.1 20240912 (Red Hat 14.2.1-3) Fedora Linux 41 Kernel: 5.4 Compiler: gcc gcc (GCC) 14.3.1 20250523 (Red Hat 14.3.1-1) Ubuntu 22.04 Kernel: 5.4 Compiler: gcc gcc (Ubuntu 11.4.0-1ubuntu1~22.04) 11.4.0 Ubuntu 24.04 Kernel: 5.4 Compiler: gcc gcc (Ubuntu 13.3.0-6ubuntu2~24.04) 13.3.0 CentOS Stream 9 Kernel: 5.4 Compiler: gcc gcc (GCC) 11.5.0 20240719 (Red Hat 11.5.0-7) CentOS Stream 10 Kernel: 5.4 Compiler: gcc gcc (GCC) 14.2.1 20250110 (Red Hat 14.2.1-8) To view detailed results, visit: https://lab.dpdk.org/results/dashboard/patchsets/33646/ UNH-IOL DPDK Community Lab To manage your email subscriptions, visit: https://lab.dpdk.org/results/dashboard/preferences/subscriptions/