From mboxrd@z Thu Jan 1 00:00:00 1970 Return-Path: Received: from mails.dpdk.org (mails.dpdk.org [217.70.189.124]) by inbox.dpdk.org (Postfix) with ESMTP id A076D46B73 for ; Mon, 14 Jul 2025 18:21:24 +0200 (CEST) Received: from mails.dpdk.org (localhost [127.0.0.1]) by mails.dpdk.org (Postfix) with ESMTP id 8736E4021F; Mon, 14 Jul 2025 18:21:24 +0200 (CEST) Received: from mail-pl1-f225.google.com (mail-pl1-f225.google.com [209.85.214.225]) by mails.dpdk.org (Postfix) with ESMTP id 972944021F for ; Mon, 14 Jul 2025 18:21:23 +0200 (CEST) Received: by mail-pl1-f225.google.com with SMTP id d9443c01a7336-2349f096605so57593745ad.3 for ; Mon, 14 Jul 2025 09:21:23 -0700 (PDT) DKIM-Signature: v=1; a=rsa-sha256; c=relaxed/relaxed; d=iol.unh.edu; s=unh-iol; t=1752510082; x=1753114882; darn=dpdk.org; h=references:in-reply-to:cc:to:from:subject:message-id:date:from:to :cc:subject:date:message-id:reply-to; bh=A6Uh20g8ydxt267ycR6xf64VjfFAa0CL/jV1AOMRV98=; b=hBgrHp/Mi/+2w2f/LRETOYjU8EpPe5Uwzb7s9EtjWVWXubRarUpiWVtms0xo2MIC4v MVAKBML0TTXp8BqV8vDjNKyi8V4l9VyLHaICZlCDm9CYloO1YoWJ+OFiA4gOlfOE6IeY Eo/hZgOfp8Byts3jFq2z+jAEPQR9vM3wOkSl4= X-Google-DKIM-Signature: v=1; a=rsa-sha256; c=relaxed/relaxed; d=1e100.net; s=20230601; t=1752510082; x=1753114882; h=references:in-reply-to:cc:to:from:subject:message-id:date :x-gm-message-state:from:to:cc:subject:date:message-id:reply-to; bh=A6Uh20g8ydxt267ycR6xf64VjfFAa0CL/jV1AOMRV98=; b=C/aoluqLZDMju2rG7j1Xgo61DoVxMzOBeoVZUQDGUEfnp2rswzLdcEeW8SUSNfI4UB 32wxMf5Tw/R5sxcNz7i0tm5XaeSQng1SyhQBEnSLiGk7cscVPk6VV4diABJgIDsMCpo1 ON9Yg7OKFnAlr+aLnbNlF4mHEU10c0NBLRTrd/GQP3dccs7ZO6f4+OHWHL7SNQr78LTR PtApqAsHu61TJti9WOBdE8bXLANMsEWCzJnDvyxwLhVM01C8xGjpIWNMyCZlbONNsSh8 vTT5njLfXoCyWvjN8H8WWV8qChyWEItj6PKIFFBsxFX5r/91QYFzAEX/qD1ES25U89Eq h/xg== X-Gm-Message-State: AOJu0Yzs86F8VztfDymk4OV9hgf/C1QoDYkfjujkSHiD1/+vV73COkxK 1g55Q631L0dFSW2UTjSJFNq46mRwPpH+SMLDl7xIOi2075wy3fW05D4KqnD+h+A826qLcHEYieU Q8ESnQ/Co6gEVlMNR1N+++X+ivlHlP6yqIZBu9pLBSaUb X-Gm-Gg: ASbGncstKIhmYRlzLnJ1j0IhALULP43EuKbLVWQBts0zPRH7RJLau+YTlpXIY+N7DXS fSANMWxhGOeJ1fIw62Sa8+BXEJsXkQqzyTghVDmMcEHWfVDoauuc8Zs2KLERqs6IJGtjHZiFtr/ 8vjWpexvDS2zsWPCnT/j/TlJWf/V0JcuApZTmfw1PMPg4g//I5jgyIzyL7F9pBuA2Lb4PQuO2wZ beWqNQ2+MDb3KsGuDzjRFXHQZglOk52QBubE4gioM41d2Cy/L1Wk/e9vV8yYsAfk2ang6BtyikS 73rF7wZxtOTWBogN4N2OqH0kwJ7bxc9va4p9hrBKBFQAtySlL2fGMv3o/IfmfKy1ImhbDW1k X-Google-Smtp-Source: AGHT+IEKuCZ+IJcV7Z2phHMXtSNTTArsQ+8sL/bBVsw9+jYeIdRp6o+Z8RdxnjGPCAxRk4CSSaQIdglNKqqs X-Received: by 2002:a17:903:2a86:b0:234:9094:3fb1 with SMTP id d9443c01a7336-23dee25dfc6mr202900935ad.35.1752510082434; Mon, 14 Jul 2025 09:21:22 -0700 (PDT) Received: from postal.iol.unh.edu (postal.iol.unh.edu. [132.177.123.84]) by smtp-relay.gmail.com with ESMTPS id d9443c01a7336-23de434a8besm5581785ad.122.2025.07.14.09.21.22 (version=TLS1_2 cipher=ECDHE-ECDSA-AES128-GCM-SHA256 bits=128/128); Mon, 14 Jul 2025 09:21:22 -0700 (PDT) X-Relaying-Domain: iol.unh.edu Date: Mon, 14 Jul 2025 09:21:22 -0700 (PDT) Message-ID: <68752e82.170a0220.27dbc0.e57cSMTPIN_ADDED_MISSING@mx.google.com> Received: from [172.21.0.6] (unknown [172.18.0.240]) by postal.iol.unh.edu (Postfix) with ESMTP id E213C604D420; Mon, 14 Jul 2025 12:21:21 -0400 (EDT) Subject: |SUCCESS| pw155202 [PATCH] [RFC] doc: clarify VLAN and QinQ strippin From: dpdklab@iol.unh.edu To: Test Report Cc: dpdk-test-reports@iol.unh.edu In-Reply-To: <20250714133014.44597-1-bruce.richardson@intel.com> References: <20250714133014.44597-1-bruce.richardson@intel.com> Content-Type: text/plain X-BeenThere: test-report@dpdk.org X-Mailman-Version: 2.1.29 Precedence: list List-Id: automatic DPDK test reports List-Unsubscribe: , List-Archive: List-Post: List-Help: List-Subscribe: , Errors-To: test-report-bounces@dpdk.org Test-Label: iol-compile-amd64-testing Test-Status: SUCCESS http://dpdk.org/patch/155202 _Testing PASS_ Submitter: Bruce Richardson Date: Monday, July 14 2025 13:30:14 DPDK git baseline: Repo:dpdk Branch: master CommitID:9fe9c0b231c8da5435bfccb1963121b4277f961c 155202 --> testing pass Upstream job id: Generic-DPDK-Compile-Meson#408597 Test environment and result as below: +-------------------------------+--------------------+-------------------+------------------+-------------------------+-------------------+----------------------+ | Environment | dpdk_meson_compile | dpdk_compile_spdk | dpdk_compile_ovs | dpdk_llvm_clang_compile | dpdk_msvc_compile | dpdk_mingw64_compile | +===============================+====================+===================+==================+=========================+===================+======================+ | CentOS Stream 9 | PASS | PASS | SKIPPED | SKIPPED | SKIPPED | SKIPPED | +-------------------------------+--------------------+-------------------+------------------+-------------------------+-------------------+----------------------+ | CentOS Stream 10 | PASS | SKIPPED | SKIPPED | SKIPPED | SKIPPED | SKIPPED | +-------------------------------+--------------------+-------------------+------------------+-------------------------+-------------------+----------------------+ | Debian GNU/Linux 12 | PASS | PASS | SKIPPED | SKIPPED | SKIPPED | SKIPPED | +-------------------------------+--------------------+-------------------+------------------+-------------------------+-------------------+----------------------+ | Fedora Linux 40 | PASS | PASS | SKIPPED | SKIPPED | SKIPPED | SKIPPED | +-------------------------------+--------------------+-------------------+------------------+-------------------------+-------------------+----------------------+ | Fedora Linux 41 | PASS | PASS | PASS | SKIPPED | SKIPPED | SKIPPED | +-------------------------------+--------------------+-------------------+------------------+-------------------------+-------------------+----------------------+ | openSUSE Leap 15.6 | PASS | SKIPPED | SKIPPED | SKIPPED | SKIPPED | SKIPPED | +-------------------------------+--------------------+-------------------+------------------+-------------------------+-------------------+----------------------+ | Ubuntu 20.04 | PASS | SKIPPED | SKIPPED | SKIPPED | SKIPPED | SKIPPED | +-------------------------------+--------------------+-------------------+------------------+-------------------------+-------------------+----------------------+ | Red Hat Enterprise Linux 8.10 | PASS | SKIPPED | SKIPPED | SKIPPED | SKIPPED | SKIPPED | +-------------------------------+--------------------+-------------------+------------------+-------------------------+-------------------+----------------------+ | Red Hat Enterprise Linux 9.5 | PASS | SKIPPED | SKIPPED | SKIPPED | SKIPPED | SKIPPED | +-------------------------------+--------------------+-------------------+------------------+-------------------------+-------------------+----------------------+ | Ubuntu 22.04 | PASS | PASS | SKIPPED | SKIPPED | SKIPPED | SKIPPED | +-------------------------------+--------------------+-------------------+------------------+-------------------------+-------------------+----------------------+ | Ubuntu 24.04 | PASS | PASS | PASS | SKIPPED | SKIPPED | SKIPPED | +-------------------------------+--------------------+-------------------+------------------+-------------------------+-------------------+----------------------+ | Alpine Linux 3.22.0 | PASS | SKIPPED | SKIPPED | SKIPPED | SKIPPED | SKIPPED | +-------------------------------+--------------------+-------------------+------------------+-------------------------+-------------------+----------------------+ | FreeBSD 14.2 | PASS | SKIPPED | SKIPPED | SKIPPED | SKIPPED | SKIPPED | +-------------------------------+--------------------+-------------------+------------------+-------------------------+-------------------+----------------------+ | Windows Server 2022 | SKIPPED | SKIPPED | SKIPPED | PASS | PASS | PASS | +-------------------------------+--------------------+-------------------+------------------+-------------------------+-------------------+----------------------+ CentOS Stream 9 Kernel: 5.15 Compiler: gcc gcc (GCC) 11.5.0 20240719 (Red Hat 11.5.0-7) CentOS Stream 10 Kernel: 5.15 Compiler: gcc gcc (GCC) 14.2.1 20250110 (Red Hat 14.2.1-8) Debian GNU/Linux 12 Kernel: 5.15 Compiler: gcc gcc (Debian 12.2.0-14+deb12u1) 12.2.0 Fedora Linux 40 Kernel: 5.15 Compiler: gcc gcc (GCC) 14.2.1 20240912 (Red Hat 14.2.1-3) Fedora Linux 41 Kernel: 5.15 Compiler: clang gcc (GCC) 14.3.1 20250523 (Red Hat 14.3.1-1) openSUSE Leap 15.6 Kernel: 5.15 Compiler: gcc gcc (SUSE Linux) 7.5.0 Ubuntu 20.04 Kernel: 5.15 Compiler: gcc gcc (Ubuntu 9.4.0-1ubuntu1~20.04.2) 9.4.0 Red Hat Enterprise Linux 8.10 Kernel: 5.15 Compiler: gcc gcc (GCC) 8.5.0 20210514 (Red Hat 8.5.0-22) Red Hat Enterprise Linux 9.5 Kernel: 5.15 Compiler: gcc gcc (GCC) 11.5.0 20240719 (Red Hat 11.5.0-2) Ubuntu 22.04 Kernel: 5.15 Compiler: gcc gcc (Ubuntu 11.4.0-1ubuntu1~22.04) 11.4.0 Ubuntu 24.04 Kernel: 5.15 Compiler: gcc gcc (Ubuntu 13.3.0-6ubuntu2~24.04) 13.3.0 Alpine Linux 3.22.0 Kernel: 5.15 Compiler: gcc gcc (Alpine 14.2.0) 14.2.0 FreeBSD 14.2 Kernel: 14.2-RELEASE Compiler: clang 18.1.6 Windows Server 2022 Kernel: 10.0.20348.2031 Compiler: clang 15.0.7, gcc 14.1.0 (MinGW), and MSVC VS 19.39.33521 To view detailed results, visit: https://lab.dpdk.org/results/dashboard/patchsets/33649/ UNH-IOL DPDK Community Lab To manage your email subscriptions, visit: https://lab.dpdk.org/results/dashboard/preferences/subscriptions/