From mboxrd@z Thu Jan 1 00:00:00 1970 Return-Path: Received: from mails.dpdk.org (mails.dpdk.org [217.70.189.124]) by inbox.dpdk.org (Postfix) with ESMTP id A527946B73 for ; Mon, 14 Jul 2025 18:21:45 +0200 (CEST) Received: from mails.dpdk.org (localhost [127.0.0.1]) by mails.dpdk.org (Postfix) with ESMTP id A06494021F; Mon, 14 Jul 2025 18:21:45 +0200 (CEST) Received: from mail-yw1-f225.google.com (mail-yw1-f225.google.com [209.85.128.225]) by mails.dpdk.org (Postfix) with ESMTP id B8F7A4021F for ; Mon, 14 Jul 2025 18:21:44 +0200 (CEST) Received: by mail-yw1-f225.google.com with SMTP id 00721157ae682-70e1d8c2dc2so40732257b3.3 for ; Mon, 14 Jul 2025 09:21:44 -0700 (PDT) DKIM-Signature: v=1; a=rsa-sha256; c=relaxed/relaxed; d=iol.unh.edu; s=unh-iol; t=1752510104; x=1753114904; darn=dpdk.org; h=references:in-reply-to:cc:to:from:subject:message-id:date:from:to :cc:subject:date:message-id:reply-to; bh=dASIpeh+h7BIOelTSA6BVSou2UoIfK1gPFalViGrIBo=; b=TbA88nKQtcrXxgHsRlw4rYvNTmgwysl2rD8l4T9vvWY46ZvnFHV7nU8HGOJVC22x+R 4QOaC6IYGdk2asyg/HJJoITWaeOrqSOSNruahvbotuWBL87R7oUtQw+JMKltq9/wM9PI D0LtPcLejFZ11Nx9m644XlhL121iHmdBwKccc= X-Google-DKIM-Signature: v=1; a=rsa-sha256; c=relaxed/relaxed; d=1e100.net; s=20230601; t=1752510104; x=1753114904; h=references:in-reply-to:cc:to:from:subject:message-id:date :x-gm-message-state:from:to:cc:subject:date:message-id:reply-to; bh=dASIpeh+h7BIOelTSA6BVSou2UoIfK1gPFalViGrIBo=; b=qU3pY6wMLD9gxm5N7zcIYysuK25yAo4usWVrt9RvOJhIUyllz3YK/+/h7u7mtJfU7C am8W2l3rVd509DnpOvTqg63HVPxVTg1Bu0IsQzzxDPDhC3RVRbPG63k95ZzofnLYiw0e W7rKSUe6O0ZsgyebcN6kCnAX2+1OBHrI5xPPdgfrv+TS3nyLL4KFUMA9gU9Y9RNaMFPr KmWLiXGlFBJT8ggaOklPNk4pYVbVel7P1Acpo9makJbagGC9yUAoZfClDj7YrR6UnDmZ 10dWMjzrwb65wKZXC2Nx2JvdPkKeQ9cjcLJECyLpOHXhIlC3fYBxm3vjXmEpEWEIm6Bi RL/Q== X-Gm-Message-State: AOJu0YzLDIHMGiLRAyN2NQdZwK6oxUhTZW3sbAEN5RoCLft3GQ+o0tpW +bR5Au7poDi4/LSnID1vPk4kILuPG5it4Vmr3b6gqheLYgQ2nzeBXOYnc/v6mKjKN/iP9UpzMK+ fG6t8ClqHqBG9h/xwGYXfecsT5RZuREh/pidyCKMwmP+0eog26uHfnpgrXYpF X-Gm-Gg: ASbGncuCNWXvf76pThvzhetP54UzQOS9W4W6wOeHLyBXpwK6H7miTTF9jS+J+fsggQR Ej5TIJVoNrNxYmbC5eUQj07QefOsaYIJ4I866dH4uLCe2K6AolJ0BEUoYr1o/iH9ZLPXTSpzkpW o6VYN4Ih7fF73oQ6nlMg0wYpvzG5Y9tvGtmAEAFYfyM20eRUCcs8vZ7aJL9B8Kh0EmtqRBnSIL8 qHV1meJ+PE4gHdvw5Ey7pMrU9LRpKUI13356c6hQ1/biRu272wL6ObZyCMhfd7wXKb8bsNfcqUV gR+D5/SW7G2TXL8D8P8u6WHhVsualGS2NUUggSRksrd18KpFMw== X-Google-Smtp-Source: AGHT+IF9ExyB3XnRxcwS0cKHjacndNsANn4Ds0HbGImW3LAQ7lbN2T/Qg8lyKHhTNPGGwFFsiUSJ61/TEiCb X-Received: by 2002:a05:690c:a99:b0:70f:8883:eb1a with SMTP id 00721157ae682-717d78af82amr223583587b3.6.1752510104116; Mon, 14 Jul 2025 09:21:44 -0700 (PDT) Received: from postal.iol.unh.edu (postal.iol.unh.edu. [2606:4100:3880:1234::84]) by smtp-relay.gmail.com with ESMTPS id 00721157ae682-717c625ab7dsm2233587b3.64.2025.07.14.09.21.44 (version=TLS1_2 cipher=ECDHE-ECDSA-AES128-GCM-SHA256 bits=128/128); Mon, 14 Jul 2025 09:21:44 -0700 (PDT) X-Relaying-Domain: iol.unh.edu Date: Mon, 14 Jul 2025 09:21:44 -0700 (PDT) Message-ID: <68752e98.050a0220.39678.b9a7SMTPIN_ADDED_MISSING@mx.google.com> Received: from [172.21.0.5] (unknown [172.18.0.240]) by postal.iol.unh.edu (Postfix) with ESMTP id AF5BF604D420; Mon, 14 Jul 2025 12:21:43 -0400 (EDT) Subject: |SUCCESS| pw155202 [PATCH] [RFC] doc: clarify VLAN and QinQ strippin From: dpdklab@iol.unh.edu To: Test Report Cc: dpdk-test-reports@iol.unh.edu In-Reply-To: <20250714133014.44597-1-bruce.richardson@intel.com> References: <20250714133014.44597-1-bruce.richardson@intel.com> Content-Type: text/plain X-BeenThere: test-report@dpdk.org X-Mailman-Version: 2.1.29 Precedence: list List-Id: automatic DPDK test reports List-Unsubscribe: , List-Archive: List-Post: List-Help: List-Subscribe: , Errors-To: test-report-bounces@dpdk.org Test-Label: iol-compile-amd64-testing Test-Status: SUCCESS http://dpdk.org/patch/155202 _Testing PASS_ Submitter: Bruce Richardson Date: Monday, July 14 2025 13:30:14 DPDK git baseline: Repo:dpdk Branch: master CommitID:9fe9c0b231c8da5435bfccb1963121b4277f961c 155202 --> testing pass Upstream job id: Generic-DPDK-Compile-Meson#408596 Test environment and result as below: +-------------------------------+--------------------+-------------------+------------------+-------------------------+-------------------+----------------------+ | Environment | dpdk_meson_compile | dpdk_compile_spdk | dpdk_compile_ovs | dpdk_llvm_clang_compile | dpdk_msvc_compile | dpdk_mingw64_compile | +===============================+====================+===================+==================+=========================+===================+======================+ | CentOS Stream 9 | PASS | PASS | SKIPPED | SKIPPED | SKIPPED | SKIPPED | +-------------------------------+--------------------+-------------------+------------------+-------------------------+-------------------+----------------------+ | CentOS Stream 10 | PASS | SKIPPED | SKIPPED | SKIPPED | SKIPPED | SKIPPED | +-------------------------------+--------------------+-------------------+------------------+-------------------------+-------------------+----------------------+ | Debian GNU/Linux 12 | PASS | PASS | SKIPPED | SKIPPED | SKIPPED | SKIPPED | +-------------------------------+--------------------+-------------------+------------------+-------------------------+-------------------+----------------------+ | Fedora Linux 40 | PASS | PASS | SKIPPED | SKIPPED | SKIPPED | SKIPPED | +-------------------------------+--------------------+-------------------+------------------+-------------------------+-------------------+----------------------+ | Fedora Linux 41 | PASS | PASS | PASS | SKIPPED | SKIPPED | SKIPPED | +-------------------------------+--------------------+-------------------+------------------+-------------------------+-------------------+----------------------+ | openSUSE Leap 15.6 | PASS | SKIPPED | SKIPPED | SKIPPED | SKIPPED | SKIPPED | +-------------------------------+--------------------+-------------------+------------------+-------------------------+-------------------+----------------------+ | Ubuntu 20.04 | PASS | SKIPPED | SKIPPED | SKIPPED | SKIPPED | SKIPPED | +-------------------------------+--------------------+-------------------+------------------+-------------------------+-------------------+----------------------+ | Red Hat Enterprise Linux 8.10 | PASS | SKIPPED | SKIPPED | SKIPPED | SKIPPED | SKIPPED | +-------------------------------+--------------------+-------------------+------------------+-------------------------+-------------------+----------------------+ | Red Hat Enterprise Linux 9.5 | PASS | SKIPPED | SKIPPED | SKIPPED | SKIPPED | SKIPPED | +-------------------------------+--------------------+-------------------+------------------+-------------------------+-------------------+----------------------+ | Ubuntu 22.04 | PASS | PASS | SKIPPED | SKIPPED | SKIPPED | SKIPPED | +-------------------------------+--------------------+-------------------+------------------+-------------------------+-------------------+----------------------+ | Ubuntu 24.04 | PASS | PASS | PASS | SKIPPED | SKIPPED | SKIPPED | +-------------------------------+--------------------+-------------------+------------------+-------------------------+-------------------+----------------------+ | Alpine Linux 3.22.0 | PASS | SKIPPED | SKIPPED | SKIPPED | SKIPPED | SKIPPED | +-------------------------------+--------------------+-------------------+------------------+-------------------------+-------------------+----------------------+ | FreeBSD 14.2 | PASS | SKIPPED | SKIPPED | SKIPPED | SKIPPED | SKIPPED | +-------------------------------+--------------------+-------------------+------------------+-------------------------+-------------------+----------------------+ | Windows Server 2022 | SKIPPED | SKIPPED | SKIPPED | PASS | PASS | PASS | +-------------------------------+--------------------+-------------------+------------------+-------------------------+-------------------+----------------------+ CentOS Stream 9 Kernel: 5.15 Compiler: gcc gcc (GCC) 11.5.0 20240719 (Red Hat 11.5.0-7) CentOS Stream 10 Kernel: 5.15 Compiler: gcc gcc (GCC) 14.2.1 20250110 (Red Hat 14.2.1-8) Debian GNU/Linux 12 Kernel: 5.15 Compiler: gcc gcc (Debian 12.2.0-14+deb12u1) 12.2.0 Fedora Linux 40 Kernel: 5.15 Compiler: gcc gcc (GCC) 14.2.1 20240912 (Red Hat 14.2.1-3) Fedora Linux 41 Kernel: 5.15 Compiler: clang gcc (GCC) 14.3.1 20250523 (Red Hat 14.3.1-1) openSUSE Leap 15.6 Kernel: 5.15 Compiler: gcc gcc (SUSE Linux) 7.5.0 Ubuntu 20.04 Kernel: 5.15 Compiler: gcc gcc (Ubuntu 9.4.0-1ubuntu1~20.04.2) 9.4.0 Red Hat Enterprise Linux 8.10 Kernel: 5.15 Compiler: gcc gcc (GCC) 8.5.0 20210514 (Red Hat 8.5.0-22) Red Hat Enterprise Linux 9.5 Kernel: 5.15 Compiler: gcc gcc (GCC) 11.5.0 20240719 (Red Hat 11.5.0-2) Ubuntu 22.04 Kernel: 5.15 Compiler: gcc gcc (Ubuntu 11.4.0-1ubuntu1~22.04) 11.4.0 Ubuntu 24.04 Kernel: 5.15 Compiler: gcc gcc (Ubuntu 13.3.0-6ubuntu2~24.04) 13.3.0 Alpine Linux 3.22.0 Kernel: 5.15 Compiler: gcc gcc (Alpine 14.2.0) 14.2.0 FreeBSD 14.2 Kernel: 14.2-RELEASE Compiler: clang 18.1.6 Windows Server 2022 Kernel: 10.0.20348.2031 Compiler: clang 15.0.7, gcc 14.1.0 (MinGW), and MSVC VS 19.39.33521 To view detailed results, visit: https://lab.dpdk.org/results/dashboard/patchsets/33649/ UNH-IOL DPDK Community Lab To manage your email subscriptions, visit: https://lab.dpdk.org/results/dashboard/preferences/subscriptions/