From mboxrd@z Thu Jan 1 00:00:00 1970 Return-Path: Received: from mails.dpdk.org (mails.dpdk.org [217.70.189.124]) by inbox.dpdk.org (Postfix) with ESMTP id 4904546B73 for ; Mon, 14 Jul 2025 18:26:34 +0200 (CEST) Received: from mails.dpdk.org (localhost [127.0.0.1]) by mails.dpdk.org (Postfix) with ESMTP id 252C04021F; Mon, 14 Jul 2025 18:26:34 +0200 (CEST) Received: from mail-io1-f98.google.com (mail-io1-f98.google.com [209.85.166.98]) by mails.dpdk.org (Postfix) with ESMTP id 91F6B4021F for ; Mon, 14 Jul 2025 18:26:32 +0200 (CEST) Received: by mail-io1-f98.google.com with SMTP id ca18e2360f4ac-875b52a09d1so113266839f.0 for ; Mon, 14 Jul 2025 09:26:32 -0700 (PDT) DKIM-Signature: v=1; a=rsa-sha256; c=relaxed/relaxed; d=iol.unh.edu; s=unh-iol; t=1752510392; x=1753115192; darn=dpdk.org; h=references:in-reply-to:cc:to:from:subject:message-id:date:from:to :cc:subject:date:message-id:reply-to; bh=RwJ1YT8854tg6vs3qkMPCvc6UncQsuOW4E+0zJtk/PA=; b=B/8kMzBV8G6hMs/p7dPxiYW/U/fXEmp1LopJmixhR30PFF67o2ndUBhxBm+6V5F2oz str9bZ6BVcyhsEFVRoOJd0meOi9m5lArEwjENhuBFRF/t3NzuyfpqO5O27CdDRW51SzI op2B9FV7weNJVaMlkwooni4Btc87xhCiXWNdg= X-Google-DKIM-Signature: v=1; a=rsa-sha256; c=relaxed/relaxed; d=1e100.net; s=20230601; t=1752510392; x=1753115192; h=references:in-reply-to:cc:to:from:subject:message-id:date :x-gm-message-state:from:to:cc:subject:date:message-id:reply-to; bh=RwJ1YT8854tg6vs3qkMPCvc6UncQsuOW4E+0zJtk/PA=; b=eYpHoEjwiACgKYyBoIKCCfCDLcNXWPUG3ZDY0qnJfqnLgDnsEZGfAZwGWefgIXavKx wQYHvdHigcRVKWsLVXqNvdYUGXKK28sRo7GX54BsNNAFhnApIDYa8b/aWAVqt230ijCF D5823aK5moMx96duuzOV3Hz9hxXYKDEXDgfreAEk0txOWzcQ9Czi7oaUdI2xQMgiLqf/ Mt/sun6EAGFXQxVGimHDEboDqGIn6csC9aOU3e/JYG5j8vG8p6/84qczVAfTSD0T1qTC wvUaO6g2Ww5GEFoPtuen6isirFbalPBMu2JYOMCCc+sHjZOVrKtuUB2SLiiC545Gg6wL pdmA== X-Gm-Message-State: AOJu0YzzcJQuJoSoCw4XttqCEqHKDWH6OHDxjFHsqvu/UE0g7vJ9iszl SuhehtHgPTnSIWudSXPGKFmZpljQUq6KPJv3hqk5oZe9T4j43e8oXviXQ8HYrMMFOzYpPr2DPKb 9z78SbEJjfeicyP/dMwBE+sDxdwtTXrvRaJsUutmU6PdH X-Gm-Gg: ASbGnctn/ytNPlVWi0V+zLvgPxjAcaoxvV+V5jjcNw83UwGcn7uaoyIFBpM9ChlGqcF DVxD1YHkQUlKL95y0BufrZTUR4A4L0lG+at1i8Z+wjBxgedI+izAKG8GykFgP5F6Lr0m2RPpd2d kXDVnx/9rFMWcdpZczpfhsksDYICH5zLyxODhINj82Jka1C9d0aY0CshqLY5BL4gJrIj1tNQuQ5 Y0hZ+DUAQg5Bw06XXzuqotX1w89TJuqXIKHr5f2TKvZ20Ft2C+9/lZXoaHuoImMbFSSs8Gb7Fnc 3Wz4UkqRV0IpVlKhjfkO6v8xBcOsii7Ebv/FhVP3t9U51NWvUNMvms67ckMOqXZtKdA3Ui87 X-Google-Smtp-Source: AGHT+IHKWC6lo4oUkCbwiy7+3AlRminghUgECj6x6B7XNCZfsPG6VJKYPyBvd4x9I9dfuiVYRyoJakbE6NcS X-Received: by 2002:a05:6602:15c7:b0:864:4b3a:9e3a with SMTP id ca18e2360f4ac-87978fec018mr1353105439f.13.1752510391690; Mon, 14 Jul 2025 09:26:31 -0700 (PDT) Received: from postal.iol.unh.edu (postal.iol.unh.edu. [132.177.123.84]) by smtp-relay.gmail.com with ESMTPS id ca18e2360f4ac-8796b8c6dc1sm43579839f.4.2025.07.14.09.26.31 (version=TLS1_2 cipher=ECDHE-ECDSA-AES128-GCM-SHA256 bits=128/128); Mon, 14 Jul 2025 09:26:31 -0700 (PDT) X-Relaying-Domain: iol.unh.edu Date: Mon, 14 Jul 2025 09:26:31 -0700 (PDT) Message-ID: <68752fb7.050a0220.3f5e0.ebc4SMTPIN_ADDED_MISSING@mx.google.com> Received: from [172.21.0.6] (unknown [172.18.0.240]) by postal.iol.unh.edu (Postfix) with ESMTP id 2EE3C604D420; Mon, 14 Jul 2025 12:26:31 -0400 (EDT) Subject: |SUCCESS| pw155160 [PATCH] maintainers: update for ethdev library From: dpdklab@iol.unh.edu To: Test Report Cc: dpdk-test-reports@iol.unh.edu In-Reply-To: <20250711144326.1288907-1-thomas@monjalon.net> References: <20250711144326.1288907-1-thomas@monjalon.net> Content-Type: text/plain X-BeenThere: test-report@dpdk.org X-Mailman-Version: 2.1.29 Precedence: list List-Id: automatic DPDK test reports List-Unsubscribe: , List-Archive: List-Post: List-Help: List-Subscribe: , Errors-To: test-report-bounces@dpdk.org Test-Label: iol-abi-testing Test-Status: SUCCESS http://dpdk.org/patch/155160 _Testing PASS_ Submitter: Thomas Monjalon Date: Friday, July 11 2025 14:43:25 DPDK git baseline: Repo:dpdk Branch: master CommitID:9fe9c0b231c8da5435bfccb1963121b4277f961c 155160 --> testing pass Upstream job id: Generic-DPDK-Compile-ABI#134304 Test environment and result as below: +-------------------------------+----------+ | Environment | abi_test | +===============================+==========+ | CentOS Stream 10 | PASS | +-------------------------------+----------+ | Fedora Linux 40 | PASS | +-------------------------------+----------+ | CentOS Stream 9 | PASS | +-------------------------------+----------+ | Fedora Linux 41 | PASS | +-------------------------------+----------+ | Ubuntu 24.04 | PASS | +-------------------------------+----------+ | Ubuntu 22.04 | PASS | +-------------------------------+----------+ | Red Hat Enterprise Linux 9.5 | PASS | +-------------------------------+----------+ | Red Hat Enterprise Linux 8.10 | PASS | +-------------------------------+----------+ | openSUSE Leap 15.6 | PASS | +-------------------------------+----------+ | Debian GNU/Linux 12 | PASS | +-------------------------------+----------+ CentOS Stream 10 Kernel: 5.15 Compiler: gcc gcc (GCC) 14.2.1 20250110 (Red Hat 14.2.1-8) Fedora Linux 40 Kernel: 5.15 Compiler: gcc gcc (GCC) 14.2.1 20240912 (Red Hat 14.2.1-3) CentOS Stream 9 Kernel: 5.15 Compiler: gcc gcc (GCC) 11.5.0 20240719 (Red Hat 11.5.0-7) Fedora Linux 41 Kernel: 5.15 Compiler: clang gcc (GCC) 14.3.1 20250523 (Red Hat 14.3.1-1) Ubuntu 24.04 Kernel: 5.15 Compiler: gcc gcc (Ubuntu 13.3.0-6ubuntu2~24.04) 13.3.0 Ubuntu 22.04 Kernel: 5.15 Compiler: gcc gcc (Ubuntu 11.4.0-1ubuntu1~22.04) 11.4.0 Red Hat Enterprise Linux 9.5 Kernel: 5.15 Compiler: gcc gcc (GCC) 11.5.0 20240719 (Red Hat 11.5.0-2) Red Hat Enterprise Linux 8.10 Kernel: 5.15 Compiler: gcc gcc (GCC) 8.5.0 20210514 (Red Hat 8.5.0-22) openSUSE Leap 15.6 Kernel: 5.15 Compiler: gcc gcc (SUSE Linux) 7.5.0 Debian GNU/Linux 12 Kernel: 5.15 Compiler: gcc gcc (Debian 12.2.0-14+deb12u1) 12.2.0 To view detailed results, visit: https://lab.dpdk.org/results/dashboard/patchsets/33637/ UNH-IOL DPDK Community Lab To manage your email subscriptions, visit: https://lab.dpdk.org/results/dashboard/preferences/subscriptions/