From mboxrd@z Thu Jan 1 00:00:00 1970 Return-Path: Received: from mails.dpdk.org (mails.dpdk.org [217.70.189.124]) by inbox.dpdk.org (Postfix) with ESMTP id 0C5D746B74 for ; Mon, 14 Jul 2025 20:08:09 +0200 (CEST) Received: from mails.dpdk.org (localhost [127.0.0.1]) by mails.dpdk.org (Postfix) with ESMTP id 05CCC402EA; Mon, 14 Jul 2025 20:08:09 +0200 (CEST) Received: from mail-pl1-f227.google.com (mail-pl1-f227.google.com [209.85.214.227]) by mails.dpdk.org (Postfix) with ESMTP id A2F88402EA for ; Mon, 14 Jul 2025 20:08:07 +0200 (CEST) Received: by mail-pl1-f227.google.com with SMTP id d9443c01a7336-2349f096605so59106595ad.3 for ; Mon, 14 Jul 2025 11:08:07 -0700 (PDT) DKIM-Signature: v=1; a=rsa-sha256; c=relaxed/relaxed; d=iol.unh.edu; s=unh-iol; t=1752516487; x=1753121287; darn=dpdk.org; h=references:in-reply-to:cc:to:from:subject:message-id:date:from:to :cc:subject:date:message-id:reply-to; bh=H+94N6JqrrYmFUPdCk9gLCV4IQPDWA+98gQtJLVAkQQ=; b=RGH396fOOZwPPtLYIzOkn7Xi90pjz90Btm+Wt3344+TaG8oITOgN6X2h0ohSaS7vOV q78PkEW4kM583ichhoHHLsNmU0gUelO/AJ8wSQLUnRwJDgQvXYvf0hpnTclhsCCSAnKl nIvHrbJEU3nLY6DlixYBrmYVhVSvXwiL3AR6M= X-Google-DKIM-Signature: v=1; a=rsa-sha256; c=relaxed/relaxed; d=1e100.net; s=20230601; t=1752516487; x=1753121287; h=references:in-reply-to:cc:to:from:subject:message-id:date :x-gm-message-state:from:to:cc:subject:date:message-id:reply-to; bh=H+94N6JqrrYmFUPdCk9gLCV4IQPDWA+98gQtJLVAkQQ=; b=xCvE7wjEYANNBWAtw602Yg3yLzrFQbDIOpHX+feDLHY0sZpsjwj2m0fMuvMj7Z2Ecp D4r3eqJfPYf85JxXGljBX0ctlF5QZJ3j/ssAAjRZxhEi4s1coSxMeFquFoUSKeErawVr whYGYVpcqJ/qNMMdV22KiiqgZBhOzwKurB9LsYkNDQlHAPXeFPOn9MAx1zgzhRkMLcgV 6d+S+PI+8j18bkZ2rwQhWqQ6xavOPbU9colBM5QpgKPCDy/Nf11rpraT+98I9QDGc2nu uFoncGdmYe1CydjmO2SqYggKjIrioluQ0jfqWY3jlvS4Sta7rw6fem73TgGRuvnZKzZs xF1w== X-Gm-Message-State: AOJu0Yyf34bLrlBR4yDwyHxFGuOBnbqpJUx91kXAP0M0vvKy6uoTss0+ 6+5TwvgB9GWdqMYSaf3VYi6potUWzoGS95iy/OuMZUdvuQUakNfLqsG47FMYQEZJkV6o/VjV0Xc m80aVCPkmMLvYqzfiBTuAR6mtgMia5EO5/7QmilLbf5IW+hkZT42O0y73pqtU X-Gm-Gg: ASbGnctu+m37uvPhFSeTD5sq8lD+7EVbMzQHbje1z2+uOPDlLUXo2uL++qrmeYJlPwb BoR/LJ54ohsAyVwSnluaF1oxtv0yuHUaf4Hhdz4bI1MuVrPBNKSql9le6mHETKtgbtwO5JLbvN6 n93I89Qz9qYz4PnGTxAy5tApAONbWux1T4KTFFYifiCb60pjy+NcxoEDApAcYu/Bf3KU4LzNAjd lKiczogsLsCjDRqZkUgvxee8tcWIyiBJS7ojXAiG7b+CylPoCfy7WfyfdCoF81II5xLus9sfckt iUBipqh0F7v7avvZnLXMlLbDsNUoIy5K/bolgpsESFkFAowCeA== X-Google-Smtp-Source: AGHT+IFuwF5ZwZPbeTKicskTM2Osp0icUtcLebNYnV3KP5LJv5V3N+smY7nWl50aPPHKUBqTSEHTIBltwMlm X-Received: by 2002:a17:903:1a2f:b0:23d:dd63:2cd9 with SMTP id d9443c01a7336-23dee27dc17mr235979025ad.46.1752516486588; Mon, 14 Jul 2025 11:08:06 -0700 (PDT) Received: from postal.iol.unh.edu (postal.iol.unh.edu. [2606:4100:3880:1234::84]) by smtp-relay.gmail.com with ESMTPS id d9443c01a7336-23de426361fsm5317205ad.17.2025.07.14.11.08.06 (version=TLS1_2 cipher=ECDHE-ECDSA-AES128-GCM-SHA256 bits=128/128); Mon, 14 Jul 2025 11:08:06 -0700 (PDT) X-Relaying-Domain: iol.unh.edu Date: Mon, 14 Jul 2025 11:08:06 -0700 (PDT) Message-ID: <68754786.170a0220.347dde.ea80SMTPIN_ADDED_MISSING@mx.google.com> Received: from [172.21.0.5] (unknown [172.18.0.240]) by postal.iol.unh.edu (Postfix) with ESMTP id 0A3446050A61; Mon, 14 Jul 2025 14:08:06 -0400 (EDT) Subject: |SUCCESS| pw155203 [PATCH] net/ice: fix VLAN tag reporting on Rx From: dpdklab@iol.unh.edu To: Test Report Cc: dpdk-test-reports@iol.unh.edu In-Reply-To: <20250714161050.289375-1-bruce.richardson@intel.com> References: <20250714161050.289375-1-bruce.richardson@intel.com> Content-Type: text/plain X-BeenThere: test-report@dpdk.org X-Mailman-Version: 2.1.29 Precedence: list List-Id: automatic DPDK test reports List-Unsubscribe: , List-Archive: List-Post: List-Help: List-Subscribe: , Errors-To: test-report-bounces@dpdk.org Test-Label: iol-unit-amd64-testing Test-Status: SUCCESS http://dpdk.org/patch/155203 _Testing PASS_ Submitter: Bruce Richardson Date: Monday, July 14 2025 16:10:50 DPDK git baseline: Repo:dpdk Branch: master CommitID:a6b10031d251fcc7dadede461f7e1d005024b139 155203 --> testing pass Upstream job id: Generic-Unit-Test-DPDK#355309 Test environment and result as below: +-------------------------------+----------------+ | Environment | dpdk_unit_test | +===============================+================+ | CentOS Stream 10 | PASS | +-------------------------------+----------------+ | CentOS Stream 9 | PASS | +-------------------------------+----------------+ | Debian GNU/Linux 12 | PASS | +-------------------------------+----------------+ | Fedora Linux 40 | PASS | +-------------------------------+----------------+ | Fedora Linux 41 | PASS | +-------------------------------+----------------+ | Red Hat Enterprise Linux 9.5 | PASS | +-------------------------------+----------------+ | Red Hat Enterprise Linux 8.10 | PASS | +-------------------------------+----------------+ | Ubuntu 22.04 | PASS | +-------------------------------+----------------+ | Ubuntu 24.04 | PASS | +-------------------------------+----------------+ | Ubuntu 20.04 | PASS | +-------------------------------+----------------+ | Windows Server 2022 | PASS | +-------------------------------+----------------+ CentOS Stream 10 Kernel: 5.15 Compiler: gcc gcc (GCC) 14.2.1 20250110 (Red Hat 14.2.1-8) CentOS Stream 9 Kernel: 5.15 Compiler: gcc gcc (GCC) 11.5.0 20240719 (Red Hat 11.5.0-7) Debian GNU/Linux 12 Kernel: 5.15 Compiler: gcc gcc (Debian 12.2.0-14+deb12u1) 12.2.0 Fedora Linux 40 Kernel: 5.15 Compiler: gcc gcc (GCC) 14.2.1 20240912 (Red Hat 14.2.1-3) Fedora Linux 41 Kernel: 5.15 Compiler: gcc gcc (GCC) 14.3.1 20250523 (Red Hat 14.3.1-1) Red Hat Enterprise Linux 9.5 Kernel: 5.15 Compiler: gcc gcc (GCC) 11.5.0 20240719 (Red Hat 11.5.0-2) Red Hat Enterprise Linux 8.10 Kernel: 5.15 Compiler: gcc gcc (GCC) 8.5.0 20210514 (Red Hat 8.5.0-22) Ubuntu 22.04 Kernel: 5.15 Compiler: gcc gcc (Ubuntu 11.4.0-1ubuntu1~22.04) 11.4.0 Ubuntu 24.04 Kernel: 5.15 Compiler: gcc gcc (Ubuntu 13.3.0-6ubuntu2~24.04) 13.3.0 Ubuntu 20.04 Kernel: 5.15 Compiler: gcc gcc (Ubuntu 9.4.0-1ubuntu1~20.04.2) 9.4.0 Windows Server 2022 Kernel: 10.0.20348.2031 Compiler: clang 15.0.7, gcc 14.1.0 (MinGW), and MSVC VS 19.39.33521 To view detailed results, visit: https://lab.dpdk.org/results/dashboard/patchsets/33650/ UNH-IOL DPDK Community Lab To manage your email subscriptions, visit: https://lab.dpdk.org/results/dashboard/preferences/subscriptions/