From mboxrd@z Thu Jan 1 00:00:00 1970 Return-Path: Received: from mails.dpdk.org (mails.dpdk.org [217.70.189.124]) by inbox.dpdk.org (Postfix) with ESMTP id 8053D46B74 for ; Mon, 14 Jul 2025 21:09:10 +0200 (CEST) Received: from mails.dpdk.org (localhost [127.0.0.1]) by mails.dpdk.org (Postfix) with ESMTP id 628274026B; Mon, 14 Jul 2025 21:09:10 +0200 (CEST) Received: from mail-yb1-f226.google.com (mail-yb1-f226.google.com [209.85.219.226]) by mails.dpdk.org (Postfix) with ESMTP id 6ABEC4026B for ; Mon, 14 Jul 2025 21:09:09 +0200 (CEST) Received: by mail-yb1-f226.google.com with SMTP id 3f1490d57ef6-e8b3cc05665so3634152276.2 for ; Mon, 14 Jul 2025 12:09:09 -0700 (PDT) DKIM-Signature: v=1; a=rsa-sha256; c=relaxed/relaxed; d=iol.unh.edu; s=unh-iol; t=1752520149; x=1753124949; darn=dpdk.org; h=references:in-reply-to:cc:to:from:subject:message-id:date:from:to :cc:subject:date:message-id:reply-to; bh=AJlrIiWCVtzTwG52W+Dx/DapbjXBxh0MnUpLd6XW/zk=; b=O6ZR7lHy8DJU5tn6sYfw/D+GQGK01jjRhdNRrMDSqcj29n2TReKHm7AuFuFvj6x8Fw I39E73sCDzby2H2+Ufd0JQ8Hn+zb4EeUOFeXNSM74ZRW1xV0GDH/E/Qvi8WHkrNtdEsc eGnZatim8l3lNF76wjrNuOtxFDXumm8Tfcxz4= X-Google-DKIM-Signature: v=1; a=rsa-sha256; c=relaxed/relaxed; d=1e100.net; s=20230601; t=1752520149; x=1753124949; h=references:in-reply-to:cc:to:from:subject:message-id:date :x-gm-message-state:from:to:cc:subject:date:message-id:reply-to; bh=AJlrIiWCVtzTwG52W+Dx/DapbjXBxh0MnUpLd6XW/zk=; b=XJz0TBD0ETQmQjCrorsBY8ds8y98Ngm1g8bWTKcul3r9NNEAL7xVqiT+1jM1fiR2yX byIOW1xlsbCTr6WJHSKcXsM6cg4vQvur0kcsQWODJYuRJNeaH8UdvdqXLe/WvTYkWGlO vpt6UbQKRlDCtwEdIfh/uNAutQXdCLdkN6Sr6Ucl5VmqLQbfsMfwauiwiaGG1GPe3pns CnlBzDnae0tN5N/t34HvTAC48UsV6N1igqNrAq4MaJjYHwXidOy4zbfnGFWDWOMsQIdS jYnCIj0z3MbfDeQzVKFaCF2AirfaTN9c59EX7/9C3fJ5g4rrppUnNzGKuDBPf6jUZCSP QWVw== X-Gm-Message-State: AOJu0Yy86qlSuZlpS16hhin2LzLbetvm3voCrN8eFwd9b+8zLqEKVoO2 syttr/rT74Ak4R7/X49ze4XYwpkeUwsh1tgOzgU9S4HhxvE7FLg/jfc0nhCBWVEUlLcMWM2a52m V2S9oBwwNg533h/7HVE7HCsMcmiUU70IHtb7hADTskLzPvKqHdZg6pLuYnFiT X-Gm-Gg: ASbGncv5hmmh2zIc/2p3nXxXWDOuMKlFlA0KV8YCAoqxuiiP4xGlsFgSIlNVol4KFXF pzsUlBjbZkjf2brG/ZZfrIp7Ihm9OoablHMIRD4ruq7/HAyFqZXXTZRosbMSFUr8qDqw6rYBuZE Hq21MVwqebcuDs6fkormOQ2Fsw3BTGMZc3qpew4ou1VbnocXwqm9i+aMYjWg68NihwXiB6vTqHz FjPSbDtaMFtj1bnxQsUadkSPsq4K/SNQjhXuVGiT9RM0+gkUrHfY/MaITh/PLZRXqj8QrXbC5s0 rLXo5EFHO0HxrXmmtwfnko9Q/iHPVuUedi2SLXKv0+8ruGvx4w== X-Google-Smtp-Source: AGHT+IHjLNnS9UNKJEmlPK1t6SPQWGnksQXqNZUoU//eLAmXFkow7HUT0BCHp0GZCZM4dHyCubuqciSB1wjU X-Received: by 2002:a05:690c:610f:b0:703:b8f4:5b0e with SMTP id 00721157ae682-717d5df1278mr204889497b3.28.1752520148709; Mon, 14 Jul 2025 12:09:08 -0700 (PDT) Received: from postal.iol.unh.edu (postal.iol.unh.edu. [2606:4100:3880:1234::84]) by smtp-relay.gmail.com with ESMTPS id 00721157ae682-717c6201ee7sm2885887b3.37.2025.07.14.12.09.08 (version=TLS1_2 cipher=ECDHE-ECDSA-AES128-GCM-SHA256 bits=128/128); Mon, 14 Jul 2025 12:09:08 -0700 (PDT) X-Relaying-Domain: iol.unh.edu Date: Mon, 14 Jul 2025 12:09:08 -0700 (PDT) Message-ID: <687555d4.050a0220.73398.fbb8SMTPIN_ADDED_MISSING@mx.google.com> Received: from [172.21.0.6] (unknown [172.18.0.240]) by postal.iol.unh.edu (Postfix) with ESMTP id 581996051830; Mon, 14 Jul 2025 15:09:08 -0400 (EDT) Subject: |SUCCESS| pw155202 [PATCH] [RFC] doc: clarify VLAN and QinQ strippin From: dpdklab@iol.unh.edu To: Test Report Cc: dpdk-test-reports@iol.unh.edu In-Reply-To: <20250714133014.44597-1-bruce.richardson@intel.com> References: <20250714133014.44597-1-bruce.richardson@intel.com> Content-Type: text/plain X-BeenThere: test-report@dpdk.org X-Mailman-Version: 2.1.29 Precedence: list List-Id: automatic DPDK test reports List-Unsubscribe: , List-Archive: List-Post: List-Help: List-Subscribe: , Errors-To: test-report-bounces@dpdk.org Test-Label: iol-unit-arm64-testing Test-Status: SUCCESS http://dpdk.org/patch/155202 _Testing PASS_ Submitter: Bruce Richardson Date: Monday, July 14 2025 13:30:14 DPDK git baseline: Repo:dpdk Branch: master CommitID:9fe9c0b231c8da5435bfccb1963121b4277f961c 155202 --> testing pass Upstream job id: Generic-Unit-Test-DPDK#355285 Test environment and result as below: +------------------------------+----------------+--------------+---------------------------+------------------------------+ | Environment | dpdk_unit_test | lpm_autotest | cryptodev_sw_zuc_autotest | cryptodev_sw_snow3g_autotest | +==============================+================+==============+===========================+==============================+ | Debian GNU/Linux 12 | PASS | SKIPPED | SKIPPED | SKIPPED | +------------------------------+----------------+--------------+---------------------------+------------------------------+ | Ubuntu 20.04 | PASS | PASS | SKIPPED | SKIPPED | +------------------------------+----------------+--------------+---------------------------+------------------------------+ | Fedora Linux 40 | PASS | SKIPPED | SKIPPED | SKIPPED | +------------------------------+----------------+--------------+---------------------------+------------------------------+ | CentOS Stream 10 | PASS | SKIPPED | SKIPPED | SKIPPED | +------------------------------+----------------+--------------+---------------------------+------------------------------+ | Fedora Linux 41 | PASS | SKIPPED | SKIPPED | SKIPPED | +------------------------------+----------------+--------------+---------------------------+------------------------------+ | Red Hat Enterprise Linux 9.5 | PASS | SKIPPED | SKIPPED | SKIPPED | +------------------------------+----------------+--------------+---------------------------+------------------------------+ | CentOS Stream 9 | PASS | SKIPPED | SKIPPED | SKIPPED | +------------------------------+----------------+--------------+---------------------------+------------------------------+ | Ubuntu 22.04 | PASS | SKIPPED | SKIPPED | SKIPPED | +------------------------------+----------------+--------------+---------------------------+------------------------------+ | Ubuntu 24.04 | PASS | SKIPPED | SKIPPED | SKIPPED | +------------------------------+----------------+--------------+---------------------------+------------------------------+ | Debian 12 (arm) | SKIPPED | SKIPPED | PASS | PASS | +------------------------------+----------------+--------------+---------------------------+------------------------------+ Debian GNU/Linux 12 Kernel: 5.4 Compiler: gcc gcc (Debian 12.2.0-14+deb12u1) 12.2.0 Ubuntu 20.04 Kernel: 5.4 Compiler: gcc gcc (Ubuntu 9.4.0-1ubuntu1~20.04.2) 9.4.0 Fedora Linux 40 Kernel: 5.4 Compiler: clang gcc (GCC) 14.2.1 20240912 (Red Hat 14.2.1-3) CentOS Stream 10 Kernel: 5.4 Compiler: gcc gcc (GCC) 14.2.1 20250110 (Red Hat 14.2.1-8) Fedora Linux 41 Kernel: 5.4 Compiler: clang gcc (GCC) 14.3.1 20250523 (Red Hat 14.3.1-1) Red Hat Enterprise Linux 9.5 Kernel: 5.4 Compiler: gcc gcc (GCC) 11.5.0 20240719 (Red Hat 11.5.0-2) CentOS Stream 9 Kernel: 5.4 Compiler: gcc gcc (GCC) 11.5.0 20240719 (Red Hat 11.5.0-7) Ubuntu 22.04 Kernel: 5.4 Compiler: gcc gcc (Ubuntu 11.4.0-1ubuntu1~22.04) 11.4.0 Ubuntu 24.04 Kernel: 5.4 Compiler: gcc gcc (Ubuntu 13.3.0-6ubuntu2~24.04) 13.3.0 Debian 12 (arm) Kernel: Depends on container host Compiler: gcc (Debian 12.2.0-14) 12.2.0 To view detailed results, visit: https://lab.dpdk.org/results/dashboard/patchsets/33649/ UNH-IOL DPDK Community Lab To manage your email subscriptions, visit: https://lab.dpdk.org/results/dashboard/preferences/subscriptions/