From mboxrd@z Thu Jan 1 00:00:00 1970 Return-Path: Received: from mails.dpdk.org (mails.dpdk.org [217.70.189.124]) by inbox.dpdk.org (Postfix) with ESMTP id B3DFE46B74 for ; Mon, 14 Jul 2025 21:41:43 +0200 (CEST) Received: from mails.dpdk.org (localhost [127.0.0.1]) by mails.dpdk.org (Postfix) with ESMTP id 8E5794026B; Mon, 14 Jul 2025 21:41:43 +0200 (CEST) Received: from mail-oa1-f99.google.com (mail-oa1-f99.google.com [209.85.160.99]) by mails.dpdk.org (Postfix) with ESMTP id 8EE504026B for ; Mon, 14 Jul 2025 21:41:41 +0200 (CEST) Received: by mail-oa1-f99.google.com with SMTP id 586e51a60fabf-2ef8df09ce9so2754723fac.1 for ; Mon, 14 Jul 2025 12:41:41 -0700 (PDT) DKIM-Signature: v=1; a=rsa-sha256; c=relaxed/relaxed; d=iol.unh.edu; s=unh-iol; t=1752522100; x=1753126900; darn=dpdk.org; h=references:in-reply-to:cc:to:from:subject:message-id:date:from:to :cc:subject:date:message-id:reply-to; bh=PMzCPgFqCiWTbotVw8HPw18hgdQz6edqeEWIivbsPOY=; b=XC3oZwntBqGGowOFKbpNiTPdILZfVnsYDEAwobEYJiv7u9CddCya9Mx10NkLt6MmVu VopUxvfibdkC7EwGGn04hhgT8RYSepRc56zUbOyVXQ2Z87B6ts/74LXj8uxoqRPrjOST gfBZpgtFGaO8OCqvg5HVEJp1GmvlX9dZv5EcQ= X-Google-DKIM-Signature: v=1; a=rsa-sha256; c=relaxed/relaxed; d=1e100.net; s=20230601; t=1752522100; x=1753126900; h=references:in-reply-to:cc:to:from:subject:message-id:date :x-gm-message-state:from:to:cc:subject:date:message-id:reply-to; bh=PMzCPgFqCiWTbotVw8HPw18hgdQz6edqeEWIivbsPOY=; b=YkqWGDqIzaP71ZfaHkmkzn2GtKjsWAaYZ81tE/B0YR2m6qBo55Kt3aNJMkTXwMxvh5 5WrtFvqbvqLnCmUTsSwaMVXsKVZWeNp1TZfeWdSyJM5/yLJboH/FSa5wX/0gl+j9djiP NEjyVefjAkjRgwXMuq+nTjB9yDfu1nykSh813gBLAyIREPAEpjl+Eqg1tVAJXNjFdUit ZLilTMTftoBNJJgjjdHPqdJ0m4D9sMkeEuOWiL3lqCS0CAJUPVFQv8wurV7wSebC+I0l YhCBw00y59Prigf8fupiKuWZI7oq2kdTmEtxVGQScB2PDBer0wuPVr6iThNn+C5Txjjj HcuQ== X-Gm-Message-State: AOJu0Yz2I65MDiGcOSDgRl4JF/vw5rzqGo/nhNrF4HrCl//icMRsHNBe kDtYaMqeaeOlgW/ZDg49QFxVDM9qYmRRSTN+StJAEGzgGLYqpB7SLdcGWXugfm1y61wiCy0zluf 9TV8ei1HjuSgFludDE7UIiKom52Z0iQdvCATnDdYo+wVZ X-Gm-Gg: ASbGncshF13GzSIN/AQLwPyl0BoW0p1C39kW/lV610YkwYw9hhLZzyYjvcQ7m24CHLA JBjpomh83fHysOqR52sItWHbpssqC/ti0J0o7RlaDg5AqwJPgBSw+oU1EeSooMpzzsxaGo0vt/8 QqBj6QYErHqAJAq/ItvvBTe8wKQPSUeKBJCkNJ9BiP0jkWcXHSs6a7S8oDORl11agGS4i0pqPKS 6ypDvkt/Mo+Ro/7P71xEvFK3Pkkbmb8SYodFvcTGqomeOaGxQjHJdCYpmyP9yEXdkRmA+PHoZDd et8KIWYk7QYD0BVyhUHxYp/Bj+vYdQPWyUqtG1JJZTvGdsD1gXT/T6pKQ6z+Zp7Tplzs1A1b X-Google-Smtp-Source: AGHT+IGg8DLZhiMsbUE02aer78RgmzeIbsO7fCwpIULMWF7N1g23xT6RGwJUW/bT6FJbbn6reOlAp4H34AzW X-Received: by 2002:a05:6870:2f11:b0:2da:843d:e530 with SMTP id 586e51a60fabf-2ff26f2d9a0mr10410029fac.2.1752522100698; Mon, 14 Jul 2025 12:41:40 -0700 (PDT) Received: from postal.iol.unh.edu (postal.iol.unh.edu. [132.177.123.84]) by smtp-relay.gmail.com with ESMTPS id 586e51a60fabf-2ff111c37cesm740234fac.8.2025.07.14.12.41.40 (version=TLS1_2 cipher=ECDHE-ECDSA-AES128-GCM-SHA256 bits=128/128); Mon, 14 Jul 2025 12:41:40 -0700 (PDT) X-Relaying-Domain: iol.unh.edu Date: Mon, 14 Jul 2025 12:41:40 -0700 (PDT) Message-ID: <68755d74.050a0220.cc577.7d83SMTPIN_ADDED_MISSING@mx.google.com> Received: from [172.21.0.6] (unknown [172.18.0.240]) by postal.iol.unh.edu (Postfix) with ESMTP id 2F6DC60003E7; Mon, 14 Jul 2025 15:41:40 -0400 (EDT) Subject: |SUCCESS| pw155204-155206 [PATCH] [v4,3/3] doc: revise coding guidel From: dpdklab@iol.unh.edu To: Test Report Cc: dpdk-test-reports@iol.unh.edu In-Reply-To: <20250714171346.564267-3-dmarx@iol.unh.edu> References: <20250714171346.564267-3-dmarx@iol.unh.edu> Content-Type: text/plain X-BeenThere: test-report@dpdk.org X-Mailman-Version: 2.1.29 Precedence: list List-Id: automatic DPDK test reports List-Unsubscribe: , List-Archive: List-Post: List-Help: List-Subscribe: , Errors-To: test-report-bounces@dpdk.org Test-Label: iol-abi-testing Test-Status: SUCCESS http://dpdk.org/patch/155206 _Testing PASS_ Submitter: Dean Marx Date: Monday, July 14 2025 17:13:44 DPDK git baseline: Repo:dpdk Branch: master CommitID:9fe9c0b231c8da5435bfccb1963121b4277f961c 155204-155206 --> testing pass Upstream job id: Generic-DPDK-Compile-ABI#134318 Test environment and result as below: +-------------------------------+----------+ | Environment | abi_test | +===============================+==========+ | Fedora Linux 41 | PASS | +-------------------------------+----------+ | Fedora Linux 40 | PASS | +-------------------------------+----------+ | Debian GNU/Linux 12 | PASS | +-------------------------------+----------+ | Ubuntu 22.04 | PASS | +-------------------------------+----------+ | CentOS Stream 9 | PASS | +-------------------------------+----------+ | Red Hat Enterprise Linux 8.10 | PASS | +-------------------------------+----------+ | openSUSE Leap 15.6 | PASS | +-------------------------------+----------+ | Red Hat Enterprise Linux 9.5 | PASS | +-------------------------------+----------+ | Ubuntu 24.04 | PASS | +-------------------------------+----------+ | CentOS Stream 10 | PASS | +-------------------------------+----------+ Fedora Linux 41 Kernel: 5.15 Compiler: clang gcc (GCC) 14.3.1 20250523 (Red Hat 14.3.1-1) Fedora Linux 40 Kernel: 5.15 Compiler: clang gcc (GCC) 14.2.1 20240912 (Red Hat 14.2.1-3) Debian GNU/Linux 12 Kernel: 5.15 Compiler: gcc gcc (Debian 12.2.0-14+deb12u1) 12.2.0 Ubuntu 22.04 Kernel: 5.15 Compiler: gcc gcc (Ubuntu 11.4.0-1ubuntu1~22.04) 11.4.0 CentOS Stream 9 Kernel: 5.15 Compiler: gcc gcc (GCC) 11.5.0 20240719 (Red Hat 11.5.0-7) Red Hat Enterprise Linux 8.10 Kernel: 5.15 Compiler: gcc gcc (GCC) 8.5.0 20210514 (Red Hat 8.5.0-22) openSUSE Leap 15.6 Kernel: 5.15 Compiler: gcc gcc (SUSE Linux) 7.5.0 Red Hat Enterprise Linux 9.5 Kernel: 5.15 Compiler: gcc gcc (GCC) 11.5.0 20240719 (Red Hat 11.5.0-2) Ubuntu 24.04 Kernel: 5.15 Compiler: gcc gcc (Ubuntu 13.3.0-6ubuntu2~24.04) 13.3.0 CentOS Stream 10 Kernel: 5.15 Compiler: gcc gcc (GCC) 14.2.1 20250110 (Red Hat 14.2.1-8) To view detailed results, visit: https://lab.dpdk.org/results/dashboard/patchsets/33651/ UNH-IOL DPDK Community Lab To manage your email subscriptions, visit: https://lab.dpdk.org/results/dashboard/preferences/subscriptions/