From mboxrd@z Thu Jan 1 00:00:00 1970 Return-Path: Received: from mails.dpdk.org (mails.dpdk.org [217.70.189.124]) by inbox.dpdk.org (Postfix) with ESMTP id A498746B74 for ; Mon, 14 Jul 2025 21:51:57 +0200 (CEST) Received: from mails.dpdk.org (localhost [127.0.0.1]) by mails.dpdk.org (Postfix) with ESMTP id 831C34026B; Mon, 14 Jul 2025 21:51:57 +0200 (CEST) Received: from mail-il1-f226.google.com (mail-il1-f226.google.com [209.85.166.226]) by mails.dpdk.org (Postfix) with ESMTP id 13AD34026B for ; Mon, 14 Jul 2025 21:51:57 +0200 (CEST) Received: by mail-il1-f226.google.com with SMTP id e9e14a558f8ab-3de2b02c69eso27194075ab.1 for ; Mon, 14 Jul 2025 12:51:56 -0700 (PDT) DKIM-Signature: v=1; a=rsa-sha256; c=relaxed/relaxed; d=iol.unh.edu; s=unh-iol; t=1752522716; x=1753127516; darn=dpdk.org; h=references:in-reply-to:cc:to:from:subject:message-id:date:from:to :cc:subject:date:message-id:reply-to; bh=9ZSXCI/2DYDqTjJE+S8TDcv8WAckqIO2PkQMsh1Gg6A=; b=QO5/49rV+3ceevWxVWrtVBkCw6uNxbDo4225rTqxFLn289il3Kx+3vBYTJLkciszkf g/24Zs+G/aNFZPPkiT4uJ5vPu9Cz5FUUtKLa9moGZ5fwG2tHewnE1S6GLuIpnBSXKbhb bUbuIApjaOF5I2JM+ZOVtsLEAkHiREQ/22Beo= X-Google-DKIM-Signature: v=1; a=rsa-sha256; c=relaxed/relaxed; d=1e100.net; s=20230601; t=1752522716; x=1753127516; h=references:in-reply-to:cc:to:from:subject:message-id:date :x-gm-message-state:from:to:cc:subject:date:message-id:reply-to; bh=9ZSXCI/2DYDqTjJE+S8TDcv8WAckqIO2PkQMsh1Gg6A=; b=F1fsc30ttUeeznTDwXYj8odhzwVW3bM2pagoUY7Ygwanv6yoUxsEZLFyaafpG/IZVQ Bul95csFLNpM51K9GjySOOQkzIRX4NLwUmb4DQrqcuVaifv7H2WSJlWSrMrX0zttJJYf aWN2xC0908js17zKMS45A80Zn34T4Kt4QIBK5lI8pOx7NNi22Yp5wM4hnjb/icjnEJpS IojW7zRsByTxivmaSrEEn+/Jl+ZoperLJIeMcv2af/r78Yi2ykzSq0eBhsCJikYvDjWB 1Bojq1C6sVl8SbffcJD09EdPPK2wmy7/Z9UmYPU0Tqt9H2k4vG7PDCkElkm9/YfeUJ7f 4U1Q== X-Gm-Message-State: AOJu0Yz1ugdP8tgE/PP3HvR6jibgZlNoAJyyfLuk1GuNZQXUYjmb3vPn +GihH31UX7fqe3dzfUiF3TpeJ3rh0DUZgZkuRYQb5OjgPoHIVwxaV72hqjS8WI6MdjWVQq3Jp1K WP0hveDRUKcFdwZqOxsBgGAISpl/0yCBkIlDYkStWgZm6zI36UVBKi5p9CRM+ X-Gm-Gg: ASbGnctOBzL1nQemr3q/Ctg3XiGdEnA0xfiv+YpSliPnHZrTUlT95tesuhhgqcsDGZf ySYbxbGSHcxKrplRavwoWGpfzeyVhf34qZRTrDl328edA5IUBqYlrY8jx7dAeLDhNMeQiIT29bF iy5ngq0poVq6db11q1Uvm69zgtrirR8dQxm22a9JHul/inqfT7e0xO3IfI5bzf52RCeG2O+Wmw1 HYWbRFiFFQYCf2YNpFRv4Aox0zAiN8EpuiA2NgaEq4l1McFPLVEsO7UOzoTXAjPWvoJZKPIR4cL Sho5tc59tLiQKGM0Her24Dylo8fuM9t0OgGhCBWMyqacK1RuOg== X-Google-Smtp-Source: AGHT+IHRZ2irsEAQTQR4H18xHLUdTnRO32Q26VMowis8dVTOdGxkp3Kd5GptzlrHk1GMnchASGklXcnrkXLd X-Received: by 2002:a05:6e02:1a0a:b0:3df:45bb:28fe with SMTP id e9e14a558f8ab-3e2541dc8c3mr132951895ab.1.1752522716260; Mon, 14 Jul 2025 12:51:56 -0700 (PDT) Received: from postal.iol.unh.edu (postal.iol.unh.edu. [2606:4100:3880:1234::84]) by smtp-relay.gmail.com with ESMTPS id e9e14a558f8ab-3e2461f960esm6269885ab.37.2025.07.14.12.51.56 (version=TLS1_2 cipher=ECDHE-ECDSA-AES128-GCM-SHA256 bits=128/128); Mon, 14 Jul 2025 12:51:56 -0700 (PDT) X-Relaying-Domain: iol.unh.edu Date: Mon, 14 Jul 2025 12:51:56 -0700 (PDT) Message-ID: <68755fdc.050a0220.23c976.2e1aSMTPIN_ADDED_MISSING@mx.google.com> Received: from [172.21.0.5] (unknown [172.18.0.240]) by postal.iol.unh.edu (Postfix) with ESMTP id DEFF16051830; Mon, 14 Jul 2025 15:51:55 -0400 (EDT) Subject: |SUCCESS| pw155203 [PATCH] net/ice: fix VLAN tag reporting on Rx From: dpdklab@iol.unh.edu To: Test Report Cc: dpdk-test-reports@iol.unh.edu In-Reply-To: <20250714161050.289375-1-bruce.richardson@intel.com> References: <20250714161050.289375-1-bruce.richardson@intel.com> Content-Type: text/plain X-BeenThere: test-report@dpdk.org X-Mailman-Version: 2.1.29 Precedence: list List-Id: automatic DPDK test reports List-Unsubscribe: , List-Archive: List-Post: List-Help: List-Subscribe: , Errors-To: test-report-bounces@dpdk.org Test-Label: iol-unit-arm64-testing Test-Status: SUCCESS http://dpdk.org/patch/155203 _Testing PASS_ Submitter: Bruce Richardson Date: Monday, July 14 2025 16:10:50 DPDK git baseline: Repo:dpdk Branch: master CommitID:a6b10031d251fcc7dadede461f7e1d005024b139 155203 --> testing pass Upstream job id: Generic-Unit-Test-DPDK#355305 Test environment and result as below: +------------------------------+--------------+------------------------------+---------------------------+----------------+ | Environment | lpm_autotest | cryptodev_sw_snow3g_autotest | cryptodev_sw_zuc_autotest | dpdk_unit_test | +==============================+==============+==============================+===========================+================+ | Ubuntu 20.04 | PASS | SKIPPED | SKIPPED | PASS | +------------------------------+--------------+------------------------------+---------------------------+----------------+ | Debian 12 (arm) | SKIPPED | PASS | PASS | SKIPPED | +------------------------------+--------------+------------------------------+---------------------------+----------------+ | CentOS Stream 10 | SKIPPED | SKIPPED | SKIPPED | PASS | +------------------------------+--------------+------------------------------+---------------------------+----------------+ | CentOS Stream 9 | SKIPPED | SKIPPED | SKIPPED | PASS | +------------------------------+--------------+------------------------------+---------------------------+----------------+ | Debian GNU/Linux 12 | SKIPPED | SKIPPED | SKIPPED | PASS | +------------------------------+--------------+------------------------------+---------------------------+----------------+ | Fedora Linux 40 | SKIPPED | SKIPPED | SKIPPED | PASS | +------------------------------+--------------+------------------------------+---------------------------+----------------+ | Fedora Linux 41 | SKIPPED | SKIPPED | SKIPPED | PASS | +------------------------------+--------------+------------------------------+---------------------------+----------------+ | Red Hat Enterprise Linux 9.5 | SKIPPED | SKIPPED | SKIPPED | PASS | +------------------------------+--------------+------------------------------+---------------------------+----------------+ | Ubuntu 24.04 | SKIPPED | SKIPPED | SKIPPED | PASS | +------------------------------+--------------+------------------------------+---------------------------+----------------+ | Ubuntu 22.04 | SKIPPED | SKIPPED | SKIPPED | PASS | +------------------------------+--------------+------------------------------+---------------------------+----------------+ Ubuntu 20.04 Kernel: 5.4 Compiler: gcc gcc (Ubuntu 9.4.0-1ubuntu1~20.04.2) 9.4.0 Debian 12 (arm) Kernel: Depends on container host Compiler: gcc (Debian 12.2.0-14) 12.2.0 CentOS Stream 10 Kernel: 5.4 Compiler: gcc gcc (GCC) 14.2.1 20250110 (Red Hat 14.2.1-8) CentOS Stream 9 Kernel: 5.4 Compiler: gcc gcc (GCC) 11.5.0 20240719 (Red Hat 11.5.0-7) Debian GNU/Linux 12 Kernel: 5.4 Compiler: gcc gcc (Debian 12.2.0-14+deb12u1) 12.2.0 Fedora Linux 40 Kernel: 5.4 Compiler: gcc gcc (GCC) 14.2.1 20240912 (Red Hat 14.2.1-3) Fedora Linux 41 Kernel: 5.4 Compiler: gcc gcc (GCC) 14.3.1 20250523 (Red Hat 14.3.1-1) Red Hat Enterprise Linux 9.5 Kernel: 5.4 Compiler: gcc gcc (GCC) 11.5.0 20240719 (Red Hat 11.5.0-2) Ubuntu 24.04 Kernel: 5.4 Compiler: gcc gcc (Ubuntu 13.3.0-6ubuntu2~24.04) 13.3.0 Ubuntu 22.04 Kernel: 5.4 Compiler: gcc gcc (Ubuntu 11.4.0-1ubuntu1~22.04) 11.4.0 To view detailed results, visit: https://lab.dpdk.org/results/dashboard/patchsets/33650/ UNH-IOL DPDK Community Lab To manage your email subscriptions, visit: https://lab.dpdk.org/results/dashboard/preferences/subscriptions/