From mboxrd@z Thu Jan 1 00:00:00 1970 Return-Path: Received: from mails.dpdk.org (mails.dpdk.org [217.70.189.124]) by inbox.dpdk.org (Postfix) with ESMTP id 7C3F946B75 for ; Mon, 14 Jul 2025 22:00:12 +0200 (CEST) Received: from mails.dpdk.org (localhost [127.0.0.1]) by mails.dpdk.org (Postfix) with ESMTP id 76F4F4026B; Mon, 14 Jul 2025 22:00:12 +0200 (CEST) Received: from mail-yw1-f226.google.com (mail-yw1-f226.google.com [209.85.128.226]) by mails.dpdk.org (Postfix) with ESMTP id B32564026B for ; Mon, 14 Jul 2025 22:00:11 +0200 (CEST) Received: by mail-yw1-f226.google.com with SMTP id 00721157ae682-710e344bbf9so46016187b3.2 for ; Mon, 14 Jul 2025 13:00:11 -0700 (PDT) DKIM-Signature: v=1; a=rsa-sha256; c=relaxed/relaxed; d=iol.unh.edu; s=unh-iol; t=1752523211; x=1753128011; darn=dpdk.org; h=references:in-reply-to:cc:to:from:subject:message-id:date:from:to :cc:subject:date:message-id:reply-to; bh=fIZONrhjFJ7XQbuJj1tSB3GCHdp7u85pqMDiETmGUsc=; b=bFwEAtA4o7RdmrPZGcoVyyiVZqUyEjKn+8/sDhQptV6x2sj4sMMuWgqcswS6TSs1xi gWN4vGll0qgSF08tnCB0xxi7cDN2U0yvM+HwM8OGqT1YfLDrF39/9AGqa1Z2fePYdZ6e LNsyCOxuHW9HF++5yyLKCXBj8FkF/c7luUjSs= X-Google-DKIM-Signature: v=1; a=rsa-sha256; c=relaxed/relaxed; d=1e100.net; s=20230601; t=1752523211; x=1753128011; h=references:in-reply-to:cc:to:from:subject:message-id:date :x-gm-message-state:from:to:cc:subject:date:message-id:reply-to; bh=fIZONrhjFJ7XQbuJj1tSB3GCHdp7u85pqMDiETmGUsc=; b=FHVn1QzaXqjRHBkMJqVMu2LhkNP14a9vLV4WeAdUBt5a/qMyr/Zzz/R3Rw1OZUhnO8 3Lv7O9Qlz/XYNsLjxW4z7jUFrIHEVtGEcqJO7qrE+Qoybfz8m9i43zsuTW6LVAIM8FR+ 5MWWBQTaNEK/g0rk/PTZTGAoUL5cm6U4Ki3GHxPc/z3vo7bk4Tf4MyzWNkaQz3/4ky/3 wbjiIV2dBJzvOI+aoFs1v5LZBeqroLeQQ5N+2H7WgolsmtnpjdO092CSnU87gLt1uuxJ 63E/gve+PVMkW7dVq5YeOL2r7UmvlFbMYWn64WJ/U4Qnnqft2JBeI5XBBk+TeqFJh/aa T1Xg== X-Gm-Message-State: AOJu0YyLjmftYeKwHkYt8SEA5YOA/3V1j04IuEkGDa76FERiXRjxqhM4 6ELwsisKV6Ggryk7Uyg8OsfjmW++UFJUpBgL0muFcvo2uZyW/mq272Wa0YWM5htt+XqEPU/f0XA 9UOjLaw6xXuaEd1EGjTxZaTXMPBJs8lbRp8uIUHgoX95JNR4U3K7F7g2GizaA X-Gm-Gg: ASbGnct4pc091rwEZDWkiIdwXZIEUy8Ru3Ji99K9hf1xv5H7BF4t5/+XRKg5QidQT7g dpYffm9Wu7WlUpO8WqU9muU08AWbVrPTt7700vYr6J1h5LY4GdlAe0UH8AwuoLh5aiYUFpaB/aJ eA+7SNiHlptCKu4w4P12FMI9H4ImbuoNPmVaporBOnKvvffACH1vDAbeXyN4nRA8/LuiTpNUSQt +gsqlK1xUDn4Z9JDdl50b+T8dgaHL9opAJYxRBBWl3iWpos5k8HB+ogMiXMO/cFZ+bks/KqHv1d 8ybQ6ChJOwAXKQnTlyB2ZO6+dwiQ9m+Sf+vB9ZyEP0mrl1R5PA== X-Google-Smtp-Source: AGHT+IE95q30iPcRo4OSn7s6uolGef9W8blQKzcuMFIbWA3TOiYblMztOzIAONnx3YHzUIH2yqJsXL/4df02 X-Received: by 2002:a05:690c:a91:b0:70f:83ef:de07 with SMTP id 00721157ae682-717d7a88265mr216662477b3.33.1752523210863; Mon, 14 Jul 2025 13:00:10 -0700 (PDT) Received: from postal.iol.unh.edu (postal.iol.unh.edu. [2606:4100:3880:1234::84]) by smtp-relay.gmail.com with ESMTPS id 3f1490d57ef6-e8b7ae66b25sm547757276.6.2025.07.14.13.00.10 (version=TLS1_2 cipher=ECDHE-ECDSA-AES128-GCM-SHA256 bits=128/128); Mon, 14 Jul 2025 13:00:10 -0700 (PDT) X-Relaying-Domain: iol.unh.edu Date: Mon, 14 Jul 2025 13:00:10 -0700 (PDT) Message-ID: <687561ca.250a0220.1fe411.db9bSMTPIN_ADDED_MISSING@mx.google.com> Received: from [172.21.0.6] (unknown [172.18.0.240]) by postal.iol.unh.edu (Postfix) with ESMTP id 807C46051830; Mon, 14 Jul 2025 16:00:10 -0400 (EDT) Subject: |SUCCESS| pw155204-155206 [PATCH] [v4,3/3] doc: revise coding guidel From: dpdklab@iol.unh.edu To: Test Report Cc: dpdk-test-reports@iol.unh.edu In-Reply-To: <20250714171346.564267-3-dmarx@iol.unh.edu> References: <20250714171346.564267-3-dmarx@iol.unh.edu> Content-Type: text/plain X-BeenThere: test-report@dpdk.org X-Mailman-Version: 2.1.29 Precedence: list List-Id: automatic DPDK test reports List-Unsubscribe: , List-Archive: List-Post: List-Help: List-Subscribe: , Errors-To: test-report-bounces@dpdk.org Test-Label: iol-unit-amd64-testing Test-Status: SUCCESS http://dpdk.org/patch/155206 _Testing PASS_ Submitter: Dean Marx Date: Monday, July 14 2025 17:13:44 DPDK git baseline: Repo:dpdk Branch: master CommitID:9fe9c0b231c8da5435bfccb1963121b4277f961c 155204-155206 --> testing pass Upstream job id: Generic-Unit-Test-DPDK#355339 Test environment and result as below: +-------------------------------+----------------+ | Environment | dpdk_unit_test | +===============================+================+ | Fedora Linux 41 | PASS | +-------------------------------+----------------+ | CentOS Stream 9 | PASS | +-------------------------------+----------------+ | Fedora Linux 40 | PASS | +-------------------------------+----------------+ | CentOS Stream 10 | PASS | +-------------------------------+----------------+ | Red Hat Enterprise Linux 8.10 | PASS | +-------------------------------+----------------+ | Red Hat Enterprise Linux 9.5 | PASS | +-------------------------------+----------------+ | Debian GNU/Linux 12 | PASS | +-------------------------------+----------------+ | Ubuntu 22.04 | PASS | +-------------------------------+----------------+ | Ubuntu 20.04 | PASS | +-------------------------------+----------------+ | Ubuntu 24.04 | PASS | +-------------------------------+----------------+ | Windows Server 2022 | PASS | +-------------------------------+----------------+ Fedora Linux 41 Kernel: 5.15 Compiler: clang gcc (GCC) 14.3.1 20250523 (Red Hat 14.3.1-1) CentOS Stream 9 Kernel: 5.15 Compiler: gcc gcc (GCC) 11.5.0 20240719 (Red Hat 11.5.0-7) Fedora Linux 40 Kernel: 5.15 Compiler: gcc gcc (GCC) 14.2.1 20240912 (Red Hat 14.2.1-3) CentOS Stream 10 Kernel: 5.15 Compiler: gcc gcc (GCC) 14.2.1 20250110 (Red Hat 14.2.1-8) Red Hat Enterprise Linux 8.10 Kernel: 5.15 Compiler: gcc gcc (GCC) 8.5.0 20210514 (Red Hat 8.5.0-22) Red Hat Enterprise Linux 9.5 Kernel: 5.15 Compiler: gcc gcc (GCC) 11.5.0 20240719 (Red Hat 11.5.0-2) Debian GNU/Linux 12 Kernel: 5.15 Compiler: gcc gcc (Debian 12.2.0-14+deb12u1) 12.2.0 Ubuntu 22.04 Kernel: 5.15 Compiler: gcc gcc (Ubuntu 11.4.0-1ubuntu1~22.04) 11.4.0 Ubuntu 20.04 Kernel: 5.15 Compiler: gcc gcc (Ubuntu 9.4.0-1ubuntu1~20.04.2) 9.4.0 Ubuntu 24.04 Kernel: 5.15 Compiler: gcc gcc (Ubuntu 13.3.0-6ubuntu2~24.04) 13.3.0 Windows Server 2022 Kernel: 10.0.20348.2031 Compiler: clang 15.0.7, gcc 14.1.0 (MinGW), and MSVC VS 19.39.33521 To view detailed results, visit: https://lab.dpdk.org/results/dashboard/patchsets/33651/ UNH-IOL DPDK Community Lab To manage your email subscriptions, visit: https://lab.dpdk.org/results/dashboard/preferences/subscriptions/