From mboxrd@z Thu Jan 1 00:00:00 1970 Return-Path: Received: from mails.dpdk.org (mails.dpdk.org [217.70.189.124]) by inbox.dpdk.org (Postfix) with ESMTP id 567C046B75 for ; Mon, 14 Jul 2025 22:08:12 +0200 (CEST) Received: from mails.dpdk.org (localhost [127.0.0.1]) by mails.dpdk.org (Postfix) with ESMTP id 50FA24026B; Mon, 14 Jul 2025 22:08:12 +0200 (CEST) Received: from mail-pf1-f227.google.com (mail-pf1-f227.google.com [209.85.210.227]) by mails.dpdk.org (Postfix) with ESMTP id D7BCA4026B for ; Mon, 14 Jul 2025 22:08:10 +0200 (CEST) Received: by mail-pf1-f227.google.com with SMTP id d2e1a72fcca58-74b50c71b0aso2694578b3a.0 for ; Mon, 14 Jul 2025 13:08:10 -0700 (PDT) DKIM-Signature: v=1; a=rsa-sha256; c=relaxed/relaxed; d=iol.unh.edu; s=unh-iol; t=1752523690; x=1753128490; darn=dpdk.org; h=references:in-reply-to:cc:to:from:subject:message-id:date:from:to :cc:subject:date:message-id:reply-to; bh=4ZSux4DYhx7j36o4rKH3l0DwOIISHYzjc9pVYAzT5Do=; b=TtiP4tZZywZn60j1Z4NZFWHRfAy2pQ/3pDFmx1a+yQgsJyol19B6LtUY79q07YjHW4 0tp6+408dvvkUKuA/QgTERylEOkKjdMmqhZaV50y1uhJ1gi5cTNuuEwmcgpsaLPbTxLj HcxjmeRPgpQaB7z2Y0Ucd/l6/JWi9nHdmCRwA= X-Google-DKIM-Signature: v=1; a=rsa-sha256; c=relaxed/relaxed; d=1e100.net; s=20230601; t=1752523690; x=1753128490; h=references:in-reply-to:cc:to:from:subject:message-id:date :x-gm-message-state:from:to:cc:subject:date:message-id:reply-to; bh=4ZSux4DYhx7j36o4rKH3l0DwOIISHYzjc9pVYAzT5Do=; b=QPONhqnzuaF3eWEkAJu/IGjnFFbvQSyTCO3Pog87epFr1fRR+K+lkVX1dfzreSyimk BPLCYxkar5op3d9fC0hFU1lxbvEk8D6rGDGfuKH+PRLcwEJKYj/GM1F0L3fERbO5QpRV VM+D34hypO1PLQs6uhm3rmvz+orHVPoe4AFEkYp0p811BCGGhDne5NEOUnKB8AE8FDqf Ec5KfB9/ggheewW8bdLb4w3WOe+jY9uxet1T6trnTzuyoQJhZxHL+UU9nUqAcqAQXE1c Al9/I2fMPBVZzvszhGT1d8OA5lq4ns7bkWw7Ud/cq74rKigB4qbTEgBRwFCkIH1M3ssi ZejQ== X-Gm-Message-State: AOJu0YwthMxb2boKrdofIBSNJ+lO2PAIA5K2RU82Km3oDL4CyYps1QiC 1Id9JI+zCWZ629dkZYKgtB1fGjz/l5a5HrhVE1BBCylRN2u2FygUQZL5dZNPibFoRapCx6APHkq 7vw/Cr6264my4nfh99KcG/9vuCJ4gR5YMl2dZ29wBajHc X-Gm-Gg: ASbGncuVGfGBDBLwf9mcjVzgX9vflVDeY5w0JjBrN2xXu4zmnrJZ2TlZbro5X1BfeiA dN71aaj2LOdH1z8utlwV7uRNxrP7sdL9KGd17LwLEe1iy68z1PfMpbpY7/mIYkyx82EPqjLVqWq kI2sNubvHqyzjSA1EoEa/2jcWHuDWXLPDYZEj51ZLzv+J44KwZFPxLg2eQNzkoXGQqo1Vxb1ioT U4kFJ5MPwQ8ecu4+JVEHUYcmAssCJur2MjkEIaZb9IwIXhhthqrMA6EwujWDN6UFJqRa/63n7YK s1IzxQMHAB22JC33qjsb7CA+vYX3US3Atusc1sDm6j+lJOi9rYr6Nlb7m5GE7vK0GEA3AXwv X-Google-Smtp-Source: AGHT+IG2kApSG1aYv7665dlbCoToA31vtkZlMkOYDHPSrAhmNJxMtaSKxRx5csIsLkos0aPPgNnAN+RfGsff X-Received: by 2002:a05:6a00:1905:b0:736:d297:164 with SMTP id d2e1a72fcca58-74ee03a0d90mr20483213b3a.1.1752523689817; Mon, 14 Jul 2025 13:08:09 -0700 (PDT) Received: from postal.iol.unh.edu (postal.iol.unh.edu. [132.177.123.84]) by smtp-relay.gmail.com with ESMTPS id d2e1a72fcca58-74eb9f902casm628234b3a.22.2025.07.14.13.08.09 (version=TLS1_2 cipher=ECDHE-ECDSA-AES128-GCM-SHA256 bits=128/128); Mon, 14 Jul 2025 13:08:09 -0700 (PDT) X-Relaying-Domain: iol.unh.edu Date: Mon, 14 Jul 2025 13:08:09 -0700 (PDT) Message-ID: <687563a9.050a0220.1c7a.2a33SMTPIN_ADDED_MISSING@mx.google.com> Received: from [172.21.0.5] (unknown [172.18.0.240]) by postal.iol.unh.edu (Postfix) with ESMTP id 412726051830; Mon, 14 Jul 2025 16:08:09 -0400 (EDT) Subject: |SUCCESS| pw155204-155206 [PATCH] [v4,3/3] doc: revise coding guidel From: dpdklab@iol.unh.edu To: Test Report Cc: dpdk-test-reports@iol.unh.edu In-Reply-To: <20250714171346.564267-3-dmarx@iol.unh.edu> References: <20250714171346.564267-3-dmarx@iol.unh.edu> Content-Type: text/plain X-BeenThere: test-report@dpdk.org X-Mailman-Version: 2.1.29 Precedence: list List-Id: automatic DPDK test reports List-Unsubscribe: , List-Archive: List-Post: List-Help: List-Subscribe: , Errors-To: test-report-bounces@dpdk.org Test-Label: iol-compile-amd64-testing Test-Status: SUCCESS http://dpdk.org/patch/155206 _Testing PASS_ Submitter: Dean Marx Date: Monday, July 14 2025 17:13:44 DPDK git baseline: Repo:dpdk Branch: master CommitID:9fe9c0b231c8da5435bfccb1963121b4277f961c 155204-155206 --> testing pass Upstream job id: Generic-DPDK-Compile-Meson#408650 Test environment and result as below: +-------------------------------+--------------------+-------------------+------------------+-------------------------+-------------------+----------------------+ | Environment | dpdk_meson_compile | dpdk_compile_spdk | dpdk_compile_ovs | dpdk_llvm_clang_compile | dpdk_msvc_compile | dpdk_mingw64_compile | +===============================+====================+===================+==================+=========================+===================+======================+ | CentOS Stream 10 | PASS | SKIPPED | SKIPPED | SKIPPED | SKIPPED | SKIPPED | +-------------------------------+--------------------+-------------------+------------------+-------------------------+-------------------+----------------------+ | Fedora Linux 40 | PASS | PASS | SKIPPED | SKIPPED | SKIPPED | SKIPPED | +-------------------------------+--------------------+-------------------+------------------+-------------------------+-------------------+----------------------+ | Fedora Linux 41 | PASS | PASS | PASS | SKIPPED | SKIPPED | SKIPPED | +-------------------------------+--------------------+-------------------+------------------+-------------------------+-------------------+----------------------+ | Red Hat Enterprise Linux 8.10 | PASS | SKIPPED | SKIPPED | SKIPPED | SKIPPED | SKIPPED | +-------------------------------+--------------------+-------------------+------------------+-------------------------+-------------------+----------------------+ | openSUSE Leap 15.6 | PASS | SKIPPED | SKIPPED | SKIPPED | SKIPPED | SKIPPED | +-------------------------------+--------------------+-------------------+------------------+-------------------------+-------------------+----------------------+ | Red Hat Enterprise Linux 9.5 | PASS | SKIPPED | SKIPPED | SKIPPED | SKIPPED | SKIPPED | +-------------------------------+--------------------+-------------------+------------------+-------------------------+-------------------+----------------------+ | Ubuntu 20.04 | PASS | SKIPPED | SKIPPED | SKIPPED | SKIPPED | SKIPPED | +-------------------------------+--------------------+-------------------+------------------+-------------------------+-------------------+----------------------+ | Ubuntu 22.04 | PASS | PASS | SKIPPED | SKIPPED | SKIPPED | SKIPPED | +-------------------------------+--------------------+-------------------+------------------+-------------------------+-------------------+----------------------+ | Ubuntu 24.04 | PASS | PASS | PASS | SKIPPED | SKIPPED | SKIPPED | +-------------------------------+--------------------+-------------------+------------------+-------------------------+-------------------+----------------------+ | Alpine Linux 3.22.0 | PASS | SKIPPED | SKIPPED | SKIPPED | SKIPPED | SKIPPED | +-------------------------------+--------------------+-------------------+------------------+-------------------------+-------------------+----------------------+ | FreeBSD 14.2 | PASS | SKIPPED | SKIPPED | SKIPPED | SKIPPED | SKIPPED | +-------------------------------+--------------------+-------------------+------------------+-------------------------+-------------------+----------------------+ | CentOS Stream 9 | PASS | PASS | SKIPPED | SKIPPED | SKIPPED | SKIPPED | +-------------------------------+--------------------+-------------------+------------------+-------------------------+-------------------+----------------------+ | Debian GNU/Linux 12 | PASS | PASS | SKIPPED | SKIPPED | SKIPPED | SKIPPED | +-------------------------------+--------------------+-------------------+------------------+-------------------------+-------------------+----------------------+ | Windows Server 2022 | SKIPPED | SKIPPED | SKIPPED | PASS | PASS | PASS | +-------------------------------+--------------------+-------------------+------------------+-------------------------+-------------------+----------------------+ CentOS Stream 10 Kernel: 5.15 Compiler: gcc gcc (GCC) 14.2.1 20250110 (Red Hat 14.2.1-8) Fedora Linux 40 Kernel: 5.15 Compiler: clang gcc (GCC) 14.2.1 20240912 (Red Hat 14.2.1-3) Fedora Linux 41 Kernel: 5.15 Compiler: clang gcc (GCC) 14.3.1 20250523 (Red Hat 14.3.1-1) Red Hat Enterprise Linux 8.10 Kernel: 5.15 Compiler: gcc gcc (GCC) 8.5.0 20210514 (Red Hat 8.5.0-22) openSUSE Leap 15.6 Kernel: 5.15 Compiler: gcc gcc (SUSE Linux) 7.5.0 Red Hat Enterprise Linux 9.5 Kernel: 5.15 Compiler: gcc gcc (GCC) 11.5.0 20240719 (Red Hat 11.5.0-2) Ubuntu 20.04 Kernel: 5.15 Compiler: gcc gcc (Ubuntu 9.4.0-1ubuntu1~20.04.2) 9.4.0 Ubuntu 22.04 Kernel: 5.15 Compiler: gcc gcc (Ubuntu 11.4.0-1ubuntu1~22.04) 11.4.0 Ubuntu 24.04 Kernel: 5.15 Compiler: gcc gcc (Ubuntu 13.3.0-6ubuntu2~24.04) 13.3.0 Alpine Linux 3.22.0 Kernel: 5.15 Compiler: gcc gcc (Alpine 14.2.0) 14.2.0 FreeBSD 14.2 Kernel: 14.2-RELEASE Compiler: clang 18.1.6 CentOS Stream 9 Kernel: 5.15 Compiler: gcc gcc (GCC) 11.5.0 20240719 (Red Hat 11.5.0-7) Debian GNU/Linux 12 Kernel: 5.15 Compiler: gcc gcc (Debian 12.2.0-14+deb12u1) 12.2.0 Windows Server 2022 Kernel: 10.0.20348.2031 Compiler: clang 15.0.7, gcc 14.1.0 (MinGW), and MSVC VS 19.39.33521 To view detailed results, visit: https://lab.dpdk.org/results/dashboard/patchsets/33651/ UNH-IOL DPDK Community Lab To manage your email subscriptions, visit: https://lab.dpdk.org/results/dashboard/preferences/subscriptions/