From mboxrd@z Thu Jan 1 00:00:00 1970 Return-Path: Received: from mails.dpdk.org (mails.dpdk.org [217.70.189.124]) by inbox.dpdk.org (Postfix) with ESMTP id C3D0A46B75 for ; Mon, 14 Jul 2025 22:33:44 +0200 (CEST) Received: from mails.dpdk.org (localhost [127.0.0.1]) by mails.dpdk.org (Postfix) with ESMTP id B00564013F; Mon, 14 Jul 2025 22:33:44 +0200 (CEST) Received: from mail-oa1-f100.google.com (mail-oa1-f100.google.com [209.85.160.100]) by mails.dpdk.org (Postfix) with ESMTP id 74F0B4013F for ; Mon, 14 Jul 2025 22:33:43 +0200 (CEST) Received: by mail-oa1-f100.google.com with SMTP id 586e51a60fabf-2eff5d1c7efso3008008fac.2 for ; Mon, 14 Jul 2025 13:33:43 -0700 (PDT) DKIM-Signature: v=1; a=rsa-sha256; c=relaxed/relaxed; d=iol.unh.edu; s=unh-iol; t=1752525222; x=1753130022; darn=dpdk.org; h=references:in-reply-to:cc:to:from:subject:message-id:date:from:to :cc:subject:date:message-id:reply-to; bh=UB9HuAS5BZXAJ49AnAspTxqIYkgEIY6BWwNVkPuau1Q=; b=QPaSfNsgHXWp8J+P7QN6VndNvLGCQvhc/Qnsa8JVJMImTH3T+fDuGajOjgh9NqkKVc w8KCueUty8wA2TNAnEONkCpNyFGQD1+viy66XQFXdH9Zz/2CV0kvKzz1RraevgG7iXPC opv61t4Gu4jwnIycM5GqMkYwJ2EXjnEyKQ0V0= X-Google-DKIM-Signature: v=1; a=rsa-sha256; c=relaxed/relaxed; d=1e100.net; s=20230601; t=1752525222; x=1753130022; h=references:in-reply-to:cc:to:from:subject:message-id:date :x-gm-message-state:from:to:cc:subject:date:message-id:reply-to; bh=UB9HuAS5BZXAJ49AnAspTxqIYkgEIY6BWwNVkPuau1Q=; b=i5ijLOA7OSlbkL31MbJdSaT4hoskN/O8Wo8+oNPuOW0xlesDG3nFoAVChL3hIw/BmP 1i6AJ4dnJmYbPVZWVQlaooHG5cB8Yr/3R6nPpumd6nW3r0smu22tfBIUrg4j+nWsVQqZ 4FAb40EgQgUvjADWwQfXWxNSBfHDmGvr8MzZpQnTySGmnj2jwYetHUo1GbRQRJV14Ncf fWjkyDnb8QGKkUp2JxVNaCF3/r16opiUaB/VzQcPN+RiftDJxfw3RwNWyJIbnnpVRlnt VT7eAcVQj0PYtDK3gqbKKSErXIHwBcp4ffDT4OthHl0w3QwybrnFnUZ/F/2YSfEwP1ja VK3A== X-Gm-Message-State: AOJu0Yx38BKZ9oU3zofD/hz+DxhimNUYpY9TN+YcwI1PtZCFeMoTmv5J XnrwV+LCYhT1vU5FVq70tpy7uu+aYOD+YfIa/ApgZ1JzCXFz3wIoLtbyIrIFmmTUBDZCzVQC9NB oDQuvth98QKudkYQyIpseSODNecgJbtbbQusJ3cXCAPtB X-Gm-Gg: ASbGnctuPklzpx1v5JEPU52WLPn3TQSLXIqLocyKtfWDICqFXne56RJNA91HSDexzHt m6KzBFZWZhcUBnNBys9QYsMR/Zb5THx3xlhmQlyDBcp9Re1aR68Kbu4C+8UUYdmyNJE1h48lyTN 87ZILWCqLgd7YMkBbBRLOepX3fdyVYclYGMewLgzkHMSB7ZyJ/F9NVpZjAXY69NnILaI2GkqvOH 0SjTRPXvsY9lvIF13aGP9C8Cy2B1s72+C7r5uchZFwNoKT6r4IBUJgCtWorTTw+pLY6rJJzJ8IX uJdkhKLF68ymcgsDQb+i5nCmgnheF2dQDAt8fIGzgQvXuE4iwFHn/6xTx/V0K7vj35BEys0n X-Google-Smtp-Source: AGHT+IGb2zHRlmNTmUuHv0fcEe9FShWrw3XkZlH5X2Xzto8sokXLtdVyR15VGO9bZmFtvGXr6mZ5mFLeenG5 X-Received: by 2002:a05:6870:1e8a:b0:2bc:7811:5bb8 with SMTP id 586e51a60fabf-2ff2701f7e8mr9284824fac.18.1752525222619; Mon, 14 Jul 2025 13:33:42 -0700 (PDT) Received: from postal.iol.unh.edu (postal.iol.unh.edu. [132.177.123.84]) by smtp-relay.gmail.com with ESMTPS id 586e51a60fabf-2ff111c3687sm714716fac.6.2025.07.14.13.33.42 (version=TLS1_2 cipher=ECDHE-ECDSA-AES128-GCM-SHA256 bits=128/128); Mon, 14 Jul 2025 13:33:42 -0700 (PDT) X-Relaying-Domain: iol.unh.edu Date: Mon, 14 Jul 2025 13:33:42 -0700 (PDT) Message-ID: <687569a6.050a0220.140ad3.742bSMTPIN_ADDED_MISSING@mx.google.com> Received: from [172.21.0.6] (unknown [172.18.0.240]) by postal.iol.unh.edu (Postfix) with ESMTP id 175A56050A61; Mon, 14 Jul 2025 16:33:42 -0400 (EDT) Subject: |SUCCESS| pw155204-155206 [PATCH] [v4,3/3] doc: revise coding guidel From: dpdklab@iol.unh.edu To: Test Report Cc: dpdk-test-reports@iol.unh.edu In-Reply-To: <20250714171346.564267-3-dmarx@iol.unh.edu> References: <20250714171346.564267-3-dmarx@iol.unh.edu> Content-Type: text/plain X-BeenThere: test-report@dpdk.org X-Mailman-Version: 2.1.29 Precedence: list List-Id: automatic DPDK test reports List-Unsubscribe: , List-Archive: List-Post: List-Help: List-Subscribe: , Errors-To: test-report-bounces@dpdk.org Test-Label: iol-unit-arm64-testing Test-Status: SUCCESS http://dpdk.org/patch/155206 _Testing PASS_ Submitter: Dean Marx Date: Monday, July 14 2025 17:13:44 DPDK git baseline: Repo:dpdk Branch: master CommitID:9fe9c0b231c8da5435bfccb1963121b4277f961c 155204-155206 --> testing pass Upstream job id: Generic-Unit-Test-DPDK#355324 Test environment and result as below: +------------------------------+----------------+------------------------------+--------------+---------------------------+ | Environment | dpdk_unit_test | cryptodev_sw_snow3g_autotest | lpm_autotest | cryptodev_sw_zuc_autotest | +==============================+================+==============================+==============+===========================+ | Debian GNU/Linux 12 | PASS | SKIPPED | SKIPPED | SKIPPED | +------------------------------+----------------+------------------------------+--------------+---------------------------+ | Fedora Linux 41 | PASS | SKIPPED | SKIPPED | SKIPPED | +------------------------------+----------------+------------------------------+--------------+---------------------------+ | CentOS Stream 9 | PASS | SKIPPED | SKIPPED | SKIPPED | +------------------------------+----------------+------------------------------+--------------+---------------------------+ | Red Hat Enterprise Linux 9.5 | PASS | SKIPPED | SKIPPED | SKIPPED | +------------------------------+----------------+------------------------------+--------------+---------------------------+ | Fedora Linux 40 | PASS | SKIPPED | SKIPPED | SKIPPED | +------------------------------+----------------+------------------------------+--------------+---------------------------+ | CentOS Stream 10 | PASS | SKIPPED | SKIPPED | SKIPPED | +------------------------------+----------------+------------------------------+--------------+---------------------------+ | Ubuntu 20.04 | PASS | SKIPPED | PASS | SKIPPED | +------------------------------+----------------+------------------------------+--------------+---------------------------+ | Ubuntu 22.04 | PASS | SKIPPED | SKIPPED | SKIPPED | +------------------------------+----------------+------------------------------+--------------+---------------------------+ | Ubuntu 24.04 | PASS | SKIPPED | SKIPPED | SKIPPED | +------------------------------+----------------+------------------------------+--------------+---------------------------+ | Debian 12 (arm) | SKIPPED | PASS | SKIPPED | PASS | +------------------------------+----------------+------------------------------+--------------+---------------------------+ Debian GNU/Linux 12 Kernel: 5.4 Compiler: gcc gcc (Debian 12.2.0-14+deb12u1) 12.2.0 Fedora Linux 41 Kernel: 5.4 Compiler: gcc gcc (GCC) 14.3.1 20250523 (Red Hat 14.3.1-1) CentOS Stream 9 Kernel: 5.4 Compiler: gcc gcc (GCC) 11.5.0 20240719 (Red Hat 11.5.0-7) Red Hat Enterprise Linux 9.5 Kernel: 5.4 Compiler: gcc gcc (GCC) 11.5.0 20240719 (Red Hat 11.5.0-2) Fedora Linux 40 Kernel: 5.4 Compiler: clang gcc (GCC) 14.2.1 20240912 (Red Hat 14.2.1-3) CentOS Stream 10 Kernel: 5.4 Compiler: gcc gcc (GCC) 14.2.1 20250110 (Red Hat 14.2.1-8) Ubuntu 20.04 Kernel: 5.4 Compiler: gcc gcc (Ubuntu 9.4.0-1ubuntu1~20.04.2) 9.4.0 Ubuntu 22.04 Kernel: 5.4 Compiler: gcc gcc (Ubuntu 11.4.0-1ubuntu1~22.04) 11.4.0 Ubuntu 24.04 Kernel: 5.4 Compiler: gcc gcc (Ubuntu 13.3.0-6ubuntu2~24.04) 13.3.0 Debian 12 (arm) Kernel: Depends on container host Compiler: gcc (Debian 12.2.0-14) 12.2.0 To view detailed results, visit: https://lab.dpdk.org/results/dashboard/patchsets/33651/ UNH-IOL DPDK Community Lab To manage your email subscriptions, visit: https://lab.dpdk.org/results/dashboard/preferences/subscriptions/