From mboxrd@z Thu Jan 1 00:00:00 1970 Return-Path: Received: from mails.dpdk.org (mails.dpdk.org [217.70.189.124]) by inbox.dpdk.org (Postfix) with ESMTP id BC09D46B75 for ; Mon, 14 Jul 2025 22:43:22 +0200 (CEST) Received: from mails.dpdk.org (localhost [127.0.0.1]) by mails.dpdk.org (Postfix) with ESMTP id 9D2484013F; Mon, 14 Jul 2025 22:43:22 +0200 (CEST) Received: from mail-io1-f100.google.com (mail-io1-f100.google.com [209.85.166.100]) by mails.dpdk.org (Postfix) with ESMTP id 6AB744013F for ; Mon, 14 Jul 2025 22:43:21 +0200 (CEST) Received: by mail-io1-f100.google.com with SMTP id ca18e2360f4ac-87640a9e237so387325139f.2 for ; Mon, 14 Jul 2025 13:43:21 -0700 (PDT) DKIM-Signature: v=1; a=rsa-sha256; c=relaxed/relaxed; d=iol.unh.edu; s=unh-iol; t=1752525800; x=1753130600; darn=dpdk.org; h=references:in-reply-to:cc:to:from:subject:message-id:date:from:to :cc:subject:date:message-id:reply-to; bh=S2hNO0KY7+NcZZHFAqLOvZpb1y+hshHJcQYx19Vm64c=; b=Xkt587VgQwsC8tkAHTVnQAUkDGlrJdE4SZNAP1Qy8joZV763cLpWwTLEiSjM9a/v8h g+ck/OAVPiSxhfgTWHNP4S/x2UAK372ku+5/0jVZFkuJdAvD/hvs7ZGvjWfc7HGG9Adt nHTitNVenjQyXGJEYhQ4wl3Pu/ED55kz66uVg= X-Google-DKIM-Signature: v=1; a=rsa-sha256; c=relaxed/relaxed; d=1e100.net; s=20230601; t=1752525800; x=1753130600; h=references:in-reply-to:cc:to:from:subject:message-id:date :x-gm-message-state:from:to:cc:subject:date:message-id:reply-to; bh=S2hNO0KY7+NcZZHFAqLOvZpb1y+hshHJcQYx19Vm64c=; b=COCF/NoTtu7KZrQrkDjb4P56D7Mj98mEFRFGeNIlf9C5mZV0o6QL2da2+SKm8Jrce4 gQfRLaDR8fKaldoVDyFGv4GAXeP2qBUmbo1d3JSiWDmgi3y0KsvV2Itsa/PD4acBXdZY u3TeSknyjMi9n8dOmcGMf/z5c4wXfT/muEeBw6+lKYK+uPb9vPu4wz/nryU8uhXtdvDC vZ8AbJroGo4hnhH8BULRmCjx7zyJqWEL1Xj2Yg2ipNruRy4SY1qYvny+1yXkSbX1xtS8 QEIUt4chYpfNZ+EypemNVVEaKjqSwc6ZpYDcQ0N9rcz78OGbmuf30lJ81efGxAnHUVyi WpXg== X-Gm-Message-State: AOJu0YxF+u4lCS7LukL1bIXdgmANO98QxTPuzbTMq3EWafRoIpeVfpLK IW3APB0/pac7W8mTuo22mmcDlbqmXI8SlelJX6xAFG2FhD44suYbQxYkpN8kN2MAFqF+mdCoNoF 7LWQYJKygw7KKTq7Pbr2X5G4rq4ehRg5dxBca5SCIfhg/3I45XC76svSAav8q X-Gm-Gg: ASbGncvGKSIyc0FFm6EdZaFjIRJBYqGQ45Q7TrFz1ZeX6Ns024wDejv/rBsPMcne4Yh kmy44gvlGnoupA6xjnYGc3fhHlenI3xTGseBFZpMgjAocVbLjvxY7BewuuP/7gGpxHdSFCg+0Lg 7khXkfkyzD3TWU3Bnob5mOo8awBc7H0ZKcPulsPles1rPSNPBVrRW0cAphE8CjvKjcZ5svEdOBE wAh+Z4Heok+nGUQkwRZ5k2AJkwsE8fMn7cPBGrqn+JzptliejfDMq/gqhi46wjUc4zV4mzJMojM YM2yzLnNTkEqyMY24gEy7suNRM+QNPKWGDm3GOFlUNUdlWe9jA== X-Google-Smtp-Source: AGHT+IEdAiKxPHs4Lq45IEefLqN8KWGS6yRPqFomypL0zjBIhgJQYQyCpAxT2beBMGvJHNZyRfFtnNP/8sGu X-Received: by 2002:a05:6602:4143:b0:873:1cc3:29d6 with SMTP id ca18e2360f4ac-87977f87a8dmr1455383139f.8.1752525800707; Mon, 14 Jul 2025 13:43:20 -0700 (PDT) Received: from postal.iol.unh.edu (postal.iol.unh.edu. [2606:4100:3880:1234::84]) by smtp-relay.gmail.com with ESMTPS id ca18e2360f4ac-8796bbf1246sm39932739f.22.2025.07.14.13.43.20 (version=TLS1_2 cipher=ECDHE-ECDSA-AES128-GCM-SHA256 bits=128/128); Mon, 14 Jul 2025 13:43:20 -0700 (PDT) X-Relaying-Domain: iol.unh.edu Date: Mon, 14 Jul 2025 13:43:20 -0700 (PDT) Message-ID: <68756be8.050a0220.1fd60a.4f65SMTPIN_ADDED_MISSING@mx.google.com> Received: from [172.21.0.5] (unknown [172.18.0.240]) by postal.iol.unh.edu (Postfix) with ESMTP id 57964604D420; Mon, 14 Jul 2025 16:43:20 -0400 (EDT) Subject: |SUCCESS| pw155203 [PATCH] net/ice: fix VLAN tag reporting on Rx From: dpdklab@iol.unh.edu To: Test Report Cc: dpdk-test-reports@iol.unh.edu In-Reply-To: <20250714161050.289375-1-bruce.richardson@intel.com> References: <20250714161050.289375-1-bruce.richardson@intel.com> Content-Type: text/plain X-BeenThere: test-report@dpdk.org X-Mailman-Version: 2.1.29 Precedence: list List-Id: automatic DPDK test reports List-Unsubscribe: , List-Archive: List-Post: List-Help: List-Subscribe: , Errors-To: test-report-bounces@dpdk.org Test-Label: iol-compile-arm64-testing Test-Status: SUCCESS http://dpdk.org/patch/155203 _Testing PASS_ Submitter: Bruce Richardson Date: Monday, July 14 2025 16:10:50 DPDK git baseline: Repo:dpdk Branch: master CommitID:a6b10031d251fcc7dadede461f7e1d005024b139 155203 --> testing pass Upstream job id: Generic-DPDK-Compile-Meson#408627 Test environment and result as below: +------------------------------+--------------------+ | Environment | dpdk_meson_compile | +==============================+====================+ | Red Hat Enterprise Linux 9.5 | PASS | +------------------------------+--------------------+ | Ubuntu 20.04 | PASS | +------------------------------+--------------------+ | Fedora Linux 40 | PASS | +------------------------------+--------------------+ | Debian GNU/Linux 12 | PASS | +------------------------------+--------------------+ | Fedora Linux 41 | PASS | +------------------------------+--------------------+ | Ubuntu 22.04 | PASS | +------------------------------+--------------------+ | Ubuntu 24.04 | PASS | +------------------------------+--------------------+ | CentOS Stream 10 | PASS | +------------------------------+--------------------+ | CentOS Stream 9 | PASS | +------------------------------+--------------------+ Red Hat Enterprise Linux 9.5 Kernel: 5.4 Compiler: gcc gcc (GCC) 11.5.0 20240719 (Red Hat 11.5.0-2) Ubuntu 20.04 Kernel: 5.15 Compiler: aarch64-linux-gnu-gcc gcc (Ubuntu 9.4.0-1ubuntu1~20.04.2) 9.4.0 Fedora Linux 40 Kernel: 5.4 Compiler: gcc gcc (GCC) 14.2.1 20240912 (Red Hat 14.2.1-3) Debian GNU/Linux 12 Kernel: 5.4 Compiler: gcc gcc (Debian 12.2.0-14+deb12u1) 12.2.0 Fedora Linux 41 Kernel: 5.4 Compiler: gcc gcc (GCC) 14.3.1 20250523 (Red Hat 14.3.1-1) Ubuntu 22.04 Kernel: 5.4 Compiler: gcc gcc (Ubuntu 11.4.0-1ubuntu1~22.04) 11.4.0 Ubuntu 24.04 Kernel: 5.4 Compiler: gcc gcc (Ubuntu 13.3.0-6ubuntu2~24.04) 13.3.0 CentOS Stream 10 Kernel: 5.4 Compiler: gcc gcc (GCC) 14.2.1 20250110 (Red Hat 14.2.1-8) CentOS Stream 9 Kernel: 5.4 Compiler: gcc gcc (GCC) 11.5.0 20240719 (Red Hat 11.5.0-7) To view detailed results, visit: https://lab.dpdk.org/results/dashboard/patchsets/33650/ UNH-IOL DPDK Community Lab To manage your email subscriptions, visit: https://lab.dpdk.org/results/dashboard/preferences/subscriptions/