From mboxrd@z Thu Jan 1 00:00:00 1970 Return-Path: Received: from mails.dpdk.org (mails.dpdk.org [217.70.189.124]) by inbox.dpdk.org (Postfix) with ESMTP id 73D7146B75 for ; Mon, 14 Jul 2025 23:17:43 +0200 (CEST) Received: from mails.dpdk.org (localhost [127.0.0.1]) by mails.dpdk.org (Postfix) with ESMTP id 4A7074013F; Mon, 14 Jul 2025 23:17:43 +0200 (CEST) Received: from mail-pg1-f227.google.com (mail-pg1-f227.google.com [209.85.215.227]) by mails.dpdk.org (Postfix) with ESMTP id 7DF0E4013F for ; Mon, 14 Jul 2025 23:17:41 +0200 (CEST) Received: by mail-pg1-f227.google.com with SMTP id 41be03b00d2f7-b3be5c0eb99so1564199a12.1 for ; Mon, 14 Jul 2025 14:17:41 -0700 (PDT) DKIM-Signature: v=1; a=rsa-sha256; c=relaxed/relaxed; d=iol.unh.edu; s=unh-iol; t=1752527860; x=1753132660; darn=dpdk.org; h=references:in-reply-to:cc:to:from:subject:message-id:date:from:to :cc:subject:date:message-id:reply-to; bh=ipyFSxWgRzO/38Lz+ZAJ0WuP6LjRthubh73M3CezNM0=; b=dKhMV16NAUmQSUsFDUHp/nY3g9C5/wJfohOrM8XxBaMu93hyW9bOLnIltN7yUQVzhO hkMNyxG8NgO2uXJtgAVqvPzCy68wm9uRGxkLqTTesJLx+WEzeMuSkjiaBV+6ZdFMsYRB AMfK6ihaP4wbVE12Jzbh3HXXjdPRkfH3D6w5o= X-Google-DKIM-Signature: v=1; a=rsa-sha256; c=relaxed/relaxed; d=1e100.net; s=20230601; t=1752527860; x=1753132660; h=references:in-reply-to:cc:to:from:subject:message-id:date :x-gm-message-state:from:to:cc:subject:date:message-id:reply-to; bh=ipyFSxWgRzO/38Lz+ZAJ0WuP6LjRthubh73M3CezNM0=; b=NHMAQRhm838v4iwmXfU5pVEUDvPPn5lL7nm80Xkk7nRVPmcy4852DHmv4l7ShfVb08 o6VUVAXr5pgKJVwn9memV+PZmHA8RkiXPR5aXzuwLHUtcB3LTm8o0JXBKNbcOiR1/rSW YrviRjwKCNI98dX2Zhh70uxolrKrf7oboZwWQpsw2TUy4c7xl0wOzuERKOdwBEu0AKka w+tinz/2XUYnDx7fsWIyw7pAYfqeIjRqyVjPpwSFVgP5H8U7MgxWP3PHxajTaqBpDMbX 9zaskG5WisVDh8lIdTHLyn5fTxqh40whMn+V8d21XIow/UJsUsykJJjBYLtK2EWNwqMx sQ4A== X-Gm-Message-State: AOJu0YxuTRdoHJTx3hng0wYpfNO172WIsQ1Mb5RYuPHryxsg2tfhVdjj YpEbTfsqSXVEDCEza6f/SlcwUJcV5Xq0uAp5NbUFIUAwbuUvy2Ip5AGJe25SB3oF9AXZtfzlwZy N6RiETqTrfunKH0i+ScrP88MVCvgIaBqQcI+5/UqtNuZd X-Gm-Gg: ASbGncuOFHRGoULrfWY0snO71nZSah9HQ+Plo9BLIwfF6AJFSjaU+VF0MXUiJRL1zG6 xfNXl1xenvOztfAbvrxUD8GPqKOVIRd5wKU42usqNHXEtN5MofyBYYHd4WJxViiN3t+qbo2QX1X MdhsG5/pCOzw2k6ofM4YhribTTbcpGuku3sheEW0j9bcdIfZvq0zDE5EehqQTxRhGKZVRpDk7PT WdMf4err2FEWG1s4xwZmUZG8hbAEk475knJSSeH5Z4JLsvKmWVRQTbX11suZcOYfq4L3lAJEyUn eTLXKCN+mZvMJgCHSKELiZV3MHiZ8ETbddec1GDldO09EEqfefF2ZABTqY8RWoeLHlQTN4YZ X-Google-Smtp-Source: AGHT+IEfHrKzLafyVUoLZN7kxa4ucA5EQE70Im7ObY3YJ/U+mZ4BbIXz36iYoCHpWiD4OTYEm2xY/GtgmIMt X-Received: by 2002:a17:90b:384e:b0:312:e9bd:5d37 with SMTP id 98e67ed59e1d1-31c4cc9c61fmr24266566a91.6.1752527860462; Mon, 14 Jul 2025 14:17:40 -0700 (PDT) Received: from postal.iol.unh.edu (postal.iol.unh.edu. [132.177.123.84]) by smtp-relay.gmail.com with ESMTPS id 98e67ed59e1d1-31c30089a20sm607581a91.4.2025.07.14.14.17.40 (version=TLS1_2 cipher=ECDHE-ECDSA-AES128-GCM-SHA256 bits=128/128); Mon, 14 Jul 2025 14:17:40 -0700 (PDT) X-Relaying-Domain: iol.unh.edu Date: Mon, 14 Jul 2025 14:17:40 -0700 (PDT) Message-ID: <687573f4.170a0220.392feb.09ebSMTPIN_ADDED_MISSING@mx.google.com> Received: from [172.21.0.5] (unknown [172.18.0.240]) by postal.iol.unh.edu (Postfix) with ESMTP id A08B36050A61; Mon, 14 Jul 2025 17:17:39 -0400 (EDT) Subject: |SUCCESS| pw155207 [PATCH] [v1] mailmap: add new email to DPDK From: dpdklab@iol.unh.edu To: Test Report Cc: dpdk-test-reports@iol.unh.edu In-Reply-To: <20250714191141.1243467-1-pravin.pathak@intel.com> References: <20250714191141.1243467-1-pravin.pathak@intel.com> Content-Type: text/plain X-BeenThere: test-report@dpdk.org X-Mailman-Version: 2.1.29 Precedence: list List-Id: automatic DPDK test reports List-Unsubscribe: , List-Archive: List-Post: List-Help: List-Subscribe: , Errors-To: test-report-bounces@dpdk.org Test-Label: iol-unit-amd64-testing Test-Status: SUCCESS http://dpdk.org/patch/155207 _Testing PASS_ Submitter: Pravin Pathak Date: Monday, July 14 2025 19:11:41 DPDK git baseline: Repo:dpdk Branch: master CommitID:9fe9c0b231c8da5435bfccb1963121b4277f961c 155207 --> testing pass Upstream job id: Generic-Unit-Test-DPDK#355363 Test environment and result as below: +-------------------------------+----------------+ | Environment | dpdk_unit_test | +===============================+================+ | Windows Server 2022 | PASS | +-------------------------------+----------------+ | CentOS Stream 9 | PASS | +-------------------------------+----------------+ | CentOS Stream 10 | PASS | +-------------------------------+----------------+ | Fedora Linux 40 | PASS | +-------------------------------+----------------+ | Debian GNU/Linux 12 | PASS | +-------------------------------+----------------+ | Fedora Linux 41 | PASS | +-------------------------------+----------------+ | Red Hat Enterprise Linux 9.5 | PASS | +-------------------------------+----------------+ | Red Hat Enterprise Linux 8.10 | PASS | +-------------------------------+----------------+ | Ubuntu 20.04 | PASS | +-------------------------------+----------------+ | Ubuntu 22.04 | PASS | +-------------------------------+----------------+ | Ubuntu 24.04 | PASS | +-------------------------------+----------------+ Windows Server 2022 Kernel: 10.0.20348.2031 Compiler: clang 15.0.7, gcc 14.1.0 (MinGW), and MSVC VS 19.39.33521 CentOS Stream 9 Kernel: 5.15 Compiler: gcc gcc (GCC) 11.5.0 20240719 (Red Hat 11.5.0-7) CentOS Stream 10 Kernel: 5.15 Compiler: gcc gcc (GCC) 14.2.1 20250110 (Red Hat 14.2.1-8) Fedora Linux 40 Kernel: 5.15 Compiler: gcc gcc (GCC) 14.2.1 20240912 (Red Hat 14.2.1-3) Debian GNU/Linux 12 Kernel: 5.15 Compiler: gcc gcc (Debian 12.2.0-14+deb12u1) 12.2.0 Fedora Linux 41 Kernel: 5.15 Compiler: gcc gcc (GCC) 14.3.1 20250523 (Red Hat 14.3.1-1) Red Hat Enterprise Linux 9.5 Kernel: 5.15 Compiler: gcc gcc (GCC) 11.5.0 20240719 (Red Hat 11.5.0-2) Red Hat Enterprise Linux 8.10 Kernel: 5.15 Compiler: gcc gcc (GCC) 8.5.0 20210514 (Red Hat 8.5.0-22) Ubuntu 20.04 Kernel: 5.15 Compiler: gcc gcc (Ubuntu 9.4.0-1ubuntu1~20.04.2) 9.4.0 Ubuntu 22.04 Kernel: 5.15 Compiler: gcc gcc (Ubuntu 11.4.0-1ubuntu1~22.04) 11.4.0 Ubuntu 24.04 Kernel: 5.15 Compiler: gcc gcc (Ubuntu 13.3.0-6ubuntu2~24.04) 13.3.0 To view detailed results, visit: https://lab.dpdk.org/results/dashboard/patchsets/33652/ UNH-IOL DPDK Community Lab To manage your email subscriptions, visit: https://lab.dpdk.org/results/dashboard/preferences/subscriptions/