From mboxrd@z Thu Jan 1 00:00:00 1970 Return-Path: Received: from mails.dpdk.org (mails.dpdk.org [217.70.189.124]) by inbox.dpdk.org (Postfix) with ESMTP id 9924446B75 for ; Mon, 14 Jul 2025 23:28:22 +0200 (CEST) Received: from mails.dpdk.org (localhost [127.0.0.1]) by mails.dpdk.org (Postfix) with ESMTP id 802944013F; Mon, 14 Jul 2025 23:28:22 +0200 (CEST) Received: from mail-pl1-f228.google.com (mail-pl1-f228.google.com [209.85.214.228]) by mails.dpdk.org (Postfix) with ESMTP id 460DA4013F for ; Mon, 14 Jul 2025 23:28:21 +0200 (CEST) Received: by mail-pl1-f228.google.com with SMTP id d9443c01a7336-235ef62066eso72437275ad.3 for ; Mon, 14 Jul 2025 14:28:21 -0700 (PDT) DKIM-Signature: v=1; a=rsa-sha256; c=relaxed/relaxed; d=iol.unh.edu; s=unh-iol; t=1752528500; x=1753133300; darn=dpdk.org; h=references:in-reply-to:cc:to:from:subject:message-id:date:from:to :cc:subject:date:message-id:reply-to; bh=0CTLJcIIMn+ZycxiniyXdtTogfGGf57wQWWAM6fIXKM=; b=Ck04EpDIuhdrUBVswQrU5lm/ydhsER/vPaPlpeB0lutjv9Yh+9ET5A30Hu9oTeC9Vy 1S0WeYPlTq6zE/mBWGOYpCnFs1X02IJPqtbFBKJv0ccqrVsZS/c3mwXnsPrfwvnnDZfl ETFEJ8umPKEHNUEGDGTgyOPYjqFopHXu3ztso= X-Google-DKIM-Signature: v=1; a=rsa-sha256; c=relaxed/relaxed; d=1e100.net; s=20230601; t=1752528500; x=1753133300; h=references:in-reply-to:cc:to:from:subject:message-id:date :x-gm-message-state:from:to:cc:subject:date:message-id:reply-to; bh=0CTLJcIIMn+ZycxiniyXdtTogfGGf57wQWWAM6fIXKM=; b=gy6C4zOAsTRcgLmSwuZzJKtUOMix/XFVR1a9afhbjxWDlBXh3irrw+mOsEKyDyhsRs Mu4yg2xFrUCkalUSwRLqK6uUZTA2vlHf9i7nmmt/bnHwPG/auxEoq6I/50ti8I9vfolg li4w5gwHIjF7Gj5stpqDY+yrfP9J8bx0Bzm6lbIqqYAwPeGFBL1L2/jPn+BRH2Jdvatf E/StEbgKmnschKPtU4RrTVmUq873s+dn+oMYgEV4jzK8SB2ytLi4F4d52Ep1YZDiveen 5locKTnF0YSWRyvywP8HCNMbyo4sr7mFLMFP2ZXm9rNO2IZd/iVD14wPF+NLa1vxrepu SOsQ== X-Gm-Message-State: AOJu0YxzIJhTkwRbaqWFN9iyfC9MdmCr0gixY1ymurpCBDGI+DnTXcbT ockW4kf5IL/OCvdZJJz7nwL2b2SmmQWY7JeIhRsGbO2i0YKScxEXar89/TXlG7B/Sw+HgdNGi37 3YAQ06vhNO517ZhrfmqxNfabR3GqQKk8RL6YpxJk76JOe X-Gm-Gg: ASbGncsiPuHajaA0h8AXFkb98Mc9qLQzC22DdtaLBsCNb9EeZARWlKF4tKCqq+DYqIP mNuZ2GzK9/WDuJHcJuD10O5Q8M1m+emp140ZgvVUAdIVgBK/H62n7oMhmHfnuPlZd2RnBgiGRbq RXswtq/yj7w74uLfGhXvoC3o/ziG7PR8ResX229VUxfOBVHdWe1eTKKH71T22IyNPmYX7Vd2rzL UsZiF/oWzVyoAdr+WKGjJoXLiD78snHNsaCuefS8p6xQru6GfPNujKFw+XFfNW701aaQE4RdwTg X4luPPRNnFTEbVlW8DVhkA3/v8jOODCXWp5fdXQgJjvcm6aqNOuh/EO3JtwSc4FWGAxvpXOO X-Google-Smtp-Source: AGHT+IFwL9K8w4lsHUFIeMlVmhkiXBTydy0XMKNBd/sYiq/IMMrjr7Zyik3omQIDNr5n7B4MStorT5G7i3pQ X-Received: by 2002:a17:902:cf52:b0:23e:90c:8213 with SMTP id d9443c01a7336-23e090c838amr67318065ad.8.1752528500180; Mon, 14 Jul 2025 14:28:20 -0700 (PDT) Received: from postal.iol.unh.edu (postal.iol.unh.edu. [132.177.123.84]) by smtp-relay.gmail.com with ESMTPS id d9443c01a7336-23de4266f93sm5536645ad.25.2025.07.14.14.28.20 (version=TLS1_2 cipher=ECDHE-ECDSA-AES128-GCM-SHA256 bits=128/128); Mon, 14 Jul 2025 14:28:20 -0700 (PDT) X-Relaying-Domain: iol.unh.edu Date: Mon, 14 Jul 2025 14:28:20 -0700 (PDT) Message-ID: <68757674.170a0220.32a6a4.d810SMTPIN_ADDED_MISSING@mx.google.com> Received: from [172.21.0.5] (unknown [172.18.0.240]) by postal.iol.unh.edu (Postfix) with ESMTP id 8FA666050A61; Mon, 14 Jul 2025 17:28:19 -0400 (EDT) Subject: |SUCCESS| pw155207 [PATCH] [v1] mailmap: add new email to DPDK From: dpdklab@iol.unh.edu To: Test Report Cc: dpdk-test-reports@iol.unh.edu In-Reply-To: <20250714191141.1243467-1-pravin.pathak@intel.com> References: <20250714191141.1243467-1-pravin.pathak@intel.com> Content-Type: text/plain X-BeenThere: test-report@dpdk.org X-Mailman-Version: 2.1.29 Precedence: list List-Id: automatic DPDK test reports List-Unsubscribe: , List-Archive: List-Post: List-Help: List-Subscribe: , Errors-To: test-report-bounces@dpdk.org Test-Label: iol-unit-arm64-testing Test-Status: SUCCESS http://dpdk.org/patch/155207 _Testing PASS_ Submitter: Pravin Pathak Date: Monday, July 14 2025 19:11:41 DPDK git baseline: Repo:dpdk Branch: master CommitID:9fe9c0b231c8da5435bfccb1963121b4277f961c 155207 --> testing pass Upstream job id: Generic-Unit-Test-DPDK#355357 Test environment and result as below: +------------------------------+------------------------------+--------------+---------------------------+----------------+ | Environment | cryptodev_sw_snow3g_autotest | lpm_autotest | cryptodev_sw_zuc_autotest | dpdk_unit_test | +==============================+==============================+==============+===========================+================+ | Debian 12 (arm) | PASS | SKIPPED | PASS | SKIPPED | +------------------------------+------------------------------+--------------+---------------------------+----------------+ | Ubuntu 20.04 | SKIPPED | PASS | SKIPPED | PASS | +------------------------------+------------------------------+--------------+---------------------------+----------------+ | CentOS Stream 10 | SKIPPED | SKIPPED | SKIPPED | PASS | +------------------------------+------------------------------+--------------+---------------------------+----------------+ | CentOS Stream 9 | SKIPPED | SKIPPED | SKIPPED | PASS | +------------------------------+------------------------------+--------------+---------------------------+----------------+ | Debian GNU/Linux 12 | SKIPPED | SKIPPED | SKIPPED | PASS | +------------------------------+------------------------------+--------------+---------------------------+----------------+ | Fedora Linux 41 | SKIPPED | SKIPPED | SKIPPED | PASS | +------------------------------+------------------------------+--------------+---------------------------+----------------+ | Fedora Linux 40 | SKIPPED | SKIPPED | SKIPPED | PASS | +------------------------------+------------------------------+--------------+---------------------------+----------------+ | Red Hat Enterprise Linux 9.5 | SKIPPED | SKIPPED | SKIPPED | PASS | +------------------------------+------------------------------+--------------+---------------------------+----------------+ | Ubuntu 22.04 | SKIPPED | SKIPPED | SKIPPED | PASS | +------------------------------+------------------------------+--------------+---------------------------+----------------+ | Ubuntu 24.04 | SKIPPED | SKIPPED | SKIPPED | PASS | +------------------------------+------------------------------+--------------+---------------------------+----------------+ Debian 12 (arm) Kernel: Depends on container host Compiler: gcc (Debian 12.2.0-14) 12.2.0 Ubuntu 20.04 Kernel: 5.4 Compiler: gcc gcc (Ubuntu 9.4.0-1ubuntu1~20.04.2) 9.4.0 CentOS Stream 10 Kernel: 5.4 Compiler: gcc gcc (GCC) 14.2.1 20250110 (Red Hat 14.2.1-8) CentOS Stream 9 Kernel: 5.4 Compiler: gcc gcc (GCC) 11.5.0 20240719 (Red Hat 11.5.0-7) Debian GNU/Linux 12 Kernel: 5.4 Compiler: gcc gcc (Debian 12.2.0-14+deb12u1) 12.2.0 Fedora Linux 41 Kernel: 5.4 Compiler: gcc gcc (GCC) 14.3.1 20250523 (Red Hat 14.3.1-1) Fedora Linux 40 Kernel: 5.4 Compiler: clang gcc (GCC) 14.2.1 20240912 (Red Hat 14.2.1-3) Red Hat Enterprise Linux 9.5 Kernel: 5.4 Compiler: gcc gcc (GCC) 11.5.0 20240719 (Red Hat 11.5.0-2) Ubuntu 22.04 Kernel: 5.4 Compiler: gcc gcc (Ubuntu 11.4.0-1ubuntu1~22.04) 11.4.0 Ubuntu 24.04 Kernel: 5.4 Compiler: gcc gcc (Ubuntu 13.3.0-6ubuntu2~24.04) 13.3.0 To view detailed results, visit: https://lab.dpdk.org/results/dashboard/patchsets/33652/ UNH-IOL DPDK Community Lab To manage your email subscriptions, visit: https://lab.dpdk.org/results/dashboard/preferences/subscriptions/