From mboxrd@z Thu Jan 1 00:00:00 1970 Return-Path: Received: from mails.dpdk.org (mails.dpdk.org [217.70.189.124]) by inbox.dpdk.org (Postfix) with ESMTP id 9380B46B75 for ; Mon, 14 Jul 2025 23:28:27 +0200 (CEST) Received: from mails.dpdk.org (localhost [127.0.0.1]) by mails.dpdk.org (Postfix) with ESMTP id 8FDCF4013F; Mon, 14 Jul 2025 23:28:27 +0200 (CEST) Received: from mail-io1-f99.google.com (mail-io1-f99.google.com [209.85.166.99]) by mails.dpdk.org (Postfix) with ESMTP id 807144013F for ; Mon, 14 Jul 2025 23:28:26 +0200 (CEST) Received: by mail-io1-f99.google.com with SMTP id ca18e2360f4ac-879502274cfso155906139f.0 for ; Mon, 14 Jul 2025 14:28:26 -0700 (PDT) DKIM-Signature: v=1; a=rsa-sha256; c=relaxed/relaxed; d=iol.unh.edu; s=unh-iol; t=1752528506; x=1753133306; darn=dpdk.org; h=references:in-reply-to:cc:to:from:subject:message-id:date:from:to :cc:subject:date:message-id:reply-to; bh=ieHh2EQTrkyJQQ/FH89OpOZrtzJjCSWH0lra9Fdsu0Q=; b=Dwe7JXswSn2qnADWy/rC/HPx9wTwIJNBTID+VnlixUdOhRPdLjbUSle8L/JQNGrhn9 TZZ+Pqd6idqDxBXLCXSEocWfozrnikRQWey9oDJIr31vPGSEB/yga4zX8pzne8DiiFL5 wMHU0OTO/0KJJzgH5mWBeZz0OvHJdSW/sIHvE= X-Google-DKIM-Signature: v=1; a=rsa-sha256; c=relaxed/relaxed; d=1e100.net; s=20230601; t=1752528506; x=1753133306; h=references:in-reply-to:cc:to:from:subject:message-id:date :x-gm-message-state:from:to:cc:subject:date:message-id:reply-to; bh=ieHh2EQTrkyJQQ/FH89OpOZrtzJjCSWH0lra9Fdsu0Q=; b=orVdkxqqaY8C0hFfXlLw1HS4nc4r4R4x1MafxNiUjBPXP8FY7yg65j88yQQT/XU71d SWXxAb5VLe4rdwbp6m3xTGzOZr4Hq0yEUnmJqjgvQqiARxv5EY9CBUr8lnLpqG+kxwkm wxc9owkqCLuxRT+jgvDWm34NMyVlQtVcmRIK6t402x/KRoGqp2vhuUfLYcRtgKjR5CSk zG40dNBJvyiHFsJqV+VD5Lr83PLvWu1uPlsPWxOFgfhJ8lZadhLPejr33V6bk/QiPg7w QAMdKZWOXkIXfWsQdFNFhcBPA2BbysyiIX0g/won2oTglmEb3uRI6qQJYwlTgNXYQcws GbxA== X-Gm-Message-State: AOJu0YwytaFmvJDwf7Kewk44woF/FgZMjieh/AjDqokfYXHAZBUc4E8r Yjsdkr87ne4skFmMg0KQbJX29ADcUTylAkRtjyUBEcEpMs71cAn8WBxw5+fIQdb0jVXqi7T9KKL b2Krw/ZAGxw6Ucqv0jfWaSVwSkVl3ZAiLsOdcRDFgMQFkDK+g1c2YA3hCxugS X-Gm-Gg: ASbGncuguoethf/Zb7mPQD0wREUq2sxHx8kA/ci9B8PRnV2KaN5zz0pwGwbGCxVAfVQ +D76k8JiRqTW1KLrYKaaLfP/QzNVQMYaNaDli0MVS+MSTi7dOLK2LEPt8XtiM6gU5MvqKLg14Ni ALqJcsCZUeLZNeNmSZpQJUirykodm01AEOmpMgnkZ5Q810/FwkGIf4ZKiN+h96grtmUWycn2e57 kftJmLNy4wtRjos2v3zNiH6w/XnHvEvbzIxQd3GYW9m/vnqVZrC9znCD8TZD4OguafxJdJu6+es z3kRvm7LKMwCjxDlrUjC43+t6NJtoT/KJjVcnQWpg46x4jWG7g== X-Google-Smtp-Source: AGHT+IFJRqx1lp9+1rzHxMKsukIZArod7ynjCCtPe1Uj5fitS2JcFw7eIUzNOGI5TKJ1s3MRNdSLIU4dQ4gC X-Received: by 2002:a05:6602:2b93:b0:875:bd67:2f1d with SMTP id ca18e2360f4ac-87977fa6b9amr1545225439f.10.1752528505774; Mon, 14 Jul 2025 14:28:25 -0700 (PDT) Received: from postal.iol.unh.edu (postal.iol.unh.edu. [2606:4100:3880:1234::84]) by smtp-relay.gmail.com with ESMTPS id ca18e2360f4ac-8796bc1c5e1sm48861739f.29.2025.07.14.14.28.25 (version=TLS1_2 cipher=ECDHE-ECDSA-AES128-GCM-SHA256 bits=128/128); Mon, 14 Jul 2025 14:28:25 -0700 (PDT) X-Relaying-Domain: iol.unh.edu Date: Mon, 14 Jul 2025 14:28:25 -0700 (PDT) Message-ID: <68757679.050a0220.20530e.a97dSMTPIN_ADDED_MISSING@mx.google.com> Received: from [172.21.0.6] (unknown [172.18.0.240]) by postal.iol.unh.edu (Postfix) with ESMTP id 491D56050A61; Mon, 14 Jul 2025 17:28:25 -0400 (EDT) Subject: |SUCCESS| pw155207 [PATCH] [v1] mailmap: add new email to DPDK From: dpdklab@iol.unh.edu To: Test Report Cc: dpdk-test-reports@iol.unh.edu In-Reply-To: <20250714191141.1243467-1-pravin.pathak@intel.com> References: <20250714191141.1243467-1-pravin.pathak@intel.com> Content-Type: text/plain X-BeenThere: test-report@dpdk.org X-Mailman-Version: 2.1.29 Precedence: list List-Id: automatic DPDK test reports List-Unsubscribe: , List-Archive: List-Post: List-Help: List-Subscribe: , Errors-To: test-report-bounces@dpdk.org Test-Label: iol-compile-amd64-testing Test-Status: SUCCESS http://dpdk.org/patch/155207 _Testing PASS_ Submitter: Pravin Pathak Date: Monday, July 14 2025 19:11:41 DPDK git baseline: Repo:dpdk Branch: master CommitID:9fe9c0b231c8da5435bfccb1963121b4277f961c 155207 --> testing pass Upstream job id: Generic-DPDK-Compile-Meson#408680 Test environment and result as below: +-------------------------------+--------------------+-------------------+------------------+-------------------------+-------------------+----------------------+ | Environment | dpdk_meson_compile | dpdk_compile_spdk | dpdk_compile_ovs | dpdk_llvm_clang_compile | dpdk_msvc_compile | dpdk_mingw64_compile | +===============================+====================+===================+==================+=========================+===================+======================+ | CentOS Stream 9 | PASS | PASS | SKIPPED | SKIPPED | SKIPPED | SKIPPED | +-------------------------------+--------------------+-------------------+------------------+-------------------------+-------------------+----------------------+ | Fedora Linux 40 | PASS | PASS | SKIPPED | SKIPPED | SKIPPED | SKIPPED | +-------------------------------+--------------------+-------------------+------------------+-------------------------+-------------------+----------------------+ | Fedora Linux 41 | PASS | PASS | PASS | SKIPPED | SKIPPED | SKIPPED | +-------------------------------+--------------------+-------------------+------------------+-------------------------+-------------------+----------------------+ | openSUSE Leap 15.6 | PASS | SKIPPED | SKIPPED | SKIPPED | SKIPPED | SKIPPED | +-------------------------------+--------------------+-------------------+------------------+-------------------------+-------------------+----------------------+ | Red Hat Enterprise Linux 8.10 | PASS | SKIPPED | SKIPPED | SKIPPED | SKIPPED | SKIPPED | +-------------------------------+--------------------+-------------------+------------------+-------------------------+-------------------+----------------------+ | Ubuntu 20.04 | PASS | SKIPPED | SKIPPED | SKIPPED | SKIPPED | SKIPPED | +-------------------------------+--------------------+-------------------+------------------+-------------------------+-------------------+----------------------+ | Ubuntu 22.04 | PASS | PASS | SKIPPED | SKIPPED | SKIPPED | SKIPPED | +-------------------------------+--------------------+-------------------+------------------+-------------------------+-------------------+----------------------+ | Red Hat Enterprise Linux 9.5 | PASS | SKIPPED | SKIPPED | SKIPPED | SKIPPED | SKIPPED | +-------------------------------+--------------------+-------------------+------------------+-------------------------+-------------------+----------------------+ | Ubuntu 24.04 | PASS | PASS | PASS | SKIPPED | SKIPPED | SKIPPED | +-------------------------------+--------------------+-------------------+------------------+-------------------------+-------------------+----------------------+ | Alpine Linux 3.22.0 | PASS | SKIPPED | SKIPPED | SKIPPED | SKIPPED | SKIPPED | +-------------------------------+--------------------+-------------------+------------------+-------------------------+-------------------+----------------------+ | FreeBSD 14.2 | PASS | SKIPPED | SKIPPED | SKIPPED | SKIPPED | SKIPPED | +-------------------------------+--------------------+-------------------+------------------+-------------------------+-------------------+----------------------+ | CentOS Stream 10 | PASS | SKIPPED | SKIPPED | SKIPPED | SKIPPED | SKIPPED | +-------------------------------+--------------------+-------------------+------------------+-------------------------+-------------------+----------------------+ | Debian GNU/Linux 12 | PASS | PASS | SKIPPED | SKIPPED | SKIPPED | SKIPPED | +-------------------------------+--------------------+-------------------+------------------+-------------------------+-------------------+----------------------+ | Windows Server 2022 | SKIPPED | SKIPPED | SKIPPED | PASS | PASS | PASS | +-------------------------------+--------------------+-------------------+------------------+-------------------------+-------------------+----------------------+ CentOS Stream 9 Kernel: 5.15 Compiler: gcc gcc (GCC) 11.5.0 20240719 (Red Hat 11.5.0-7) Fedora Linux 40 Kernel: 5.15 Compiler: gcc gcc (GCC) 14.2.1 20240912 (Red Hat 14.2.1-3) Fedora Linux 41 Kernel: 5.15 Compiler: clang gcc (GCC) 14.3.1 20250523 (Red Hat 14.3.1-1) openSUSE Leap 15.6 Kernel: 5.15 Compiler: gcc gcc (SUSE Linux) 7.5.0 Red Hat Enterprise Linux 8.10 Kernel: 5.15 Compiler: gcc gcc (GCC) 8.5.0 20210514 (Red Hat 8.5.0-22) Ubuntu 20.04 Kernel: 5.15 Compiler: gcc gcc (Ubuntu 9.4.0-1ubuntu1~20.04.2) 9.4.0 Ubuntu 22.04 Kernel: 5.15 Compiler: gcc gcc (Ubuntu 11.4.0-1ubuntu1~22.04) 11.4.0 Red Hat Enterprise Linux 9.5 Kernel: 5.15 Compiler: gcc gcc (GCC) 11.5.0 20240719 (Red Hat 11.5.0-2) Ubuntu 24.04 Kernel: 5.15 Compiler: gcc gcc (Ubuntu 13.3.0-6ubuntu2~24.04) 13.3.0 Alpine Linux 3.22.0 Kernel: 5.15 Compiler: gcc gcc (Alpine 14.2.0) 14.2.0 FreeBSD 14.2 Kernel: 14.2-RELEASE Compiler: clang 18.1.6 CentOS Stream 10 Kernel: 5.15 Compiler: gcc gcc (GCC) 14.2.1 20250110 (Red Hat 14.2.1-8) Debian GNU/Linux 12 Kernel: 5.15 Compiler: gcc gcc (Debian 12.2.0-14+deb12u1) 12.2.0 Windows Server 2022 Kernel: 10.0.20348.2031 Compiler: clang 15.0.7, gcc 14.1.0 (MinGW), and MSVC VS 19.39.33521 To view detailed results, visit: https://lab.dpdk.org/results/dashboard/patchsets/33652/ UNH-IOL DPDK Community Lab To manage your email subscriptions, visit: https://lab.dpdk.org/results/dashboard/preferences/subscriptions/