From mboxrd@z Thu Jan 1 00:00:00 1970 Return-Path: Received: from mails.dpdk.org (mails.dpdk.org [217.70.189.124]) by inbox.dpdk.org (Postfix) with ESMTP id 79AAE46B75 for ; Mon, 14 Jul 2025 23:35:34 +0200 (CEST) Received: from mails.dpdk.org (localhost [127.0.0.1]) by mails.dpdk.org (Postfix) with ESMTP id 73A844013F; Mon, 14 Jul 2025 23:35:34 +0200 (CEST) Received: from mail-pl1-f225.google.com (mail-pl1-f225.google.com [209.85.214.225]) by mails.dpdk.org (Postfix) with ESMTP id 04B604013F for ; Mon, 14 Jul 2025 23:35:33 +0200 (CEST) Received: by mail-pl1-f225.google.com with SMTP id d9443c01a7336-235ef62066eso72506525ad.3 for ; Mon, 14 Jul 2025 14:35:32 -0700 (PDT) DKIM-Signature: v=1; a=rsa-sha256; c=relaxed/relaxed; d=iol.unh.edu; s=unh-iol; t=1752528932; x=1753133732; darn=dpdk.org; h=references:in-reply-to:cc:to:from:subject:message-id:date:from:to :cc:subject:date:message-id:reply-to; bh=1BZVReJgQFJ6TDpQkPbQ1F5b+IACR0z6NS9LkRZ2k44=; b=dZ89CES9tBZitOg7qpLI2RPRWHP0jFNkkO74zu0y837rKVihs4zcPQVjig2JCqf/V+ dBuqCFyA8zcQ9K/2v+oTXfBxiWiVTYc740hwNgwmM01TEg8lmE8G+pWToqFNXkGmCfhk kFtf6qiYL11qxEjns3zLwzFQ2tAWuHK8oGUO8= X-Google-DKIM-Signature: v=1; a=rsa-sha256; c=relaxed/relaxed; d=1e100.net; s=20230601; t=1752528932; x=1753133732; h=references:in-reply-to:cc:to:from:subject:message-id:date :x-gm-message-state:from:to:cc:subject:date:message-id:reply-to; bh=1BZVReJgQFJ6TDpQkPbQ1F5b+IACR0z6NS9LkRZ2k44=; b=OBLzs6YdkbFFiVrDPOfoJ68+91mmVfMaS1LBniSKqtwbWspuYSiAsD0mU7b9Z9XgNr apmd+4djQm4khnTe5Y/wnGhKF+idJ5aR8Ee1OV/tblsOxLHCDJiP86O6M2HD3r+Xp8Kw oZnFi3i3CnD/0n9PC9PnxIFlPlM5jtT3yHbFzLibtDrrASSVkVzCV3Dv5Y90VHZlPi3B hxsvTf9MQ+BAVRUPh7UCbOZsC+bFtnbDtJArX/F49NWL21/53sEZIiWptXIUuxfLsdgz gOsCO1go35ZmC/mYmvF8gVeNlIzcgjMPQuXye8Y7YqqhosKClfdT7bLf9WJClgCCruW0 QHyA== X-Gm-Message-State: AOJu0Yy0NtIjeN/FIK+RYK63uRe4QFeKvIF7PKLhuu1WUI6nmaRtpURG +FaIxz6TEBWWWX7XD4PdwqySUxwkrtzEhVjMLzQ7vwh2pmXkVEfQxIdtSOzQ95TNyabxZgPlule M1Ol5YqPbq5weCjtDScFD+H0/oLY4UcwBeSaxLpKRfRxF X-Gm-Gg: ASbGncvLcYFCIyEknqlYssdEuPlkugaaucX2WWZ0qiZZUUWDQUmzAh7guNyGmyViCGZ Onro0bi7fmJRS8yYwQTl18nnN58foVhGxrwgLF4SoWDRyYaaMuAIDHH9LkuCs4hwM31lC0G29Qo YEZv2J98reXz2RZYBo4BKhMPSZqcd9N5VMdPlFmacpkEFy7Z3cijbMWhHwsvKaP5XO9xWbjfXNO 4dUN8WspG1MxlPj4JzdGSHPZb+oHBFbkmrDzEFt7F82u5jc6p4BO5OmUykKSjLNCc2rvwYsxxFp qbp2QL6HpNXfqmtCc7/ECQxgIaGrHHEzmIZG0d2vyTXwhW3zc1J1bbSsyh5yVyroGAzSK0ct X-Google-Smtp-Source: AGHT+IGgH8u6PUoiLDhXDPXQOxcbtzLsbmtxf68iuN9qGWibl0SuQVl7AqFMsXxYs0xBkads0/PvqYZhDJ2f X-Received: by 2002:a17:902:ccd1:b0:234:d292:be7a with SMTP id d9443c01a7336-23dede2d121mr293079845ad.1.1752528932100; Mon, 14 Jul 2025 14:35:32 -0700 (PDT) Received: from postal.iol.unh.edu (postal.iol.unh.edu. [132.177.123.84]) by smtp-relay.gmail.com with ESMTPS id d9443c01a7336-23de4320d95sm5537635ad.60.2025.07.14.14.35.31 (version=TLS1_2 cipher=ECDHE-ECDSA-AES128-GCM-SHA256 bits=128/128); Mon, 14 Jul 2025 14:35:32 -0700 (PDT) X-Relaying-Domain: iol.unh.edu Date: Mon, 14 Jul 2025 14:35:32 -0700 (PDT) Message-ID: <68757824.170a0220.19895.dae2SMTPIN_ADDED_MISSING@mx.google.com> Received: from [172.21.0.5] (unknown [172.18.0.240]) by postal.iol.unh.edu (Postfix) with ESMTP id 3B500604D420; Mon, 14 Jul 2025 17:35:31 -0400 (EDT) Subject: |SUCCESS| pw155202 [PATCH] [RFC] doc: clarify VLAN and QinQ strippin From: dpdklab@iol.unh.edu To: Test Report Cc: dpdk-test-reports@iol.unh.edu In-Reply-To: <20250714133014.44597-1-bruce.richardson@intel.com> References: <20250714133014.44597-1-bruce.richardson@intel.com> Content-Type: text/plain X-BeenThere: test-report@dpdk.org X-Mailman-Version: 2.1.29 Precedence: list List-Id: automatic DPDK test reports List-Unsubscribe: , List-Archive: List-Post: List-Help: List-Subscribe: , Errors-To: test-report-bounces@dpdk.org Test-Label: iol-compile-arm64-testing Test-Status: SUCCESS http://dpdk.org/patch/155202 _Testing PASS_ Submitter: Bruce Richardson Date: Monday, July 14 2025 13:30:14 DPDK git baseline: Repo:dpdk Branch: master CommitID:9fe9c0b231c8da5435bfccb1963121b4277f961c 155202 --> testing pass Upstream job id: Generic-DPDK-Compile-Meson#408581 Test environment and result as below: +------------------------------+--------------------+ | Environment | dpdk_meson_compile | +==============================+====================+ | Ubuntu 20.04 | PASS | +------------------------------+--------------------+ | Red Hat Enterprise Linux 9.5 | PASS | +------------------------------+--------------------+ | Fedora Linux 40 | PASS | +------------------------------+--------------------+ | Debian GNU/Linux 12 | PASS | +------------------------------+--------------------+ | CentOS Stream 10 | PASS | +------------------------------+--------------------+ | Ubuntu 24.04 | PASS | +------------------------------+--------------------+ | CentOS Stream 9 | PASS | +------------------------------+--------------------+ | Ubuntu 22.04 | PASS | +------------------------------+--------------------+ | Fedora Linux 41 | PASS | +------------------------------+--------------------+ Ubuntu 20.04 Kernel: 5.15 Compiler: aarch64-linux-gnu-gcc gcc (Ubuntu 9.4.0-1ubuntu1~20.04.2) 9.4.0 Red Hat Enterprise Linux 9.5 Kernel: 5.4 Compiler: gcc gcc (GCC) 11.5.0 20240719 (Red Hat 11.5.0-2) Fedora Linux 40 Kernel: 5.4 Compiler: gcc gcc (GCC) 14.2.1 20240912 (Red Hat 14.2.1-3) Debian GNU/Linux 12 Kernel: 5.4 Compiler: gcc gcc (Debian 12.2.0-14+deb12u1) 12.2.0 CentOS Stream 10 Kernel: 5.4 Compiler: gcc gcc (GCC) 14.2.1 20250110 (Red Hat 14.2.1-8) Ubuntu 24.04 Kernel: 5.4 Compiler: gcc gcc (Ubuntu 13.3.0-6ubuntu2~24.04) 13.3.0 CentOS Stream 9 Kernel: 5.4 Compiler: gcc gcc (GCC) 11.5.0 20240719 (Red Hat 11.5.0-7) Ubuntu 22.04 Kernel: 5.4 Compiler: gcc gcc (Ubuntu 11.4.0-1ubuntu1~22.04) 11.4.0 Fedora Linux 41 Kernel: 5.4 Compiler: gcc gcc (GCC) 14.3.1 20250523 (Red Hat 14.3.1-1) To view detailed results, visit: https://lab.dpdk.org/results/dashboard/patchsets/33649/ UNH-IOL DPDK Community Lab To manage your email subscriptions, visit: https://lab.dpdk.org/results/dashboard/preferences/subscriptions/