From mboxrd@z Thu Jan 1 00:00:00 1970 Return-Path: Received: from mails.dpdk.org (mails.dpdk.org [217.70.189.124]) by inbox.dpdk.org (Postfix) with ESMTP id 47A1546B75 for ; Tue, 15 Jul 2025 00:40:05 +0200 (CEST) Received: from mails.dpdk.org (localhost [127.0.0.1]) by mails.dpdk.org (Postfix) with ESMTP id 2A7624013F; Tue, 15 Jul 2025 00:40:05 +0200 (CEST) Received: from mail-il1-f225.google.com (mail-il1-f225.google.com [209.85.166.225]) by mails.dpdk.org (Postfix) with ESMTP id 49C7E4013F for ; Tue, 15 Jul 2025 00:40:04 +0200 (CEST) Received: by mail-il1-f225.google.com with SMTP id e9e14a558f8ab-3e058e82584so44729935ab.2 for ; Mon, 14 Jul 2025 15:40:04 -0700 (PDT) DKIM-Signature: v=1; a=rsa-sha256; c=relaxed/relaxed; d=iol.unh.edu; s=unh-iol; t=1752532803; x=1753137603; darn=dpdk.org; h=references:in-reply-to:cc:to:from:subject:message-id:date:from:to :cc:subject:date:message-id:reply-to; bh=SvwX/0Ov0pNYFp9QFW4EDVNFlboxUp3Ce3ycrG5xc7g=; b=d5ZrYUmPBqLgLE/NMmFwXyVV//kkNlxN3ey0uuXSekpSn3+MUX8OgOVuF9GFlJa4PB gV3uckFtTgahbz/b8SzIXmMHvAhtz611FftRCg0xVVh2AT8Hy1YzT61FhlivjVCiKCM3 z7jA/KUdhnoeBOJHQZ5rg7M2PrS41HrCY7mHE= X-Google-DKIM-Signature: v=1; a=rsa-sha256; c=relaxed/relaxed; d=1e100.net; s=20230601; t=1752532803; x=1753137603; h=references:in-reply-to:cc:to:from:subject:message-id:date :x-gm-message-state:from:to:cc:subject:date:message-id:reply-to; bh=SvwX/0Ov0pNYFp9QFW4EDVNFlboxUp3Ce3ycrG5xc7g=; b=rjqnAMFU3FZWzijpdZnNbPtzREk5QUuNg6clBXS5lpazxEUDvDGij3s0p6QXencAjB N9TJUTZLlaJMLywhVOYzBbsGOxgpNZ7kxR9za2vJNIIjh16sCDbwK1EC1w82/pepqLHx dkxmR+4Srx0TrGNNoYF+ZEAQSUuMcuBNiT7SMVYLaYB7RK2F5TXrLxcWMJJIt23il/sO Ru9DjVw9ylJrGrwr1NGmvZDeKHYkuCi8gQuR485uAhcNwxltbm/yECQJ0Piox/B+iPWS M++6SaHiXfzrYmH6BJQCDU3VmEtjEGlR103nr7erqP/QaKhfQUMmwCDqytUt1RnHjDQc pqmg== X-Gm-Message-State: AOJu0Yyg/xmIyF/tAQBj3E4iXq2Deuw/F32vczGQmwk6Fv0Jl2tyxapC NAHRZvZnkeX3WHwm9ayhayyTCCgZ9wp4efqr3demYk6jKr971mXYYw8rvpOVoIh6W1K1GSCBNC+ ZE6lQoYTWfV1n29shrZHvgpsDdjpPd0cJ52Qsx1gZvOBs X-Gm-Gg: ASbGncuP83FZe9hxunW9tpL6KD0pv2OCH3+F0D+TiaLBHAovqNC2GabeoC8YzRbRANK tEY/c/tNWMQ8qK5ctmGhhQLKc6ufcxqhHl/WQ7KXWXBpqQ8dvmNN+RW3yrsrkY1MOJkmy4QJ04u cV3yMqtMlvTnIn7KJeUQ0CJb0KJRPKTvIhHHqcY6HqDhYJ3XJ3hRPVAxuuxdUl7BxHqLHcUyVit 4YI4gJFdhJoIpKzwsRhp/FAV6mkvFZo/tPqm+s6ZpXgJbzUBHR3fkjD2Wtn0m240qkiP/wQRbqx V1fehEBRIxOcEVQsqQauhDLBm8rlLRClQoaF24XYkYHPhwWQzouwEH9t2NeNiutBf0+FmzDn X-Google-Smtp-Source: AGHT+IGu7PuRopt5xc0HmafD7X6QuZOhgSRO3+McKnSZR9wAFg2eb+51gw/2yLKqsOAEQC0FlPaxV1d02iaG X-Received: by 2002:a05:6e02:2287:b0:3df:3af4:ae4c with SMTP id e9e14a558f8ab-3e25544705fmr138165755ab.0.1752532803518; Mon, 14 Jul 2025 15:40:03 -0700 (PDT) Received: from postal.iol.unh.edu (postal.iol.unh.edu. [132.177.123.84]) by smtp-relay.gmail.com with ESMTPS id e9e14a558f8ab-3e2462139eesm6811255ab.49.2025.07.14.15.40.03 (version=TLS1_2 cipher=ECDHE-ECDSA-AES128-GCM-SHA256 bits=128/128); Mon, 14 Jul 2025 15:40:03 -0700 (PDT) X-Relaying-Domain: iol.unh.edu Date: Mon, 14 Jul 2025 15:40:03 -0700 (PDT) Message-ID: <68758743.920a0220.ab12c.4f64SMTPIN_ADDED_MISSING@mx.google.com> Received: from [172.21.0.6] (unknown [172.18.0.240]) by postal.iol.unh.edu (Postfix) with ESMTP id 0F6326051830; Mon, 14 Jul 2025 18:40:03 -0400 (EDT) Subject: |SUCCESS| pw155208 [PATCH] mailmap: sort entries From: dpdklab@iol.unh.edu To: Test Report Cc: dpdk-test-reports@iol.unh.edu In-Reply-To: <20250714204516.255880-1-stephen@networkplumber.org> References: <20250714204516.255880-1-stephen@networkplumber.org> Content-Type: text/plain X-BeenThere: test-report@dpdk.org X-Mailman-Version: 2.1.29 Precedence: list List-Id: automatic DPDK test reports List-Unsubscribe: , List-Archive: List-Post: List-Help: List-Subscribe: , Errors-To: test-report-bounces@dpdk.org Test-Label: iol-unit-amd64-testing Test-Status: SUCCESS http://dpdk.org/patch/155208 _Testing PASS_ Submitter: Stephen Hemminger Date: Monday, July 14 2025 20:45:14 DPDK git baseline: Repo:dpdk Branch: master CommitID:9fe9c0b231c8da5435bfccb1963121b4277f961c 155208 --> testing pass Upstream job id: Generic-VM-Unit-Test-DPDK#29945 Test environment and result as below: +-------------------------------+----------------+ | Environment | dpdk_unit_test | +===============================+================+ | CentOS Stream 10 | PASS | +-------------------------------+----------------+ | Debian GNU/Linux 12 | PASS | +-------------------------------+----------------+ | Red Hat Enterprise Linux 8.10 | PASS | +-------------------------------+----------------+ | Fedora Linux 40 | PASS | +-------------------------------+----------------+ | Fedora Linux 41 | PASS | +-------------------------------+----------------+ | CentOS Stream 9 | PASS | +-------------------------------+----------------+ | Ubuntu 24.04 | PASS | +-------------------------------+----------------+ | Red Hat Enterprise Linux 9.5 | PASS | +-------------------------------+----------------+ | Ubuntu 20.04 | PASS | +-------------------------------+----------------+ | Ubuntu 22.04 | PASS | +-------------------------------+----------------+ | Windows Server 2022 | PASS | +-------------------------------+----------------+ CentOS Stream 10 Kernel: 5.15 Compiler: gcc gcc (GCC) 14.2.1 20250110 (Red Hat 14.2.1-8) Debian GNU/Linux 12 Kernel: 5.15 Compiler: gcc gcc (Debian 12.2.0-14+deb12u1) 12.2.0 Red Hat Enterprise Linux 8.10 Kernel: 5.15 Compiler: gcc gcc (GCC) 8.5.0 20210514 (Red Hat 8.5.0-22) Fedora Linux 40 Kernel: 5.15 Compiler: gcc gcc (GCC) 14.2.1 20240912 (Red Hat 14.2.1-3) Fedora Linux 41 Kernel: 5.15 Compiler: gcc gcc (GCC) 14.3.1 20250523 (Red Hat 14.3.1-1) CentOS Stream 9 Kernel: 5.15 Compiler: gcc gcc (GCC) 11.5.0 20240719 (Red Hat 11.5.0-7) Ubuntu 24.04 Kernel: 5.15 Compiler: gcc gcc (Ubuntu 13.3.0-6ubuntu2~24.04) 13.3.0 Red Hat Enterprise Linux 9.5 Kernel: 5.15 Compiler: gcc gcc (GCC) 11.5.0 20240719 (Red Hat 11.5.0-2) Ubuntu 20.04 Kernel: 5.15 Compiler: gcc gcc (Ubuntu 9.4.0-1ubuntu1~20.04.2) 9.4.0 Ubuntu 22.04 Kernel: 5.15 Compiler: gcc gcc (Ubuntu 11.4.0-1ubuntu1~22.04) 11.4.0 Windows Server 2022 Kernel: 10.0.20348.2031 Compiler: clang 15.0.7, gcc 14.1.0 (MinGW), and MSVC VS 19.39.33521 To view detailed results, visit: https://lab.dpdk.org/results/dashboard/patchsets/33653/ UNH-IOL DPDK Community Lab To manage your email subscriptions, visit: https://lab.dpdk.org/results/dashboard/preferences/subscriptions/