From mboxrd@z Thu Jan 1 00:00:00 1970 Return-Path: Received: from mails.dpdk.org (mails.dpdk.org [217.70.189.124]) by inbox.dpdk.org (Postfix) with ESMTP id 5633146B75 for ; Tue, 15 Jul 2025 00:40:50 +0200 (CEST) Received: from mails.dpdk.org (localhost [127.0.0.1]) by mails.dpdk.org (Postfix) with ESMTP id 50D404013F; Tue, 15 Jul 2025 00:40:50 +0200 (CEST) Received: from mail-pl1-f226.google.com (mail-pl1-f226.google.com [209.85.214.226]) by mails.dpdk.org (Postfix) with ESMTP id 745284013F for ; Tue, 15 Jul 2025 00:40:49 +0200 (CEST) Received: by mail-pl1-f226.google.com with SMTP id d9443c01a7336-2363616a1a6so41417575ad.3 for ; Mon, 14 Jul 2025 15:40:49 -0700 (PDT) DKIM-Signature: v=1; a=rsa-sha256; c=relaxed/relaxed; d=iol.unh.edu; s=unh-iol; t=1752532848; x=1753137648; darn=dpdk.org; h=references:in-reply-to:cc:to:from:subject:message-id:date:from:to :cc:subject:date:message-id:reply-to; bh=ZlAVhw1QBRvv966jni0KPNtwYOlIXF7sD3lzx5jjk2w=; b=cr7dveGEOdSxwjlHs69ZKLuFPKYQFU3trJ/mjkfkede5BW/cnadfGScZiyHGcKo4Xq RIveEkPcvQqCs40ND40USjUhTLTtf8sSXlZ+SPxQRdZx5jsqaIgfMkM+wyGH0xy1hqjh XJY7SEUDNQkArqhmrMWmRYOOKFw+1wCgUmSVo= X-Google-DKIM-Signature: v=1; a=rsa-sha256; c=relaxed/relaxed; d=1e100.net; s=20230601; t=1752532848; x=1753137648; h=references:in-reply-to:cc:to:from:subject:message-id:date :x-gm-message-state:from:to:cc:subject:date:message-id:reply-to; bh=ZlAVhw1QBRvv966jni0KPNtwYOlIXF7sD3lzx5jjk2w=; b=e7LSrdJO0w41lEV3RZR54TCnkSICF5dvQeBe7zHdcp9EChIg5H1+g2kjrNZ9hoVvyv MMyukohRYsAXZ8BPBJbXqCdD//f/c22ijc8zmSLeaxCWuCyEGhqdsUqp+qKyWcrc7gvr 37DH2IKWDFT3zFh+GWd1uNeD1H/zxjOXQZJal9mgMvAJ2MS+t3HhXFDbrwhwkFXSm0jR g6H+Yw0NmgVNiAxLqDJlTrEwcrR6zG+v6HgPOuOweqCcaLwNbYnFQblxNwhTqPTQgZJT hKvyVImq/LaMZGWuXJC8KCoVhWBnmKfZAFWyI9KWO5VzEXQHg8MbNVsNBZyhq/MyVRoS 6ORw== X-Gm-Message-State: AOJu0YyFWp+6MRrzZdvo9hHreFjkbB4c1UlKfV8Zf8lAytU8SXFLFPcv kuj5QblVt3P+ZXoqZ6r/pycgxX/Qn5/EZZEZQ3YtDCjI0mcKxJGL9HUYzlVu5ERHtT8zFEbjeDP EjlKI6LZ/p/M9hwuDhOK9eKrXc0Q+9l6kI1kcjIiq/KC+dpZjtPEbX1FuQ7L4 X-Gm-Gg: ASbGncsiGQDIy6A/DSPm/YID1EJdzzIOJeZiqN3s5Hl62Qdf3/eM1YGBEShe6exhoYz lY+Sp9pXZgjXFDdDtKjpsh950GMQQUbfzJuqQbhfPf738wOADntC5s+6wvYq+e+yBe4ZoHxTxnL /9gqRoMNW5BaQbnbFkvKMKaJ11E/deKTdr+YYeZ3EJ0h5aVY78nX6ObEwIC+BX0dcWKIPdcx2J/ 14bwAS4nmijK7N/IANumHtsKMzs0bIEenqvbobayTeai/KpcpoZJy9SUgEs8cz7XT5RZm/Ol3rE VUBVUqPpShzr8hdxM4d8BDE3dYM/X1K+1eK4qp8VhMoVnRVbEQ== X-Google-Smtp-Source: AGHT+IFGF2M2WVhOzR/FXNNMlcC5g8gko7/2vMIUw/0WrYsnsxNFUO+t5IX8+l7ZJd8UozYZ1wKC07wRry2T X-Received: by 2002:a17:902:ea11:b0:234:adce:3ece with SMTP id d9443c01a7336-23dee1afefdmr205022895ad.11.1752532848508; Mon, 14 Jul 2025 15:40:48 -0700 (PDT) Received: from postal.iol.unh.edu (postal.iol.unh.edu. [2606:4100:3880:1234::84]) by smtp-relay.gmail.com with ESMTPS id d9443c01a7336-23de429e0ebsm5652225ad.36.2025.07.14.15.40.48 (version=TLS1_2 cipher=ECDHE-ECDSA-AES128-GCM-SHA256 bits=128/128); Mon, 14 Jul 2025 15:40:48 -0700 (PDT) X-Relaying-Domain: iol.unh.edu Date: Mon, 14 Jul 2025 15:40:48 -0700 (PDT) Message-ID: <68758770.170a0220.3343ca.e01fSMTPIN_ADDED_MISSING@mx.google.com> Received: from [172.21.0.6] (unknown [172.18.0.240]) by postal.iol.unh.edu (Postfix) with ESMTP id 9A4E56051830; Mon, 14 Jul 2025 18:40:47 -0400 (EDT) Subject: |SUCCESS| pw155208 [PATCH] mailmap: sort entries From: dpdklab@iol.unh.edu To: Test Report Cc: dpdk-test-reports@iol.unh.edu In-Reply-To: <20250714204516.255880-1-stephen@networkplumber.org> References: <20250714204516.255880-1-stephen@networkplumber.org> Content-Type: text/plain X-BeenThere: test-report@dpdk.org X-Mailman-Version: 2.1.29 Precedence: list List-Id: automatic DPDK test reports List-Unsubscribe: , List-Archive: List-Post: List-Help: List-Subscribe: , Errors-To: test-report-bounces@dpdk.org Test-Label: iol-abi-testing Test-Status: SUCCESS http://dpdk.org/patch/155208 _Testing PASS_ Submitter: Stephen Hemminger Date: Monday, July 14 2025 20:45:14 DPDK git baseline: Repo:dpdk Branch: master CommitID:9fe9c0b231c8da5435bfccb1963121b4277f961c 155208 --> testing pass Upstream job id: Generic-DPDK-Compile-ABI#134341 Test environment and result as below: +-------------------------------+----------+ | Environment | abi_test | +===============================+==========+ | CentOS Stream 10 | PASS | +-------------------------------+----------+ | Fedora Linux 41 | PASS | +-------------------------------+----------+ | Debian GNU/Linux 12 | PASS | +-------------------------------+----------+ | openSUSE Leap 15.6 | PASS | +-------------------------------+----------+ | Fedora Linux 40 | PASS | +-------------------------------+----------+ | CentOS Stream 9 | PASS | +-------------------------------+----------+ | Ubuntu 22.04 | PASS | +-------------------------------+----------+ | Ubuntu 24.04 | PASS | +-------------------------------+----------+ | Red Hat Enterprise Linux 8.10 | PASS | +-------------------------------+----------+ | Red Hat Enterprise Linux 9.5 | PASS | +-------------------------------+----------+ CentOS Stream 10 Kernel: 5.15 Compiler: gcc gcc (GCC) 14.2.1 20250110 (Red Hat 14.2.1-8) Fedora Linux 41 Kernel: 5.15 Compiler: clang gcc (GCC) 14.3.1 20250523 (Red Hat 14.3.1-1) Debian GNU/Linux 12 Kernel: 5.15 Compiler: gcc gcc (Debian 12.2.0-14+deb12u1) 12.2.0 openSUSE Leap 15.6 Kernel: 5.15 Compiler: gcc gcc (SUSE Linux) 7.5.0 Fedora Linux 40 Kernel: 5.15 Compiler: clang gcc (GCC) 14.2.1 20240912 (Red Hat 14.2.1-3) CentOS Stream 9 Kernel: 5.15 Compiler: gcc gcc (GCC) 11.5.0 20240719 (Red Hat 11.5.0-7) Ubuntu 22.04 Kernel: 5.15 Compiler: gcc gcc (Ubuntu 11.4.0-1ubuntu1~22.04) 11.4.0 Ubuntu 24.04 Kernel: 5.15 Compiler: gcc gcc (Ubuntu 13.3.0-6ubuntu2~24.04) 13.3.0 Red Hat Enterprise Linux 8.10 Kernel: 5.15 Compiler: gcc gcc (GCC) 8.5.0 20210514 (Red Hat 8.5.0-22) Red Hat Enterprise Linux 9.5 Kernel: 5.15 Compiler: gcc gcc (GCC) 11.5.0 20240719 (Red Hat 11.5.0-2) To view detailed results, visit: https://lab.dpdk.org/results/dashboard/patchsets/33653/ UNH-IOL DPDK Community Lab To manage your email subscriptions, visit: https://lab.dpdk.org/results/dashboard/preferences/subscriptions/