From mboxrd@z Thu Jan 1 00:00:00 1970 Return-Path: Received: from mails.dpdk.org (mails.dpdk.org [217.70.189.124]) by inbox.dpdk.org (Postfix) with ESMTP id 3E8E646B75 for ; Tue, 15 Jul 2025 00:48:56 +0200 (CEST) Received: from mails.dpdk.org (localhost [127.0.0.1]) by mails.dpdk.org (Postfix) with ESMTP id 373804013F; Tue, 15 Jul 2025 00:48:56 +0200 (CEST) Received: from mail-io1-f100.google.com (mail-io1-f100.google.com [209.85.166.100]) by mails.dpdk.org (Postfix) with ESMTP id 816794013F for ; Tue, 15 Jul 2025 00:48:54 +0200 (CEST) Received: by mail-io1-f100.google.com with SMTP id ca18e2360f4ac-86d00726631so136027839f.1 for ; Mon, 14 Jul 2025 15:48:54 -0700 (PDT) DKIM-Signature: v=1; a=rsa-sha256; c=relaxed/relaxed; d=iol.unh.edu; s=unh-iol; t=1752533334; x=1753138134; darn=dpdk.org; h=references:in-reply-to:cc:to:from:subject:message-id:date:from:to :cc:subject:date:message-id:reply-to; bh=ypuGWQ+/OUwCuZcDiVaiT/5NdML1/jgJ7eeo/cQz30Q=; b=iAv2c6sQiniJ5u6VAC939dMiO+pLn2bS0qQgxbbudgwHUsY6oIrRyDzuyIflNAg3GS D4HELiI1iN8wnCughBHMH38ZY1sKjf6BTASn7Pdx5FZdvN6ch02kIhMB6OrHpiy8AQ6A 4kF8zBTG4xt9x+6eruDCx5PTMaaBNUAZrzeTo= X-Google-DKIM-Signature: v=1; a=rsa-sha256; c=relaxed/relaxed; d=1e100.net; s=20230601; t=1752533334; x=1753138134; h=references:in-reply-to:cc:to:from:subject:message-id:date :x-gm-message-state:from:to:cc:subject:date:message-id:reply-to; bh=ypuGWQ+/OUwCuZcDiVaiT/5NdML1/jgJ7eeo/cQz30Q=; b=jCWGudQjj7SursDE3XL9yHbfLdRwZc4IDoBlyzQ1dqJlNpbV38MC7ziHBhhyuicQoV cdCDVC5aGROgtORDkNeNhsDxBBmSbyGSbEMLoQzYiLqXiDTT9hdq3t2KBWATL3p92X2/ zyQTbffVQcfPUboDsbW/7WNi343+sezAZr4kIhDPJ8iVHxE32wYdvuGwe9YfCr96/0Qn 51qkk+FELjScRDlL4NMlRiOUUmPnOIcuQqqrjveBD5lRRCQDL8EqrDP4pD1FKA0gYRuI M9uEcvkQ4TEIGgelEZ1QcIU4KiDm8w40d6sG6hkom02g9DmY7RTba/t66uci4QleG2WY jUMQ== X-Gm-Message-State: AOJu0YxYPxUjWojAP26DcqgnDvXRXPS2T1djoVdiJWiEvxXxd+h/hXot 70JtXnr2sw5k3irI1CWt9+ndZ5ALmbG5RnL+Edla3nTvg9z9ldLE929xFFX0Qk/7oe4OBxLApzw 2WeDNYMXlRMCOyoXYmZIc9mu2Ht+We9voyRkXsqa6EZgu47NAp075t8XG8fvu X-Gm-Gg: ASbGncvhurqGwyigYx98jOy4iJA6gjrVQhpxVWPE/I+yuCdIhfc1yzKkadKQLKwzSKe gfyvP/nRpElvZ/Q58iTNnR6UMoy7ZtWrYfeuiDLSM9EUHF5L5FkId3b58ndUJQyeEBQSvE03cG+ eY0mDIeGs9MQ0Em8O+wgDWUPvlbVCTJ4eJ/sBExk2N4+8gA4orfajBwHDv588sltAd/GcD0fV1H yQ+ZnzxIJBC907cod+wur1axHmMuAdLiLYZpt0wnhJswkDduAH1rOyI700QSgSFaMk+KHkwiRa0 M5gPQPpS0fW4iTGwrvkJUEn3k0zyA+kgDAp5l+giy/ZkddeKSQ== X-Google-Smtp-Source: AGHT+IFsmzAP6lNE7dFVRsWCkIkzq0jmMitxjbBfTUx0k+G/k0e7rt2skQfDhaZ5AArlWVGliPdGRKgqU4Cl X-Received: by 2002:a05:6602:4804:b0:873:1cc0:ae59 with SMTP id ca18e2360f4ac-879787fc64emr1528484739f.5.1752533333813; Mon, 14 Jul 2025 15:48:53 -0700 (PDT) Received: from postal.iol.unh.edu (postal.iol.unh.edu. [2606:4100:3880:1234::84]) by smtp-relay.gmail.com with ESMTPS id 8926c6da1cb9f-50556754a3asm512951173.38.2025.07.14.15.48.53 (version=TLS1_2 cipher=ECDHE-ECDSA-AES128-GCM-SHA256 bits=128/128); Mon, 14 Jul 2025 15:48:53 -0700 (PDT) X-Relaying-Domain: iol.unh.edu Date: Mon, 14 Jul 2025 15:48:53 -0700 (PDT) Message-ID: <68758955.050a0220.35bdfb.b6d9SMTPIN_ADDED_MISSING@mx.google.com> Received: from [172.21.0.5] (unknown [172.18.0.240]) by postal.iol.unh.edu (Postfix) with ESMTP id 4CD726051830; Mon, 14 Jul 2025 18:48:53 -0400 (EDT) Subject: |SUCCESS| pw155208 [PATCH] mailmap: sort entries From: dpdklab@iol.unh.edu To: Test Report Cc: dpdk-test-reports@iol.unh.edu In-Reply-To: <20250714204516.255880-1-stephen@networkplumber.org> References: <20250714204516.255880-1-stephen@networkplumber.org> Content-Type: text/plain X-BeenThere: test-report@dpdk.org X-Mailman-Version: 2.1.29 Precedence: list List-Id: automatic DPDK test reports List-Unsubscribe: , List-Archive: List-Post: List-Help: List-Subscribe: , Errors-To: test-report-bounces@dpdk.org Test-Label: iol-unit-arm64-testing Test-Status: SUCCESS http://dpdk.org/patch/155208 _Testing PASS_ Submitter: Stephen Hemminger Date: Monday, July 14 2025 20:45:14 DPDK git baseline: Repo:dpdk Branch: master CommitID:9fe9c0b231c8da5435bfccb1963121b4277f961c 155208 --> testing pass Upstream job id: Generic-Unit-Test-DPDK#355383 Test environment and result as below: +------------------------------+------------------------------+---------------------------+--------------+----------------+ | Environment | cryptodev_sw_snow3g_autotest | cryptodev_sw_zuc_autotest | lpm_autotest | dpdk_unit_test | +==============================+==============================+===========================+==============+================+ | Debian 12 (arm) | PASS | PASS | SKIPPED | SKIPPED | +------------------------------+------------------------------+---------------------------+--------------+----------------+ | Ubuntu 20.04 | SKIPPED | SKIPPED | PASS | PASS | +------------------------------+------------------------------+---------------------------+--------------+----------------+ | Fedora Linux 40 | SKIPPED | SKIPPED | SKIPPED | PASS | +------------------------------+------------------------------+---------------------------+--------------+----------------+ | CentOS Stream 9 | SKIPPED | SKIPPED | SKIPPED | PASS | +------------------------------+------------------------------+---------------------------+--------------+----------------+ | CentOS Stream 10 | SKIPPED | SKIPPED | SKIPPED | PASS | +------------------------------+------------------------------+---------------------------+--------------+----------------+ | Debian GNU/Linux 12 | SKIPPED | SKIPPED | SKIPPED | PASS | +------------------------------+------------------------------+---------------------------+--------------+----------------+ | Red Hat Enterprise Linux 9.5 | SKIPPED | SKIPPED | SKIPPED | PASS | +------------------------------+------------------------------+---------------------------+--------------+----------------+ | Fedora Linux 41 | SKIPPED | SKIPPED | SKIPPED | PASS | +------------------------------+------------------------------+---------------------------+--------------+----------------+ | Ubuntu 22.04 | SKIPPED | SKIPPED | SKIPPED | PASS | +------------------------------+------------------------------+---------------------------+--------------+----------------+ | Ubuntu 24.04 | SKIPPED | SKIPPED | SKIPPED | PASS | +------------------------------+------------------------------+---------------------------+--------------+----------------+ Debian 12 (arm) Kernel: Depends on container host Compiler: gcc (Debian 12.2.0-14) 12.2.0 Ubuntu 20.04 Kernel: 5.4 Compiler: gcc gcc (Ubuntu 9.4.0-1ubuntu1~20.04.2) 9.4.0 Fedora Linux 40 Kernel: 5.4 Compiler: clang gcc (GCC) 14.2.1 20240912 (Red Hat 14.2.1-3) CentOS Stream 9 Kernel: 5.4 Compiler: gcc gcc (GCC) 11.5.0 20240719 (Red Hat 11.5.0-7) CentOS Stream 10 Kernel: 5.4 Compiler: gcc gcc (GCC) 14.2.1 20250110 (Red Hat 14.2.1-8) Debian GNU/Linux 12 Kernel: 5.4 Compiler: gcc gcc (Debian 12.2.0-14+deb12u1) 12.2.0 Red Hat Enterprise Linux 9.5 Kernel: 5.4 Compiler: gcc gcc (GCC) 11.5.0 20240719 (Red Hat 11.5.0-2) Fedora Linux 41 Kernel: 5.4 Compiler: clang gcc (GCC) 14.3.1 20250523 (Red Hat 14.3.1-1) Ubuntu 22.04 Kernel: 5.4 Compiler: gcc gcc (Ubuntu 11.4.0-1ubuntu1~22.04) 11.4.0 Ubuntu 24.04 Kernel: 5.4 Compiler: gcc gcc (Ubuntu 13.3.0-6ubuntu2~24.04) 13.3.0 To view detailed results, visit: https://lab.dpdk.org/results/dashboard/patchsets/33653/ UNH-IOL DPDK Community Lab To manage your email subscriptions, visit: https://lab.dpdk.org/results/dashboard/preferences/subscriptions/