From mboxrd@z Thu Jan 1 00:00:00 1970 Return-Path: Received: from mails.dpdk.org (mails.dpdk.org [217.70.189.124]) by inbox.dpdk.org (Postfix) with ESMTP id 9818046B75 for ; Tue, 15 Jul 2025 00:51:55 +0200 (CEST) Received: from mails.dpdk.org (localhost [127.0.0.1]) by mails.dpdk.org (Postfix) with ESMTP id 926D34013F; Tue, 15 Jul 2025 00:51:55 +0200 (CEST) Received: from mail-pg1-f226.google.com (mail-pg1-f226.google.com [209.85.215.226]) by mails.dpdk.org (Postfix) with ESMTP id 68B324013F for ; Tue, 15 Jul 2025 00:51:54 +0200 (CEST) Received: by mail-pg1-f226.google.com with SMTP id 41be03b00d2f7-b3bcb168fd5so3223257a12.3 for ; Mon, 14 Jul 2025 15:51:54 -0700 (PDT) DKIM-Signature: v=1; a=rsa-sha256; c=relaxed/relaxed; d=iol.unh.edu; s=unh-iol; t=1752533513; x=1753138313; darn=dpdk.org; h=references:in-reply-to:cc:to:from:subject:message-id:date:from:to :cc:subject:date:message-id:reply-to; bh=t8xobkocOcc5fTGu1qLLPW5Z5sxQHtjJbOaHzSoQkck=; b=eF3mi43MPAtb73Qyh20+pPVpq9IRYgdW8zHWwy5jfvPT52u6xUK/LFVBVycHhblm8M Wj6bQuH/vt9CcP6e9EwARdTP9svXoCKR3cgmnT6wFVkQ0C8IJOQE0UF+fOx7P9gKMSab VDRx0iqR3zt1AUeDJjDMVOMckPC3Lq8YFymNY= X-Google-DKIM-Signature: v=1; a=rsa-sha256; c=relaxed/relaxed; d=1e100.net; s=20230601; t=1752533513; x=1753138313; h=references:in-reply-to:cc:to:from:subject:message-id:date :x-gm-message-state:from:to:cc:subject:date:message-id:reply-to; bh=t8xobkocOcc5fTGu1qLLPW5Z5sxQHtjJbOaHzSoQkck=; b=CgoxgJPkIGuFnKH7ie1uyjG0WjTInbjBd1vqINiRdDGQUjwDCabrmd8npZjUZ5OClc YMyGH2ErgjehopRXeZ8OYmXoaB3wTg52MUmW+8zJ3pWLldFwu0bR+7OX1uqCHkBrahQl Qy3CFAFacafoNns9dwpMPqF8GPAS1ABw2eWOw7mjv2lqwkVUO1fZ1Vw0v/eUqNqGluOH A2ZJ+u5JTboa0S8neXsKIXV8HuUpHINSLutO2MX1b9Z1ivLGO+IjaXblG7nTXh/nExxs kpn67SW9SezZAAT/hA7VK2ZcFLEturip0Xf2IP8jykgiI7qqZ3i+/NS7+67gdnnVnvYC N5cQ== X-Gm-Message-State: AOJu0Yw3AxbG+yv4uZjshcDUHT0KtkvboD8muykekAvXlsX5f7XSnJQ4 jK/1NYRLtofLYkvOhmUkP7zebjLCg4PiK6L+Hq56G6LnijO543xAvCAV4acNmGauIbqWLGWiGtK 94Vku1zs+nk0PhR2sGVgxdIuDq7El2ro+bpFOh+fmWRifX4zzyew6/fUSGrW+ X-Gm-Gg: ASbGnct8nb5hV9+QiVw/Z5MMsRUdl4QwkGuuvSr28S1Lx1e1yib5tSccM9bDUUol/fv 91estADW6vp0xEWow+At5q6FKLK0XqdpcP2jO1f4uPKvNm5tvbMgH7SenZ5diNBeHK7U2WoDqOW ou/fj8hzVCBFyGSDChhgq+bBeWNstgRhdP9yOzCes33qfnC9DcYoyA4BE1AOJZEkcpgBrPsPibu eY2N9m+ViepmAwB96slccPfiNJ4fNnj4ImQMovUnTXnquzTqWhidAQ856nJJ0ZCBu9ORVPyj3Od MM/xbMx4sASaHdqT5F9uSLPYkuSrk7B8U9cYHU3jsWVxs6lBgA== X-Google-Smtp-Source: AGHT+IEBuyYD3p0mnCidDHYxdrbh/DUqyyAEopUsB9oM6r1FF3d7eH1U7UrdhmYCGJIC2htWw9PhVJ55nmC2 X-Received: by 2002:a17:90b:54c8:b0:311:e731:523a with SMTP id 98e67ed59e1d1-31c4f4ae190mr22997755a91.11.1752533513346; Mon, 14 Jul 2025 15:51:53 -0700 (PDT) Received: from postal.iol.unh.edu (postal.iol.unh.edu. [2606:4100:3880:1234::84]) by smtp-relay.gmail.com with ESMTPS id 98e67ed59e1d1-31c3e9ab143sm828649a91.7.2025.07.14.15.51.53 (version=TLS1_2 cipher=ECDHE-ECDSA-AES128-GCM-SHA256 bits=128/128); Mon, 14 Jul 2025 15:51:53 -0700 (PDT) X-Relaying-Domain: iol.unh.edu Date: Mon, 14 Jul 2025 15:51:53 -0700 (PDT) Message-ID: <68758a09.170a0220.21bf06.c844SMTPIN_ADDED_MISSING@mx.google.com> Received: from [172.21.0.5] (unknown [172.18.0.240]) by postal.iol.unh.edu (Postfix) with ESMTP id 900EF6051830; Mon, 14 Jul 2025 18:51:52 -0400 (EDT) Subject: |SUCCESS| pw155208 [PATCH] mailmap: sort entries From: dpdklab@iol.unh.edu To: Test Report Cc: dpdk-test-reports@iol.unh.edu In-Reply-To: <20250714204516.255880-1-stephen@networkplumber.org> References: <20250714204516.255880-1-stephen@networkplumber.org> Content-Type: text/plain X-BeenThere: test-report@dpdk.org X-Mailman-Version: 2.1.29 Precedence: list List-Id: automatic DPDK test reports List-Unsubscribe: , List-Archive: List-Post: List-Help: List-Subscribe: , Errors-To: test-report-bounces@dpdk.org Test-Label: iol-compile-amd64-testing Test-Status: SUCCESS http://dpdk.org/patch/155208 _Testing PASS_ Submitter: Stephen Hemminger Date: Monday, July 14 2025 20:45:14 DPDK git baseline: Repo:dpdk Branch: master CommitID:9fe9c0b231c8da5435bfccb1963121b4277f961c 155208 --> testing pass Upstream job id: Generic-DPDK-Compile-Meson#408703 Test environment and result as below: +-------------------------------+--------------------+-------------------+------------------+-------------------------+-------------------+----------------------+ | Environment | dpdk_meson_compile | dpdk_compile_spdk | dpdk_compile_ovs | dpdk_llvm_clang_compile | dpdk_msvc_compile | dpdk_mingw64_compile | +===============================+====================+===================+==================+=========================+===================+======================+ | CentOS Stream 10 | PASS | SKIPPED | SKIPPED | SKIPPED | SKIPPED | SKIPPED | +-------------------------------+--------------------+-------------------+------------------+-------------------------+-------------------+----------------------+ | CentOS Stream 9 | PASS | PASS | SKIPPED | SKIPPED | SKIPPED | SKIPPED | +-------------------------------+--------------------+-------------------+------------------+-------------------------+-------------------+----------------------+ | Debian GNU/Linux 12 | PASS | PASS | SKIPPED | SKIPPED | SKIPPED | SKIPPED | +-------------------------------+--------------------+-------------------+------------------+-------------------------+-------------------+----------------------+ | Fedora Linux 40 | PASS | PASS | SKIPPED | SKIPPED | SKIPPED | SKIPPED | +-------------------------------+--------------------+-------------------+------------------+-------------------------+-------------------+----------------------+ | Fedora Linux 41 | PASS | PASS | PASS | SKIPPED | SKIPPED | SKIPPED | +-------------------------------+--------------------+-------------------+------------------+-------------------------+-------------------+----------------------+ | openSUSE Leap 15.6 | PASS | SKIPPED | SKIPPED | SKIPPED | SKIPPED | SKIPPED | +-------------------------------+--------------------+-------------------+------------------+-------------------------+-------------------+----------------------+ | Red Hat Enterprise Linux 8.10 | PASS | SKIPPED | SKIPPED | SKIPPED | SKIPPED | SKIPPED | +-------------------------------+--------------------+-------------------+------------------+-------------------------+-------------------+----------------------+ | Ubuntu 24.04 | PASS | PASS | PASS | SKIPPED | SKIPPED | SKIPPED | +-------------------------------+--------------------+-------------------+------------------+-------------------------+-------------------+----------------------+ | Ubuntu 22.04 | PASS | PASS | SKIPPED | SKIPPED | SKIPPED | SKIPPED | +-------------------------------+--------------------+-------------------+------------------+-------------------------+-------------------+----------------------+ | Red Hat Enterprise Linux 9.5 | PASS | SKIPPED | SKIPPED | SKIPPED | SKIPPED | SKIPPED | +-------------------------------+--------------------+-------------------+------------------+-------------------------+-------------------+----------------------+ | Ubuntu 20.04 | PASS | SKIPPED | SKIPPED | SKIPPED | SKIPPED | SKIPPED | +-------------------------------+--------------------+-------------------+------------------+-------------------------+-------------------+----------------------+ | Alpine Linux 3.22.0 | PASS | SKIPPED | SKIPPED | SKIPPED | SKIPPED | SKIPPED | +-------------------------------+--------------------+-------------------+------------------+-------------------------+-------------------+----------------------+ | FreeBSD 14.2 | PASS | SKIPPED | SKIPPED | SKIPPED | SKIPPED | SKIPPED | +-------------------------------+--------------------+-------------------+------------------+-------------------------+-------------------+----------------------+ | Windows Server 2022 | SKIPPED | SKIPPED | SKIPPED | PASS | PASS | PASS | +-------------------------------+--------------------+-------------------+------------------+-------------------------+-------------------+----------------------+ CentOS Stream 10 Kernel: 5.15 Compiler: gcc gcc (GCC) 14.2.1 20250110 (Red Hat 14.2.1-8) CentOS Stream 9 Kernel: 5.15 Compiler: gcc gcc (GCC) 11.5.0 20240719 (Red Hat 11.5.0-7) Debian GNU/Linux 12 Kernel: 5.15 Compiler: gcc gcc (Debian 12.2.0-14+deb12u1) 12.2.0 Fedora Linux 40 Kernel: 5.15 Compiler: gcc gcc (GCC) 14.2.1 20240912 (Red Hat 14.2.1-3) Fedora Linux 41 Kernel: 5.15 Compiler: clang gcc (GCC) 14.3.1 20250523 (Red Hat 14.3.1-1) openSUSE Leap 15.6 Kernel: 5.15 Compiler: gcc gcc (SUSE Linux) 7.5.0 Red Hat Enterprise Linux 8.10 Kernel: 5.15 Compiler: gcc gcc (GCC) 8.5.0 20210514 (Red Hat 8.5.0-22) Ubuntu 24.04 Kernel: 5.15 Compiler: gcc gcc (Ubuntu 13.3.0-6ubuntu2~24.04) 13.3.0 Ubuntu 22.04 Kernel: 5.15 Compiler: gcc gcc (Ubuntu 11.4.0-1ubuntu1~22.04) 11.4.0 Red Hat Enterprise Linux 9.5 Kernel: 5.15 Compiler: gcc gcc (GCC) 11.5.0 20240719 (Red Hat 11.5.0-2) Ubuntu 20.04 Kernel: 4.19 Compiler: gcc gcc (Ubuntu 9.4.0-1ubuntu1~20.04.2) 9.4.0 Alpine Linux 3.22.0 Kernel: 5.15 Compiler: gcc gcc (Alpine 14.2.0) 14.2.0 FreeBSD 14.2 Kernel: 14.2-RELEASE Compiler: clang 18.1.6 Windows Server 2022 Kernel: 10.0.20348.2031 Compiler: clang 15.0.7, gcc 14.1.0 (MinGW), and MSVC VS 19.39.33521 To view detailed results, visit: https://lab.dpdk.org/results/dashboard/patchsets/33653/ UNH-IOL DPDK Community Lab To manage your email subscriptions, visit: https://lab.dpdk.org/results/dashboard/preferences/subscriptions/