From mboxrd@z Thu Jan 1 00:00:00 1970 Return-Path: Received: from mails.dpdk.org (mails.dpdk.org [217.70.189.124]) by inbox.dpdk.org (Postfix) with ESMTP id 17A7846B75 for ; Tue, 15 Jul 2025 01:46:42 +0200 (CEST) Received: from mails.dpdk.org (localhost [127.0.0.1]) by mails.dpdk.org (Postfix) with ESMTP id EC24D4013F; Tue, 15 Jul 2025 01:46:41 +0200 (CEST) Received: from mail-io1-f97.google.com (mail-io1-f97.google.com [209.85.166.97]) by mails.dpdk.org (Postfix) with ESMTP id 609944013F for ; Tue, 15 Jul 2025 01:46:40 +0200 (CEST) Received: by mail-io1-f97.google.com with SMTP id ca18e2360f4ac-87967784150so268097339f.3 for ; Mon, 14 Jul 2025 16:46:40 -0700 (PDT) DKIM-Signature: v=1; a=rsa-sha256; c=relaxed/relaxed; d=iol.unh.edu; s=unh-iol; t=1752536799; x=1753141599; darn=dpdk.org; h=references:in-reply-to:cc:to:from:subject:message-id:date:from:to :cc:subject:date:message-id:reply-to; bh=ZopEarGShtiaKqbAPPd+ZqMnZn2zeIoLsV2rNzeA/eo=; b=jzSwkJe7LT/Ym1AqMXBJkAhubF59EHbAa+g4a+umvT+RrbKiTaKLLGQScbYakICTX3 nlaWuIIEQjNsKapoI8kfOMg7V6P29yK4JPkM2s0T/jA3Y4Pf2XdYeflP33uf3bbf8nN1 ssdUw6vmsjLKXCVdncI2fZaTS6yL+oLKJWDPA= X-Google-DKIM-Signature: v=1; a=rsa-sha256; c=relaxed/relaxed; d=1e100.net; s=20230601; t=1752536799; x=1753141599; h=references:in-reply-to:cc:to:from:subject:message-id:date :x-gm-message-state:from:to:cc:subject:date:message-id:reply-to; bh=ZopEarGShtiaKqbAPPd+ZqMnZn2zeIoLsV2rNzeA/eo=; b=M3tIRIm5622ClVo+oKSjgriRhvFF7wGyxzBifhGmZaThhZYs2cVuVd62uxi+1S7XUU WQhS0rdfWomLd2RAeLi54X6jblehBtl5Hvsv4CunfCYKOLEwdor0NHuMT+H0m/sXHIlX aVwZiRY5Fa6F/o9rJntgcrQxnT23ignTHbQfmc7fTm+V1iG4jQ+aLMwlv1sy2Cbk8f9P dtZrAzpcKxU+a9HHgOLrHBz2WO2BiLu0K62J9qEcuQ4E1c6U0KP8M04gaTheKjh3PveW t8eWm7Z0zDZQWleBst3/UbuxHDOM6jjC+G+U/NOCn6yYzy8ZfdczsSWcuzckrLJDzDSW pqMw== X-Gm-Message-State: AOJu0YyjwpKxREYhOFUlKt2YWDd6Oby0+KTu1U+yrF7N2/f9aNRYUGa7 0HDvQ87zzSfwRCs24TpGfdISMLArGrN7AxfSoxmBmPsfJmlxknkdcNuUcQwT/Y9jNDSjIHw8QG2 DrBi+eaFKUMgCz3hHiYW9YL6j9de4sq+27tC6HUXDr/Qt X-Gm-Gg: ASbGncvzM6BuYOvtfEwEmDx8YpS1DYl/s4/1uLT7dKaPBMMptV06Kl1u/8TUiIUjYkc mCQ7Gx865Ir48H99PxaQkaW+23JnPA1JXhW7hHewdX2mtMJhrFja1y3di+bN2abVYrae4839Euv D0UqOMuCPRPnZ2zkizGZ3TxUFE9Wtg56iK88mpdXcHuOpcfVvY1BKjAVP7J1qU3PG5IgXgWefQV MpUJxpP4byOE0JewLGsz2TNoTZUv4llbqBolavR+bD6oi4Oh+lSOxI1a7j/A7tN7SbqfBHtZqGR IAPLz+XU4MfhJGk9qKfOitcYGqYxsyWyy+WSGiV6Tt+hWzW0VOdgYvS23SXnamWOOegVDMwc X-Google-Smtp-Source: AGHT+IEWn0v48+RAEGT4vLeq6MO4jUnAojnKgnfB+C/w3BbvcSLEM0/jC8O30s3dAwp/LJ2JahfLd7VKrjIi X-Received: by 2002:a05:6602:b90:b0:875:28e5:92e5 with SMTP id ca18e2360f4ac-87977fdd8cbmr1513744339f.13.1752536799621; Mon, 14 Jul 2025 16:46:39 -0700 (PDT) Received: from postal.iol.unh.edu (postal.iol.unh.edu. [132.177.123.84]) by smtp-relay.gmail.com with ESMTPS id ca18e2360f4ac-8796bc1c5e1sm50002239f.29.2025.07.14.16.46.39 (version=TLS1_2 cipher=ECDHE-ECDSA-AES128-GCM-SHA256 bits=128/128); Mon, 14 Jul 2025 16:46:39 -0700 (PDT) X-Relaying-Domain: iol.unh.edu Date: Mon, 14 Jul 2025 16:46:39 -0700 (PDT) Message-ID: <687596df.050a0220.20530e.b2e7SMTPIN_ADDED_MISSING@mx.google.com> Received: from [172.21.0.5] (unknown [172.18.0.240]) by postal.iol.unh.edu (Postfix) with ESMTP id 1B65A6051830; Mon, 14 Jul 2025 19:46:39 -0400 (EDT) Subject: |SUCCESS| pw155207 [PATCH] [v1] mailmap: add new email to DPDK From: dpdklab@iol.unh.edu To: Test Report Cc: dpdk-test-reports@iol.unh.edu In-Reply-To: <20250714191141.1243467-1-pravin.pathak@intel.com> References: <20250714191141.1243467-1-pravin.pathak@intel.com> Content-Type: text/plain X-BeenThere: test-report@dpdk.org X-Mailman-Version: 2.1.29 Precedence: list List-Id: automatic DPDK test reports List-Unsubscribe: , List-Archive: List-Post: List-Help: List-Subscribe: , Errors-To: test-report-bounces@dpdk.org Test-Label: iol-compile-arm64-testing Test-Status: SUCCESS http://dpdk.org/patch/155207 _Testing PASS_ Submitter: Pravin Pathak Date: Monday, July 14 2025 19:11:41 DPDK git baseline: Repo:dpdk Branch: master CommitID:9fe9c0b231c8da5435bfccb1963121b4277f961c 155207 --> testing pass Upstream job id: Generic-DPDK-Compile-Meson#408689 Test environment and result as below: +------------------------------+--------------------+ | Environment | dpdk_meson_compile | +==============================+====================+ | Red Hat Enterprise Linux 9.5 | PASS | +------------------------------+--------------------+ | Ubuntu 20.04 | PASS | +------------------------------+--------------------+ | Debian GNU/Linux 12 | PASS | +------------------------------+--------------------+ | Fedora Linux 40 | PASS | +------------------------------+--------------------+ | Fedora Linux 41 | PASS | +------------------------------+--------------------+ | Ubuntu 22.04 | PASS | +------------------------------+--------------------+ | CentOS Stream 9 | PASS | +------------------------------+--------------------+ | Ubuntu 24.04 | PASS | +------------------------------+--------------------+ | CentOS Stream 10 | PASS | +------------------------------+--------------------+ Red Hat Enterprise Linux 9.5 Kernel: 5.4 Compiler: gcc gcc (GCC) 11.5.0 20240719 (Red Hat 11.5.0-2) Ubuntu 20.04 Kernel: 5.15 Compiler: aarch64-linux-gnu-gcc gcc (Ubuntu 9.4.0-1ubuntu1~20.04.2) 9.4.0 Debian GNU/Linux 12 Kernel: 5.4 Compiler: gcc gcc (Debian 12.2.0-14+deb12u1) 12.2.0 Fedora Linux 40 Kernel: 5.4 Compiler: clang gcc (GCC) 14.2.1 20240912 (Red Hat 14.2.1-3) Fedora Linux 41 Kernel: 5.4 Compiler: gcc gcc (GCC) 14.3.1 20250523 (Red Hat 14.3.1-1) Ubuntu 22.04 Kernel: 5.4 Compiler: gcc gcc (Ubuntu 11.4.0-1ubuntu1~22.04) 11.4.0 CentOS Stream 9 Kernel: 5.4 Compiler: gcc gcc (GCC) 11.5.0 20240719 (Red Hat 11.5.0-7) Ubuntu 24.04 Kernel: 5.4 Compiler: gcc gcc (Ubuntu 13.3.0-6ubuntu2~24.04) 13.3.0 CentOS Stream 10 Kernel: 5.4 Compiler: gcc gcc (GCC) 14.2.1 20250110 (Red Hat 14.2.1-8) To view detailed results, visit: https://lab.dpdk.org/results/dashboard/patchsets/33652/ UNH-IOL DPDK Community Lab To manage your email subscriptions, visit: https://lab.dpdk.org/results/dashboard/preferences/subscriptions/