From mboxrd@z Thu Jan 1 00:00:00 1970 Return-Path: Received: from mails.dpdk.org (mails.dpdk.org [217.70.189.124]) by inbox.dpdk.org (Postfix) with ESMTP id A258B46B76 for ; Tue, 15 Jul 2025 02:53:26 +0200 (CEST) Received: from mails.dpdk.org (localhost [127.0.0.1]) by mails.dpdk.org (Postfix) with ESMTP id 81C894013F; Tue, 15 Jul 2025 02:53:26 +0200 (CEST) Received: from mail-pl1-f226.google.com (mail-pl1-f226.google.com [209.85.214.226]) by mails.dpdk.org (Postfix) with ESMTP id F00A44013F for ; Tue, 15 Jul 2025 02:53:25 +0200 (CEST) Received: by mail-pl1-f226.google.com with SMTP id d9443c01a7336-234c5b57557so48739715ad.3 for ; Mon, 14 Jul 2025 17:53:25 -0700 (PDT) DKIM-Signature: v=1; a=rsa-sha256; c=relaxed/relaxed; d=iol.unh.edu; s=unh-iol; t=1752540805; x=1753145605; darn=dpdk.org; h=references:in-reply-to:cc:to:from:subject:message-id:date:from:to :cc:subject:date:message-id:reply-to; bh=H4uk4DlEdPrCVijYoz2T1Rp7gXXoFLOhabTtlnYtwKw=; b=TWA5RqWox24evLMdB+UyvPkOHfv+7DxZzh8u2P4zZNHwhllKEwCIIlbh8ll+qtRUhH H+UvqugE3hu6DzwTUGvtCuaF8yCcBZ2mODeUsKOPMalFvpIDxiovX3wfR4DVX2kx4BeB eQWGy7Rx346ecNLzBwB02QVWr2WfdA/qNg2Qg= X-Google-DKIM-Signature: v=1; a=rsa-sha256; c=relaxed/relaxed; d=1e100.net; s=20230601; t=1752540805; x=1753145605; h=references:in-reply-to:cc:to:from:subject:message-id:date :x-gm-message-state:from:to:cc:subject:date:message-id:reply-to; bh=H4uk4DlEdPrCVijYoz2T1Rp7gXXoFLOhabTtlnYtwKw=; b=oiHgxxBrW6cKvFlep62bdW4hq0HvB9oNZnovImo2ZB+6QrHWH0JWLIifIZUCoDfVoQ MMbvOQPEKNA2+nOGf75JtC2/bNzVZ11kvBl4DOOkA2XxaEuMqx450lTfJQSUKvMh5o/Q mjpvFf8YAVWZ2stYwIDpi7HPm62oIXU0Y6OmKlnpj513PJLYOfffeLVgoJocnjyfpZdm e8IsWZz61IsnTNyOxgW0OR2wQ8HR5i1Lrt+GalUQ0R8rHbefT3ZyDFlGmQfgFG32aXQH s10FTlNt3yjoDwqsSTtePeCOci4PcmpaU7FJH6/u1x+xyzahlYcyyEO9d4a5GYKvQPXp 4eAA== X-Gm-Message-State: AOJu0YwWVp1uz1/uylqyLKzCmN2A+qmz4CxqcQn6jbSdGFvk8DFL4DsL m38LW+P2nayV/m7NMWZ/pWl7/8fpeYCqZM8lw8M63PFdoeLyRL3fj+Xlkl2/uuBGLK1tQPc0Vgq oylvPsqrGLTp05zsVEg3M9edlduphq7PCKhkcJZEwH4Tz4KikxHyS4QM3m8TI X-Gm-Gg: ASbGncvJf80lhvXVBN2PpuBYaWErTTyqLCPnQ4iZJ+62xMutVrhob6HusKdrUstqBaK ZxsJ16PiMPKqE1AzIYd1d1BtMth+7cl1lrI9VZWJZ2Md55L2SOoRoBy1wcGCtGaViZDGMVV9uc2 +jJrhJTt9TgGF4GtqdRfpdZxNo8cxwth1Qe5BhurEt5hzKjD884Mf4Dgr9f1N8Kmsbeais7BWTj mvmv0Dhm9yyuy75F2vnmnuFg89PbMEh2uqP/FAcJgofZWH8BWm+8RKDfnpQkSJX1uzekagHX1Ia YHY0TjYpHiecZ13uBFd1JYa2PFkNOQWg5Mk+KyXHYz8mYfrzQA== X-Google-Smtp-Source: AGHT+IFKhm7iTdyo0AirTSOvjrc4TbEehXFLsfqXV0QOoDiCkLKg/upuspFk7zTJePyrGo7g3bsQHcAZcQJm X-Received: by 2002:a17:903:b90:b0:215:8d49:e2a7 with SMTP id d9443c01a7336-23dee0df9f1mr193895235ad.50.1752540804896; Mon, 14 Jul 2025 17:53:24 -0700 (PDT) Received: from postal.iol.unh.edu (postal.iol.unh.edu. [2606:4100:3880:1234::84]) by smtp-relay.gmail.com with ESMTPS id d9443c01a7336-23de42a0909sm5868235ad.39.2025.07.14.17.53.24 (version=TLS1_2 cipher=ECDHE-ECDSA-AES128-GCM-SHA256 bits=128/128); Mon, 14 Jul 2025 17:53:24 -0700 (PDT) X-Relaying-Domain: iol.unh.edu Date: Mon, 14 Jul 2025 17:53:24 -0700 (PDT) Message-ID: <6875a684.170a0220.257a05.f541SMTPIN_ADDED_MISSING@mx.google.com> Received: from [172.21.0.6] (unknown [172.18.0.240]) by postal.iol.unh.edu (Postfix) with ESMTP id 5486C6051830; Mon, 14 Jul 2025 20:53:24 -0400 (EDT) Subject: |SUCCESS| pw155208 [PATCH] mailmap: sort entries From: dpdklab@iol.unh.edu To: Test Report Cc: dpdk-test-reports@iol.unh.edu In-Reply-To: <20250714204516.255880-1-stephen@networkplumber.org> References: <20250714204516.255880-1-stephen@networkplumber.org> Content-Type: text/plain X-BeenThere: test-report@dpdk.org X-Mailman-Version: 2.1.29 Precedence: list List-Id: automatic DPDK test reports List-Unsubscribe: , List-Archive: List-Post: List-Help: List-Subscribe: , Errors-To: test-report-bounces@dpdk.org Test-Label: iol-compile-arm64-testing Test-Status: SUCCESS http://dpdk.org/patch/155208 _Testing PASS_ Submitter: Stephen Hemminger Date: Monday, July 14 2025 20:45:14 DPDK git baseline: Repo:dpdk Branch: master CommitID:9fe9c0b231c8da5435bfccb1963121b4277f961c 155208 --> testing pass Upstream job id: Generic-DPDK-Compile-Meson#408720 Test environment and result as below: +------------------------------+--------------------+ | Environment | dpdk_meson_compile | +==============================+====================+ | Red Hat Enterprise Linux 9.5 | PASS | +------------------------------+--------------------+ | Ubuntu 20.04 | PASS | +------------------------------+--------------------+ | Fedora Linux 40 | PASS | +------------------------------+--------------------+ | Fedora Linux 41 | PASS | +------------------------------+--------------------+ | Debian GNU/Linux 12 | PASS | +------------------------------+--------------------+ | Ubuntu 22.04 | PASS | +------------------------------+--------------------+ | Ubuntu 24.04 | PASS | +------------------------------+--------------------+ | CentOS Stream 10 | PASS | +------------------------------+--------------------+ | CentOS Stream 9 | PASS | +------------------------------+--------------------+ Red Hat Enterprise Linux 9.5 Kernel: 5.4 Compiler: gcc gcc (GCC) 11.5.0 20240719 (Red Hat 11.5.0-2) Ubuntu 20.04 Kernel: 5.15 Compiler: aarch64-linux-gnu-gcc gcc (Ubuntu 9.4.0-1ubuntu1~20.04.2) 9.4.0 Fedora Linux 40 Kernel: 5.4 Compiler: clang gcc (GCC) 14.2.1 20240912 (Red Hat 14.2.1-3) Fedora Linux 41 Kernel: 5.4 Compiler: clang gcc (GCC) 14.3.1 20250523 (Red Hat 14.3.1-1) Debian GNU/Linux 12 Kernel: 5.4 Compiler: gcc gcc (Debian 12.2.0-14+deb12u1) 12.2.0 Ubuntu 22.04 Kernel: 5.4 Compiler: gcc gcc (Ubuntu 11.4.0-1ubuntu1~22.04) 11.4.0 Ubuntu 24.04 Kernel: 5.4 Compiler: gcc gcc (Ubuntu 13.3.0-6ubuntu2~24.04) 13.3.0 CentOS Stream 10 Kernel: 5.4 Compiler: gcc gcc (GCC) 14.2.1 20250110 (Red Hat 14.2.1-8) CentOS Stream 9 Kernel: 5.4 Compiler: gcc gcc (GCC) 11.5.0 20240719 (Red Hat 11.5.0-7) To view detailed results, visit: https://lab.dpdk.org/results/dashboard/patchsets/33653/ UNH-IOL DPDK Community Lab To manage your email subscriptions, visit: https://lab.dpdk.org/results/dashboard/preferences/subscriptions/