From mboxrd@z Thu Jan 1 00:00:00 1970 Return-Path: Received: from mails.dpdk.org (mails.dpdk.org [217.70.189.124]) by inbox.dpdk.org (Postfix) with ESMTP id DFDAD46B7F for ; Tue, 15 Jul 2025 15:41:04 +0200 (CEST) Received: from mails.dpdk.org (localhost [127.0.0.1]) by mails.dpdk.org (Postfix) with ESMTP id BB4314021E; Tue, 15 Jul 2025 15:41:04 +0200 (CEST) Received: from mail-pl1-f226.google.com (mail-pl1-f226.google.com [209.85.214.226]) by mails.dpdk.org (Postfix) with ESMTP id DFC9C4021E for ; Tue, 15 Jul 2025 15:41:02 +0200 (CEST) Received: by mail-pl1-f226.google.com with SMTP id d9443c01a7336-23508d30142so57183615ad.0 for ; Tue, 15 Jul 2025 06:41:02 -0700 (PDT) DKIM-Signature: v=1; a=rsa-sha256; c=relaxed/relaxed; d=iol.unh.edu; s=unh-iol; t=1752586862; x=1753191662; darn=dpdk.org; h=references:in-reply-to:cc:to:from:subject:message-id:date:from:to :cc:subject:date:message-id:reply-to; bh=C5N8AfW7jf7nRqB4mr884IShedNf10ghkEufJAKxuMU=; b=fgM0FqwBiupElpzqG92cPCD0qgI8qs/b/99mbGVZ4AnaN4obm1jf3DYQh6hl9tZ45m UY7FIeBRLLJBV1a65Hbdl+ZFRqgiwII5uCEhiCUem+r8XOi1bgNpQdJoVpgSzv1PVgR6 uYbDI6H1ZNQtIs6LMpaeO9hL4sO2AoNZf3uhs= X-Google-DKIM-Signature: v=1; a=rsa-sha256; c=relaxed/relaxed; d=1e100.net; s=20230601; t=1752586862; x=1753191662; h=references:in-reply-to:cc:to:from:subject:message-id:date :x-gm-message-state:from:to:cc:subject:date:message-id:reply-to; bh=C5N8AfW7jf7nRqB4mr884IShedNf10ghkEufJAKxuMU=; b=oG51cdIWoNiGUVFGcLUiZHJUdp4oaszQlz41E1ZKrrHu14TB46frEsq3gbEMRBlXj3 uzyUGrWSIN++TN2a8x01Vs7EGqoCHRyA5Lef3iXlU1plzdGKNmUgtwur2PqNj89XTFnk tZHoe6Dh3chsZj5rbAGIdOzDdnzyzWXnh3nKpudQdlNcm93KofDw3dIxwffr0/IvA3Hg ZNcn9cYQCTWuwDpp/q9r52NUP8H8ScBOv6CeIMIWLgl1pHKCg9sM/VOg4k3IQLw6q8X7 BP0x07Zhu2rfEyVUsOyPsuFUdFku1ONyYKrq7VdTa9F5UYCv+7wVgegTSrebO5Bj7xve f/NA== X-Gm-Message-State: AOJu0YzIHb1Jbm4iltoAGHZ6+P1JhW6wWcFnV6yf0Xwd/IckEkzS+r1U +AP7E2bdkm75UD9nQN/quOMuQmfuk8mhybqzS7/IFnl61mfRRob1dGpuRq3N9LKceT553w6YVS/ Xb+kmCxzaw2gffGzICtH4ze4ag4o3L1i9cpsqiM2zg+nf X-Gm-Gg: ASbGncsja8oQUmxTN6fk4/MByFZvNV5X0zUZ1GJf39l9cGKFOA7da23wkI9EIMr/zf9 R7ASb3eyrN0gyX14Pz73C+hO5p4tNCpXeLqBgg7EGzozNO1h6q9TiwQaStPGzW2RLOEr06CNdEW 9On1auV5HC+AkIzdD2WjrSMmyvC8h4BbbPPCfuXHXfW03G8WoQ4QWRWqECG/SIBfAV8INdNn+dn OMGN4uGjoD7ycusqpxy/2Qsx2ZfQZZXeYGsU7UL+BBM1s52+7quqF0s6nQRCw7UiUIrfdoFsyJ8 Siz3qPlrGEygisk/fyYI6nsNa60tYo4qft/DVhMxm+/BG3uXQeX3WEgXyDWzHmVpNFVxB5pa X-Google-Smtp-Source: AGHT+IFSN7MI+3DUGFKedr7pjdxU+5EKhFG13RpIHLuHpOf432VDzP7zTnwBNlMXMSEHD6iHiq1GKfYd2rRD X-Received: by 2002:a17:902:e5cb:b0:234:9fea:ec5f with SMTP id d9443c01a7336-23dede2dfa2mr320781185ad.1.1752586861808; Tue, 15 Jul 2025 06:41:01 -0700 (PDT) Received: from postal.iol.unh.edu (postal.iol.unh.edu. [132.177.123.84]) by smtp-relay.gmail.com with ESMTPS id d9443c01a7336-23de42b2b02sm6417095ad.55.2025.07.15.06.41.01 (version=TLS1_2 cipher=ECDHE-ECDSA-AES128-GCM-SHA256 bits=128/128); Tue, 15 Jul 2025 06:41:01 -0700 (PDT) X-Relaying-Domain: iol.unh.edu Date: Tue, 15 Jul 2025 06:41:01 -0700 (PDT) Message-ID: <68765a6d.170a0220.347bda.1bd1SMTPIN_ADDED_MISSING@mx.google.com> Received: from [172.21.0.5] (unknown [172.18.0.240]) by postal.iol.unh.edu (Postfix) with ESMTP id EECB66050A61; Tue, 15 Jul 2025 09:41:00 -0400 (EDT) Subject: |SUCCESS| pw155224 [PATCH] examples/multi_process: revert ports clea From: dpdklab@iol.unh.edu To: Test Report Cc: dpdk-test-reports@iol.unh.edu In-Reply-To: <20250715121111.156639-1-thomas@monjalon.net> References: <20250715121111.156639-1-thomas@monjalon.net> Content-Type: text/plain X-BeenThere: test-report@dpdk.org X-Mailman-Version: 2.1.29 Precedence: list List-Id: automatic DPDK test reports List-Unsubscribe: , List-Archive: List-Post: List-Help: List-Subscribe: , Errors-To: test-report-bounces@dpdk.org Test-Label: iol-unit-amd64-testing Test-Status: SUCCESS http://dpdk.org/patch/155224 _Testing PASS_ Submitter: Thomas Monjalon Date: Tuesday, July 15 2025 12:11:10 DPDK git baseline: Repo:dpdk Branch: master CommitID:9fe9c0b231c8da5435bfccb1963121b4277f961c 155224 --> testing pass Upstream job id: Generic-Unit-Test-DPDK#355477 Test environment and result as below: +-------------------------------+----------------+ | Environment | dpdk_unit_test | +===============================+================+ | CentOS Stream 9 | PASS | +-------------------------------+----------------+ | Debian GNU/Linux 12 | PASS | +-------------------------------+----------------+ | CentOS Stream 10 | PASS | +-------------------------------+----------------+ | Fedora Linux 41 | PASS | +-------------------------------+----------------+ | Fedora Linux 40 | PASS | +-------------------------------+----------------+ | Ubuntu 20.04 | PASS | +-------------------------------+----------------+ | Ubuntu 22.04 | PASS | +-------------------------------+----------------+ | Red Hat Enterprise Linux 9.5 | PASS | +-------------------------------+----------------+ | Red Hat Enterprise Linux 8.10 | PASS | +-------------------------------+----------------+ | Ubuntu 24.04 | PASS | +-------------------------------+----------------+ | Windows Server 2022 | PASS | +-------------------------------+----------------+ CentOS Stream 9 Kernel: 5.15 Compiler: gcc gcc (GCC) 11.5.0 20240719 (Red Hat 11.5.0-7) Debian GNU/Linux 12 Kernel: 5.15 Compiler: gcc gcc (Debian 12.2.0-14+deb12u1) 12.2.0 CentOS Stream 10 Kernel: 5.15 Compiler: gcc gcc (GCC) 14.2.1 20250110 (Red Hat 14.2.1-8) Fedora Linux 41 Kernel: 5.15 Compiler: clang gcc (GCC) 14.3.1 20250523 (Red Hat 14.3.1-1) Fedora Linux 40 Kernel: 5.15 Compiler: gcc gcc (GCC) 14.2.1 20240912 (Red Hat 14.2.1-3) Ubuntu 20.04 Kernel: 5.15 Compiler: gcc gcc (Ubuntu 9.4.0-1ubuntu1~20.04.2) 9.4.0 Ubuntu 22.04 Kernel: 5.15 Compiler: gcc gcc (Ubuntu 11.4.0-1ubuntu1~22.04) 11.4.0 Red Hat Enterprise Linux 9.5 Kernel: 5.15 Compiler: gcc gcc (GCC) 11.5.0 20240719 (Red Hat 11.5.0-2) Red Hat Enterprise Linux 8.10 Kernel: 5.15 Compiler: gcc gcc (GCC) 8.5.0 20210514 (Red Hat 8.5.0-22) Ubuntu 24.04 Kernel: 5.15 Compiler: gcc gcc (Ubuntu 13.3.0-6ubuntu2~24.04) 13.3.0 Windows Server 2022 Kernel: 10.0.20348.2031 Compiler: clang 15.0.7, gcc 14.1.0 (MinGW), and MSVC VS 19.39.33521 To view detailed results, visit: https://lab.dpdk.org/results/dashboard/patchsets/33656/ UNH-IOL DPDK Community Lab To manage your email subscriptions, visit: https://lab.dpdk.org/results/dashboard/preferences/subscriptions/