From mboxrd@z Thu Jan 1 00:00:00 1970 Return-Path: Received: from mails.dpdk.org (mails.dpdk.org [217.70.189.124]) by inbox.dpdk.org (Postfix) with ESMTP id 4802E46B7F for ; Tue, 15 Jul 2025 15:46:00 +0200 (CEST) Received: from mails.dpdk.org (localhost [127.0.0.1]) by mails.dpdk.org (Postfix) with ESMTP id 42EF34021E; Tue, 15 Jul 2025 15:46:00 +0200 (CEST) Received: from mail-qv1-f100.google.com (mail-qv1-f100.google.com [209.85.219.100]) by mails.dpdk.org (Postfix) with ESMTP id 107A74021E for ; Tue, 15 Jul 2025 15:45:59 +0200 (CEST) Received: by mail-qv1-f100.google.com with SMTP id 6a1803df08f44-701046cfeefso81490826d6.2 for ; Tue, 15 Jul 2025 06:45:59 -0700 (PDT) DKIM-Signature: v=1; a=rsa-sha256; c=relaxed/relaxed; d=iol.unh.edu; s=unh-iol; t=1752587158; x=1753191958; darn=dpdk.org; h=references:in-reply-to:cc:to:from:subject:message-id:date:from:to :cc:subject:date:message-id:reply-to; bh=m0sp6FtInaQwdjD9U61ukrJ4h0/0dsUliL2hPROcdow=; b=YjwbqFNYHl18o6feq1POKkpP6iMEkclz+tC2rZmBI8Iiph7J8jfVA7hCi+ts3mfw4Q IFoPLn64fEv8io5sAkCt+viDx58lngOV3BIrDaUX56VlE62D7V/ImST1u+yrIVqnATc4 DIpk4nrD+eQEcmdndUbSXQ3ikLzUwNqfzVLm0= X-Google-DKIM-Signature: v=1; a=rsa-sha256; c=relaxed/relaxed; d=1e100.net; s=20230601; t=1752587158; x=1753191958; h=references:in-reply-to:cc:to:from:subject:message-id:date :x-gm-message-state:from:to:cc:subject:date:message-id:reply-to; bh=m0sp6FtInaQwdjD9U61ukrJ4h0/0dsUliL2hPROcdow=; b=njxcULX5ZRcB9sqoOwGGKeV1g3HamPA80d4lM2hYrvNi1ViExtmn7N/55nmzBedpFf KTzCzsUPdwGw840Tn8WNzF7YGfpxYV3RSWVkhv4OtCZEKORZG70u5q341jjNaWYKIibh +Kp0r7Bls0C0Z3kRMmMKUw/aNSGDKPuIpCqd+X9n/m1AtGflNYdN8Nep9SSPI/tBrc0U gNoUPoq9I5Zx6JugzXOFedSNzDCDn12d3Y69FXXYEHjwmoazRnQCFEluwH/eratUjAiN N1Wz7I1kyE4T4IFfaD1O9zi/Yo2YXPiIPpAdoLJVkfoRUQejD4ut12FCZbh/eqzTrMs4 IHXQ== X-Gm-Message-State: AOJu0YwB6xcGiGWo9UEkVOlec/Pr67BWHod+Qn1lpahZdLwuydgqOC5s 5ps9YDddkX5uJLlp9B8ywhjX8wKKzY2oA1hZnbesA7fwfeVF57GdLkTn3CyX+F0wqKpRppBCbC3 3bncDiwl9+A2QO604oQ7jEaYbv8oHliRFy4lcw5SiGcRh X-Gm-Gg: ASbGncsOXsvW5HxV2WCqZKrMdRzKOg5D8uXwbTdg7SUSCJLwq07o5ql7Bei04XWzLhm akmBlJ9rBxUeD+RXpFejNw3fxZ3hOo2Gvrk8AGNvpd8S2OPI5Z0mDvHAMiFfozDMcRBXOnQks+s 4urbObfNjlFkPUaD4+GQAZKfa/i3tfLJTzGXI9iH/+R3zfz4XXmmVn18dRywdOpS9znIT/Km2/H CYFdx/kUcqZ7nk3Pb+Kibjw+4y44jKuB2JOuv0LIVqYjsVw70wS7jcopZdKS4WC4QwVuY2yjJ8B 9vo35/UveXgm9MuLfUcawYtA+eUMSSb6RO3a9pLmt9EUjLQX2ZSp3ZsZfusOd6dMIMHSoXe6 X-Google-Smtp-Source: AGHT+IGAZmyOLfeXMv90Ul7dob6rL7lUFCCdP3oG5xSRElI9Tt9JTHcc2O9grOelcbw52Z4ZCHVMDV/5jM9h X-Received: by 2002:a05:6214:4409:b0:6fa:c2a4:f806 with SMTP id 6a1803df08f44-704a360bcd0mr223814396d6.29.1752587158324; Tue, 15 Jul 2025 06:45:58 -0700 (PDT) Received: from postal.iol.unh.edu (postal.iol.unh.edu. [132.177.123.84]) by smtp-relay.gmail.com with ESMTPS id 6a1803df08f44-70497d5ced8sm5590396d6.55.2025.07.15.06.45.58 (version=TLS1_2 cipher=ECDHE-ECDSA-AES128-GCM-SHA256 bits=128/128); Tue, 15 Jul 2025 06:45:58 -0700 (PDT) X-Relaying-Domain: iol.unh.edu Date: Tue, 15 Jul 2025 06:45:58 -0700 (PDT) Message-ID: <68765b96.050a0220.ae4cd.d310SMTPIN_ADDED_MISSING@mx.google.com> Received: from [172.21.0.10] (unknown [172.18.0.240]) by postal.iol.unh.edu (Postfix) with ESMTP id 14D32604D420; Tue, 15 Jul 2025 09:45:58 -0400 (EDT) Subject: |SUCCESS| pw155224 [PATCH] examples/multi_process: revert ports clea From: dpdklab@iol.unh.edu To: Test Report Cc: dpdk-test-reports@iol.unh.edu In-Reply-To: <20250715121111.156639-1-thomas@monjalon.net> References: <20250715121111.156639-1-thomas@monjalon.net> Content-Type: text/plain X-BeenThere: test-report@dpdk.org X-Mailman-Version: 2.1.29 Precedence: list List-Id: automatic DPDK test reports List-Unsubscribe: , List-Archive: List-Post: List-Help: List-Subscribe: , Errors-To: test-report-bounces@dpdk.org Test-Label: iol-unit-arm64-testing Test-Status: SUCCESS http://dpdk.org/patch/155224 _Testing PASS_ Submitter: Thomas Monjalon Date: Tuesday, July 15 2025 12:11:10 DPDK git baseline: Repo:dpdk Branch: master CommitID:9fe9c0b231c8da5435bfccb1963121b4277f961c 155224 --> testing pass Upstream job id: Generic-Unit-Test-DPDK#355476 Test environment and result as below: +------------------------------+--------------+------------------------------+---------------------------+----------------+ | Environment | lpm_autotest | cryptodev_sw_snow3g_autotest | cryptodev_sw_zuc_autotest | dpdk_unit_test | +==============================+==============+==============================+===========================+================+ | Ubuntu 20.04 | PASS | SKIPPED | SKIPPED | PASS | +------------------------------+--------------+------------------------------+---------------------------+----------------+ | Debian 12 (arm) | SKIPPED | PASS | PASS | SKIPPED | +------------------------------+--------------+------------------------------+---------------------------+----------------+ | Fedora Linux 40 | SKIPPED | SKIPPED | SKIPPED | PASS | +------------------------------+--------------+------------------------------+---------------------------+----------------+ | CentOS Stream 9 | SKIPPED | SKIPPED | SKIPPED | PASS | +------------------------------+--------------+------------------------------+---------------------------+----------------+ | Fedora Linux 41 | SKIPPED | SKIPPED | SKIPPED | PASS | +------------------------------+--------------+------------------------------+---------------------------+----------------+ | Debian GNU/Linux 12 | SKIPPED | SKIPPED | SKIPPED | PASS | +------------------------------+--------------+------------------------------+---------------------------+----------------+ | CentOS Stream 10 | SKIPPED | SKIPPED | SKIPPED | PASS | +------------------------------+--------------+------------------------------+---------------------------+----------------+ | Red Hat Enterprise Linux 9.5 | SKIPPED | SKIPPED | SKIPPED | PASS | +------------------------------+--------------+------------------------------+---------------------------+----------------+ | Ubuntu 24.04 | SKIPPED | SKIPPED | SKIPPED | PASS | +------------------------------+--------------+------------------------------+---------------------------+----------------+ | Ubuntu 22.04 | SKIPPED | SKIPPED | SKIPPED | PASS | +------------------------------+--------------+------------------------------+---------------------------+----------------+ Ubuntu 20.04 Kernel: 5.4 Compiler: gcc gcc (Ubuntu 9.4.0-1ubuntu1~20.04.2) 9.4.0 Debian 12 (arm) Kernel: Depends on container host Compiler: gcc (Debian 12.2.0-14) 12.2.0 Fedora Linux 40 Kernel: 5.4 Compiler: gcc gcc (GCC) 14.2.1 20240912 (Red Hat 14.2.1-3) CentOS Stream 9 Kernel: 5.4 Compiler: gcc gcc (GCC) 11.5.0 20240719 (Red Hat 11.5.0-7) Fedora Linux 41 Kernel: 5.4 Compiler: clang gcc (GCC) 14.3.1 20250523 (Red Hat 14.3.1-1) Debian GNU/Linux 12 Kernel: 5.4 Compiler: gcc gcc (Debian 12.2.0-14+deb12u1) 12.2.0 CentOS Stream 10 Kernel: 5.4 Compiler: gcc gcc (GCC) 14.2.1 20250110 (Red Hat 14.2.1-8) Red Hat Enterprise Linux 9.5 Kernel: 5.4 Compiler: gcc gcc (GCC) 11.5.0 20240719 (Red Hat 11.5.0-2) Ubuntu 24.04 Kernel: 5.4 Compiler: gcc gcc (Ubuntu 13.3.0-6ubuntu2~24.04) 13.3.0 Ubuntu 22.04 Kernel: 5.4 Compiler: gcc gcc (Ubuntu 11.4.0-1ubuntu1~22.04) 11.4.0 To view detailed results, visit: https://lab.dpdk.org/results/dashboard/patchsets/33656/ UNH-IOL DPDK Community Lab To manage your email subscriptions, visit: https://lab.dpdk.org/results/dashboard/preferences/subscriptions/