From mboxrd@z Thu Jan 1 00:00:00 1970 Return-Path: Received: from mails.dpdk.org (mails.dpdk.org [217.70.189.124]) by inbox.dpdk.org (Postfix) with ESMTP id 14F3446B80 for ; Tue, 15 Jul 2025 16:58:49 +0200 (CEST) Received: from mails.dpdk.org (localhost [127.0.0.1]) by mails.dpdk.org (Postfix) with ESMTP id 1024B4028C; Tue, 15 Jul 2025 16:58:49 +0200 (CEST) Received: from mail-il1-f227.google.com (mail-il1-f227.google.com [209.85.166.227]) by mails.dpdk.org (Postfix) with ESMTP id 125024028C for ; Tue, 15 Jul 2025 16:58:48 +0200 (CEST) Received: by mail-il1-f227.google.com with SMTP id e9e14a558f8ab-3df3891e28fso16218955ab.3 for ; Tue, 15 Jul 2025 07:58:48 -0700 (PDT) DKIM-Signature: v=1; a=rsa-sha256; c=relaxed/relaxed; d=iol.unh.edu; s=unh-iol; t=1752591527; x=1753196327; darn=dpdk.org; h=references:in-reply-to:cc:to:from:subject:message-id:date:from:to :cc:subject:date:message-id:reply-to; bh=pNyccgzB7fEEMbPQMj0Y23mnYSVbKAWiaQ1G4WtKSwI=; b=OHH1uSvC1WFfE/NZdpXtu/Jpef5pEs8HriEzhpk2CL8mp4Ay0lVP0AowREjHwl+ITj a0RtqzbTXxmI4P68lrJieYtIgofPualeKJIyqFA5nFlNQN6O0Qt1nOuf9cOwsUqQmPeN N8UqIgCdEA9UUu4p712cyyZVYMUhD6isrBISo= X-Google-DKIM-Signature: v=1; a=rsa-sha256; c=relaxed/relaxed; d=1e100.net; s=20230601; t=1752591527; x=1753196327; h=references:in-reply-to:cc:to:from:subject:message-id:date :x-gm-message-state:from:to:cc:subject:date:message-id:reply-to; bh=pNyccgzB7fEEMbPQMj0Y23mnYSVbKAWiaQ1G4WtKSwI=; b=S2eBEAuNyV1PFXRqCdyY4+jqAReVtxLuSaxCrta8ctTT2wO2KBRF09UaO0jaRZBRRT 75BYia3hytZXPwmW1pVQ7lmDpQNe1nLpdLGmSv2L795t3Oc9ddu0LYOLAiFWO2KrPotl YcmAhKLvGThid/rmfHkPH11FTTa/sZDqUgoERVw7Lk0is7b/zAjyNZu/1o/KGGazeC/7 TGTSIRYRHBl3BA5OszYOhFkvK+H63EYX4mF71AgyLUFur//5WdpjWEyyKd3HtIS1U7FD +PuEIEn+njueSN5uEzn7ERfxL0fAwVQUObPjD2XAiZLlolDKG8z6MJNaeib04BWSRYMP UgEw== X-Gm-Message-State: AOJu0Yw3msYUe/kyc7+eQrCT9IXZR8N3yw3FfBrpRuJQtLTPwnYkMIv0 SvERrfRb0mbJTavlJ1ouhFNwz0umNFQrN4u8VN4lckBlL67tGQYez9gHsPpdeVnoXMjLO/e+Ea/ wn5pGo7Vnk5qwNK8GLVAGStbfDYlhvAfk+uzGWleGoneFm+1cLLCO9uo6YJsh X-Gm-Gg: ASbGncsyc02k/2qoInv4Osodstap//EfydpS4V+P60G4cqLMu583N2ZEEO6a3P1tv2C sZxyNxki5ETl1dL+lSMsvsaZUnZrmHzBKNkBQ85h7pk0qCdGg/C8YfQvI3vuPN62czc4aMEmtaX 4I/kEahZqt3x8+qzF1Ootj39e4cJAJfVZxsgHax1mPMEJQ90wwkSE5/ePk3VrTyak8hiL3m0IAk Ht59ZkW06YP9UMabkL4u5FZ4dfDtr2aNtbtBEf6l7DYQU9Nte2siS5P/G5JxFLqc0TnKiOOT8vU mbkf8VcyKGpLW/Hja176kTcI5CTDzBBeBu6E1mbWXL3yzdz8hA== X-Google-Smtp-Source: AGHT+IE8J+dsksNEYHzQ1qpj3HRezDIwwdhKUJ6Px2My3R7M/BWgaN41cccdadoI9d4FY1byd/a44EF0STCo X-Received: by 2002:a05:6e02:1d9a:b0:3df:347f:eb68 with SMTP id e9e14a558f8ab-3e253287ae8mr173336765ab.7.1752591527168; Tue, 15 Jul 2025 07:58:47 -0700 (PDT) Received: from postal.iol.unh.edu (postal.iol.unh.edu. [2606:4100:3880:1234::84]) by smtp-relay.gmail.com with ESMTPS id e9e14a558f8ab-3e246112041sm7912045ab.19.2025.07.15.07.58.47 (version=TLS1_2 cipher=ECDHE-ECDSA-AES128-GCM-SHA256 bits=128/128); Tue, 15 Jul 2025 07:58:47 -0700 (PDT) X-Relaying-Domain: iol.unh.edu Date: Tue, 15 Jul 2025 07:58:47 -0700 (PDT) Message-ID: <68766ca7.050a0220.b04aa.aa53SMTPIN_ADDED_MISSING@mx.google.com> Received: from [172.21.0.5] (unknown [172.18.0.240]) by postal.iol.unh.edu (Postfix) with ESMTP id 9481A604D420; Tue, 15 Jul 2025 10:58:46 -0400 (EDT) Subject: |SUCCESS| pw155225 [PATCH] app/testpmd: add flag to enable RSS for s From: dpdklab@iol.unh.edu To: Test Report Cc: dpdk-test-reports@iol.unh.edu In-Reply-To: <20250715125330.2127309-1-bruce.richardson@intel.com> References: <20250715125330.2127309-1-bruce.richardson@intel.com> Content-Type: text/plain X-BeenThere: test-report@dpdk.org X-Mailman-Version: 2.1.29 Precedence: list List-Id: automatic DPDK test reports List-Unsubscribe: , List-Archive: List-Post: List-Help: List-Subscribe: , Errors-To: test-report-bounces@dpdk.org Test-Label: iol-unit-amd64-testing Test-Status: SUCCESS http://dpdk.org/patch/155225 _Testing PASS_ Submitter: Bruce Richardson Date: Tuesday, July 15 2025 12:53:30 DPDK git baseline: Repo:dpdk Branch: master CommitID:9fe9c0b231c8da5435bfccb1963121b4277f961c 155225 --> testing pass Upstream job id: Generic-Unit-Test-DPDK#355495 Test environment and result as below: +-------------------------------+----------------+ | Environment | dpdk_unit_test | +===============================+================+ | Fedora Linux 40 | PASS | +-------------------------------+----------------+ | Fedora Linux 41 | PASS | +-------------------------------+----------------+ | Debian GNU/Linux 12 | PASS | +-------------------------------+----------------+ | Ubuntu 20.04 | PASS | +-------------------------------+----------------+ | Red Hat Enterprise Linux 8.10 | PASS | +-------------------------------+----------------+ | Red Hat Enterprise Linux 9.5 | PASS | +-------------------------------+----------------+ | CentOS Stream 9 | PASS | +-------------------------------+----------------+ | Ubuntu 24.04 | PASS | +-------------------------------+----------------+ | CentOS Stream 10 | PASS | +-------------------------------+----------------+ | Ubuntu 22.04 | PASS | +-------------------------------+----------------+ | Windows Server 2022 | PASS | +-------------------------------+----------------+ Fedora Linux 40 Kernel: 5.15 Compiler: clang gcc (GCC) 14.2.1 20240912 (Red Hat 14.2.1-3) Fedora Linux 41 Kernel: 5.15 Compiler: clang gcc (GCC) 14.3.1 20250523 (Red Hat 14.3.1-1) Debian GNU/Linux 12 Kernel: 5.15 Compiler: gcc gcc (Debian 12.2.0-14+deb12u1) 12.2.0 Ubuntu 20.04 Kernel: 5.15 Compiler: gcc gcc (Ubuntu 9.4.0-1ubuntu1~20.04.2) 9.4.0 Red Hat Enterprise Linux 8.10 Kernel: 5.15 Compiler: gcc gcc (GCC) 8.5.0 20210514 (Red Hat 8.5.0-22) Red Hat Enterprise Linux 9.5 Kernel: 5.15 Compiler: gcc gcc (GCC) 11.5.0 20240719 (Red Hat 11.5.0-2) CentOS Stream 9 Kernel: 5.15 Compiler: gcc gcc (GCC) 11.5.0 20240719 (Red Hat 11.5.0-7) Ubuntu 24.04 Kernel: 5.15 Compiler: gcc gcc (Ubuntu 13.3.0-6ubuntu2~24.04) 13.3.0 CentOS Stream 10 Kernel: 5.15 Compiler: gcc gcc (GCC) 14.2.1 20250110 (Red Hat 14.2.1-8) Ubuntu 22.04 Kernel: 5.15 Compiler: gcc gcc (Ubuntu 11.4.0-1ubuntu1~22.04) 11.4.0 Windows Server 2022 Kernel: 10.0.20348.2031 Compiler: clang 15.0.7, gcc 14.1.0 (MinGW), and MSVC VS 19.39.33521 To view detailed results, visit: https://lab.dpdk.org/results/dashboard/patchsets/33657/ UNH-IOL DPDK Community Lab To manage your email subscriptions, visit: https://lab.dpdk.org/results/dashboard/preferences/subscriptions/