From mboxrd@z Thu Jan 1 00:00:00 1970 Return-Path: Received: from mails.dpdk.org (mails.dpdk.org [217.70.189.124]) by inbox.dpdk.org (Postfix) with ESMTP id 7470C46B80 for ; Tue, 15 Jul 2025 17:01:52 +0200 (CEST) Received: from mails.dpdk.org (localhost [127.0.0.1]) by mails.dpdk.org (Postfix) with ESMTP id 55BC64028C; Tue, 15 Jul 2025 17:01:52 +0200 (CEST) Received: from mail-oa1-f98.google.com (mail-oa1-f98.google.com [209.85.160.98]) by mails.dpdk.org (Postfix) with ESMTP id E73EF4028C for ; Tue, 15 Jul 2025 17:01:50 +0200 (CEST) Received: by mail-oa1-f98.google.com with SMTP id 586e51a60fabf-2ff9b45aec2so258177fac.2 for ; Tue, 15 Jul 2025 08:01:50 -0700 (PDT) DKIM-Signature: v=1; a=rsa-sha256; c=relaxed/relaxed; d=iol.unh.edu; s=unh-iol; t=1752591710; x=1753196510; darn=dpdk.org; h=references:in-reply-to:cc:to:from:subject:message-id:date:from:to :cc:subject:date:message-id:reply-to; bh=dyZ26jxcdNIQDIM72UDjSxZu5Ln3Vo+oxttuyRi5LNQ=; b=II393u8Cv1NKx5N7bmc7ukxldf2QvtWB3a3ZOcJHhw8i3t9LIw00nl9oJ+OeRzshxJ T8Mz0xP5XjaoS19MQcd8+5BWm9KvMLaeBmDSnvz0m6mRNI9/KXuED3koBzlcUJyhEY0s vzibdGP+qsaq5jBohprcukYymnkgMECjUwctQ= X-Google-DKIM-Signature: v=1; a=rsa-sha256; c=relaxed/relaxed; d=1e100.net; s=20230601; t=1752591710; x=1753196510; h=references:in-reply-to:cc:to:from:subject:message-id:date :x-gm-message-state:from:to:cc:subject:date:message-id:reply-to; bh=dyZ26jxcdNIQDIM72UDjSxZu5Ln3Vo+oxttuyRi5LNQ=; b=BX2MtGHO5QOu7Oyec4uCsq7uK/FzpRzLaa+HdsfjDBxp+2dgFqRccR0qnrc8dBDPmX s18OQpHkJco9ImNN4U6vNXiuRRNlYOsTF8mtoRnhHJf96Xq4py4V/ZViD31ME3595KH+ Z5aPf5/99qrD1WFWY6sL4DO+6YjyWBOpFLFdxe+hPfdhcpwz6e3FouyghNYlQbQBpWmu iokv3GnOxEsV4XQHmKCbvrafFDYi0QLxyeTAS+L5vaA7vu3KAS6+GGkjlMEjtW9YJqsL lwWCah9CHhBlP1pOSLBubdGiud7pU3ReNgfa4ARh8d45mZqltNiNxnX+/qI3V70cXoSb DjFA== X-Gm-Message-State: AOJu0Yzs7eRsDuFgYyZ1aCKA0UP0wrfcYctGSMA0i4hDqzqFyMMW3TCR MOvReMRllO0NEFBPEMiLO0Kt4OKYbfn1gPKoTE4uuTKo6oZ6ZvBBAvFRN2soaRfQjGCy1DH0Ntg YSGr6T4AQmJ18ft9Y4L0QrcH0DO+4rPzKqxV5iLOog79q X-Gm-Gg: ASbGnctyPOr1aGazGFSf8yOCC+mrGNxEOwkar/cOSWYry/lFCvo9qoXZIDavZMJSU8c qCI8fR31LjRxEy9ZoI2QgSMQq+JJjICkLdXumVMDkrcIdzgxLH0cOvxRjerRtKwK3cr8Mx7UvAx l8AqsCAV9YI/QKpGjnBHxSH/Tr77awi23WKLfvyCf5ugMCiFoHwmRS9cl/wshozAlZ75Rdlck9O l5xfbFoo4ntmFRdEYhYGcc6jL8X8KcvfPCA0NrKmvqyVGaiAM5wDTVa7WdGbcSODvy3p6bAPS37 0W+HIfiUiInbBEy4YcxbOOeSEIDc7RmN5w1e4di9De4ON99eG6XSzrmltZ0GaHDjMKPJqFPM X-Google-Smtp-Source: AGHT+IGsu/5POv/cOJIXM545Gda2M4jRiWANpiLIIAsVniZJ9T9rLehDLPI4/umO0QHTBcHDxdg3kryWdJFo X-Received: by 2002:a05:6870:899e:b0:29d:c764:f873 with SMTP id 586e51a60fabf-2ff269acb64mr12693717fac.31.1752591709236; Tue, 15 Jul 2025 08:01:49 -0700 (PDT) Received: from postal.iol.unh.edu (postal.iol.unh.edu. [132.177.123.84]) by smtp-relay.gmail.com with ESMTPS id 586e51a60fabf-2ff1172534fsm845546fac.27.2025.07.15.08.01.49 (version=TLS1_2 cipher=ECDHE-ECDSA-AES128-GCM-SHA256 bits=128/128); Tue, 15 Jul 2025 08:01:49 -0700 (PDT) X-Relaying-Domain: iol.unh.edu Date: Tue, 15 Jul 2025 08:01:49 -0700 (PDT) Message-ID: <68766d5d.050a0220.1faff7.d492SMTPIN_ADDED_MISSING@mx.google.com> Received: from [172.21.0.6] (unknown [172.18.0.240]) by postal.iol.unh.edu (Postfix) with ESMTP id AE4F7604D420; Tue, 15 Jul 2025 11:01:47 -0400 (EDT) Subject: |SUCCESS| pw155225 [PATCH] app/testpmd: add flag to enable RSS for s From: dpdklab@iol.unh.edu To: Test Report Cc: dpdk-test-reports@iol.unh.edu In-Reply-To: <20250715125330.2127309-1-bruce.richardson@intel.com> References: <20250715125330.2127309-1-bruce.richardson@intel.com> Content-Type: text/plain X-BeenThere: test-report@dpdk.org X-Mailman-Version: 2.1.29 Precedence: list List-Id: automatic DPDK test reports List-Unsubscribe: , List-Archive: List-Post: List-Help: List-Subscribe: , Errors-To: test-report-bounces@dpdk.org Test-Label: iol-unit-arm64-testing Test-Status: SUCCESS http://dpdk.org/patch/155225 _Testing PASS_ Submitter: Bruce Richardson Date: Tuesday, July 15 2025 12:53:30 DPDK git baseline: Repo:dpdk Branch: master CommitID:9fe9c0b231c8da5435bfccb1963121b4277f961c 155225 --> testing pass Upstream job id: Generic-Unit-Test-DPDK#355502 Test environment and result as below: +------------------------------+---------------------------+--------------+------------------------------+----------------+ | Environment | cryptodev_sw_zuc_autotest | lpm_autotest | cryptodev_sw_snow3g_autotest | dpdk_unit_test | +==============================+===========================+==============+==============================+================+ | Debian 12 (arm) | PASS | SKIPPED | PASS | SKIPPED | +------------------------------+---------------------------+--------------+------------------------------+----------------+ | Ubuntu 20.04 | SKIPPED | PASS | SKIPPED | PASS | +------------------------------+---------------------------+--------------+------------------------------+----------------+ | Fedora Linux 40 | SKIPPED | SKIPPED | SKIPPED | PASS | +------------------------------+---------------------------+--------------+------------------------------+----------------+ | Debian GNU/Linux 12 | SKIPPED | SKIPPED | SKIPPED | PASS | +------------------------------+---------------------------+--------------+------------------------------+----------------+ | CentOS Stream 9 | SKIPPED | SKIPPED | SKIPPED | PASS | +------------------------------+---------------------------+--------------+------------------------------+----------------+ | Fedora Linux 41 | SKIPPED | SKIPPED | SKIPPED | PASS | +------------------------------+---------------------------+--------------+------------------------------+----------------+ | CentOS Stream 10 | SKIPPED | SKIPPED | SKIPPED | PASS | +------------------------------+---------------------------+--------------+------------------------------+----------------+ | Ubuntu 22.04 | SKIPPED | SKIPPED | SKIPPED | PASS | +------------------------------+---------------------------+--------------+------------------------------+----------------+ | Ubuntu 24.04 | SKIPPED | SKIPPED | SKIPPED | PASS | +------------------------------+---------------------------+--------------+------------------------------+----------------+ | Red Hat Enterprise Linux 9.5 | SKIPPED | SKIPPED | SKIPPED | PASS | +------------------------------+---------------------------+--------------+------------------------------+----------------+ Debian 12 (arm) Kernel: Depends on container host Compiler: gcc (Debian 12.2.0-14) 12.2.0 Ubuntu 20.04 Kernel: 5.4 Compiler: gcc gcc (Ubuntu 9.4.0-1ubuntu1~20.04.2) 9.4.0 Fedora Linux 40 Kernel: 5.4 Compiler: clang gcc (GCC) 14.2.1 20240912 (Red Hat 14.2.1-3) Debian GNU/Linux 12 Kernel: 5.4 Compiler: gcc gcc (Debian 12.2.0-14+deb12u1) 12.2.0 CentOS Stream 9 Kernel: 5.4 Compiler: gcc gcc (GCC) 11.5.0 20240719 (Red Hat 11.5.0-7) Fedora Linux 41 Kernel: 5.4 Compiler: gcc gcc (GCC) 14.3.1 20250523 (Red Hat 14.3.1-1) CentOS Stream 10 Kernel: 5.4 Compiler: gcc gcc (GCC) 14.2.1 20250110 (Red Hat 14.2.1-8) Ubuntu 22.04 Kernel: 5.4 Compiler: gcc gcc (Ubuntu 11.4.0-1ubuntu1~22.04) 11.4.0 Ubuntu 24.04 Kernel: 5.4 Compiler: gcc gcc (Ubuntu 13.3.0-6ubuntu2~24.04) 13.3.0 Red Hat Enterprise Linux 9.5 Kernel: 5.4 Compiler: gcc gcc (GCC) 11.5.0 20240719 (Red Hat 11.5.0-2) To view detailed results, visit: https://lab.dpdk.org/results/dashboard/patchsets/33657/ UNH-IOL DPDK Community Lab To manage your email subscriptions, visit: https://lab.dpdk.org/results/dashboard/preferences/subscriptions/