From mboxrd@z Thu Jan 1 00:00:00 1970 Return-Path: Received: from mails.dpdk.org (mails.dpdk.org [217.70.189.124]) by inbox.dpdk.org (Postfix) with ESMTP id 618F746B80 for ; Tue, 15 Jul 2025 17:05:33 +0200 (CEST) Received: from mails.dpdk.org (localhost [127.0.0.1]) by mails.dpdk.org (Postfix) with ESMTP id 5862D402E3; Tue, 15 Jul 2025 17:05:33 +0200 (CEST) Received: from mail-qv1-f99.google.com (mail-qv1-f99.google.com [209.85.219.99]) by mails.dpdk.org (Postfix) with ESMTP id 60E08402E3 for ; Tue, 15 Jul 2025 17:05:31 +0200 (CEST) Received: by mail-qv1-f99.google.com with SMTP id 6a1803df08f44-6facacf521eso47535896d6.3 for ; Tue, 15 Jul 2025 08:05:31 -0700 (PDT) DKIM-Signature: v=1; a=rsa-sha256; c=relaxed/relaxed; d=iol.unh.edu; s=unh-iol; t=1752591931; x=1753196731; darn=dpdk.org; h=references:in-reply-to:cc:to:from:subject:message-id:date:from:to :cc:subject:date:message-id:reply-to; bh=BTBIWWm10OIYmn8R+CJWaJnsk9Q2zZx8AqAs9xqdg1M=; b=B96u9FryHcUcYWK3j1gIz04gn02fsNE2jGrzToAwxBE1A42zjwlpLEeCBJv/5e5XVV jaeuptaVLH+wpsAa4Eo90VNnSVNmbbcoNM+mCzeTYaYDHi1MCq/By8sNiE/cBFvCq8bH Hki2mPk62eOEVeNxAA6f9qBxB7sNENc3384Ck= X-Google-DKIM-Signature: v=1; a=rsa-sha256; c=relaxed/relaxed; d=1e100.net; s=20230601; t=1752591931; x=1753196731; h=references:in-reply-to:cc:to:from:subject:message-id:date :x-gm-message-state:from:to:cc:subject:date:message-id:reply-to; bh=BTBIWWm10OIYmn8R+CJWaJnsk9Q2zZx8AqAs9xqdg1M=; b=gKxopGoDSqDt3CaIjRS913wqQPQDd/OozDdLHjvhI+RAp3QSvoCsgzenBZqsW2+RNS UM+AMnubKWRj21XC7UhJqnKhdGrS/sG7+e4H+t716fHjfsSln/bsuuUKK1Btswsb0HIW LEPBeNogmyZdT/Bbmlsh/gzG774kUN5KMl+k7lCB5R4G3ILhPmRsmwmOPTJP2o90oeyN U6kde4TGno62PZlJV/BaDpgGyBpCP+wLAS3I9ZlDtvG13jC2azDGcKGtoCWsCShlM/o1 w8pKi+v39q3rb8d6Y2AiVtIupL9PzjfUWZj7q+SwnlEKcVRd+4ssWkhD7M1Rq3+Jti6n MrSA== X-Gm-Message-State: AOJu0YzCkahUkVpxN1VrFkjsIR9q7Lm01+ph25FWnBv5siFwyHgFl03U mJjPpgpRvHQxOoSRxBjH/RhWMUN7XscdQhTdqAPntNjxtVvIWT3lIRwUi8lPKYgfowdUSlmJg3g y5xELYNdfbVMNf39rNw2xxtmJDgaEEL6ZQNUTnC3L5jox9gJqgdpiM6HUFKxJ X-Gm-Gg: ASbGncuLCoEiPigVn00FX4k8O1s2ECncKso+MHkz0EkKzvXoAEyvDn4os9Z8FRkkHKx o56EGXFwtvXKOec1qJBc14yqH2/L4LF34UkBEeC5Hf5e50soAg1jfwAzsxhJiI5MwIxmf2tLkw1 XOjLBOme4yLH2XfT2cu6f3IDuMLUuiSgbW1WpSfQ8912qjYAhlUAng/0pOvLyZqjnZsExPzEuMu hXWJ8+j4HPJG9QdYJDVyW7KaeiLRpKQpRq7L3oeWShAUDCbl/QFlzFtqbto8S0d5Rxev0T9YUrg NVryhhccPefQL9GDfKDn1bZz3xnGIs4c/9oU9sc3OwNTqdiuSw== X-Google-Smtp-Source: AGHT+IE6hIzRyBQ3JZ8hQnm0TPZtB30fHODqeBAcAvp1JS+OJas71UYjppm3TnoIB6D+78ZCjD5cdq2/AeDf X-Received: by 2002:a05:6214:4886:b0:704:89cd:c43d with SMTP id 6a1803df08f44-704a3540f3fmr283319966d6.3.1752591930272; Tue, 15 Jul 2025 08:05:30 -0700 (PDT) Received: from postal.iol.unh.edu (postal.iol.unh.edu. [2606:4100:3880:1234::84]) by smtp-relay.gmail.com with ESMTPS id 6a1803df08f44-70497db219dsm6119286d6.64.2025.07.15.08.05.30 (version=TLS1_2 cipher=ECDHE-ECDSA-AES128-GCM-SHA256 bits=128/128); Tue, 15 Jul 2025 08:05:30 -0700 (PDT) X-Relaying-Domain: iol.unh.edu Date: Tue, 15 Jul 2025 08:05:30 -0700 (PDT) Message-ID: <68766e3a.050a0220.277163.febfSMTPIN_ADDED_MISSING@mx.google.com> Received: from [172.21.0.5] (unknown [172.18.0.240]) by postal.iol.unh.edu (Postfix) with ESMTP id E86536050A61; Tue, 15 Jul 2025 11:05:29 -0400 (EDT) Subject: |SUCCESS| pw155224 [PATCH] examples/multi_process: revert ports clea From: dpdklab@iol.unh.edu To: Test Report Cc: dpdk-test-reports@iol.unh.edu In-Reply-To: <20250715121111.156639-1-thomas@monjalon.net> References: <20250715121111.156639-1-thomas@monjalon.net> Content-Type: text/plain X-BeenThere: test-report@dpdk.org X-Mailman-Version: 2.1.29 Precedence: list List-Id: automatic DPDK test reports List-Unsubscribe: , List-Archive: List-Post: List-Help: List-Subscribe: , Errors-To: test-report-bounces@dpdk.org Test-Label: iol-abi-testing Test-Status: SUCCESS http://dpdk.org/patch/155224 _Testing PASS_ Submitter: Thomas Monjalon Date: Tuesday, July 15 2025 12:11:10 DPDK git baseline: Repo:dpdk Branch: master CommitID:9fe9c0b231c8da5435bfccb1963121b4277f961c 155224 --> testing pass Upstream job id: Generic-DPDK-Compile-ABI#134398 Test environment and result as below: +-------------------------------+----------+ | Environment | abi_test | +===============================+==========+ | Debian GNU/Linux 12 | PASS | +-------------------------------+----------+ | Fedora Linux 40 | PASS | +-------------------------------+----------+ | CentOS Stream 9 | PASS | +-------------------------------+----------+ | Fedora Linux 41 | PASS | +-------------------------------+----------+ | CentOS Stream 10 | PASS | +-------------------------------+----------+ | Red Hat Enterprise Linux 9.5 | PASS | +-------------------------------+----------+ | Ubuntu 24.04 | PASS | +-------------------------------+----------+ | Red Hat Enterprise Linux 8.10 | PASS | +-------------------------------+----------+ | openSUSE Leap 15.6 | PASS | +-------------------------------+----------+ | Ubuntu 22.04 | PASS | +-------------------------------+----------+ Debian GNU/Linux 12 Kernel: 5.15 Compiler: gcc gcc (Debian 12.2.0-14+deb12u1) 12.2.0 Fedora Linux 40 Kernel: 5.15 Compiler: clang gcc (GCC) 14.2.1 20240912 (Red Hat 14.2.1-3) CentOS Stream 9 Kernel: 5.15 Compiler: gcc gcc (GCC) 11.5.0 20240719 (Red Hat 11.5.0-7) Fedora Linux 41 Kernel: 5.15 Compiler: clang gcc (GCC) 14.3.1 20250523 (Red Hat 14.3.1-1) CentOS Stream 10 Kernel: 5.15 Compiler: gcc gcc (GCC) 14.2.1 20250110 (Red Hat 14.2.1-8) Red Hat Enterprise Linux 9.5 Kernel: 5.15 Compiler: gcc gcc (GCC) 11.5.0 20240719 (Red Hat 11.5.0-2) Ubuntu 24.04 Kernel: 5.15 Compiler: gcc gcc (Ubuntu 13.3.0-6ubuntu2~24.04) 13.3.0 Red Hat Enterprise Linux 8.10 Kernel: 5.15 Compiler: gcc gcc (GCC) 8.5.0 20210514 (Red Hat 8.5.0-22) openSUSE Leap 15.6 Kernel: 5.15 Compiler: gcc gcc (SUSE Linux) 7.5.0 Ubuntu 22.04 Kernel: 5.15 Compiler: gcc gcc (Ubuntu 11.4.0-1ubuntu1~22.04) 11.4.0 To view detailed results, visit: https://lab.dpdk.org/results/dashboard/patchsets/33656/ UNH-IOL DPDK Community Lab To manage your email subscriptions, visit: https://lab.dpdk.org/results/dashboard/preferences/subscriptions/