From mboxrd@z Thu Jan 1 00:00:00 1970 Return-Path: Received: from mails.dpdk.org (mails.dpdk.org [217.70.189.124]) by inbox.dpdk.org (Postfix) with ESMTP id 5CD7D46B80 for ; Tue, 15 Jul 2025 17:46:46 +0200 (CEST) Received: from mails.dpdk.org (localhost [127.0.0.1]) by mails.dpdk.org (Postfix) with ESMTP id 39D204028C; Tue, 15 Jul 2025 17:46:46 +0200 (CEST) Received: from mail-pl1-f226.google.com (mail-pl1-f226.google.com [209.85.214.226]) by mails.dpdk.org (Postfix) with ESMTP id 075854028C for ; Tue, 15 Jul 2025 17:46:44 +0200 (CEST) Received: by mail-pl1-f226.google.com with SMTP id d9443c01a7336-2350b1b9129so38874485ad.0 for ; Tue, 15 Jul 2025 08:46:44 -0700 (PDT) DKIM-Signature: v=1; a=rsa-sha256; c=relaxed/relaxed; d=iol.unh.edu; s=unh-iol; t=1752594404; x=1753199204; darn=dpdk.org; h=references:in-reply-to:cc:to:from:subject:message-id:date:from:to :cc:subject:date:message-id:reply-to; bh=0if4yfMrqb9TOvgU43s0Hkps2wOY8PTHaWK9KgygS68=; b=jPu9RskPVfFXPUaZaJQxG7Mu3vGrzkGe+SFTqloGwRzqW31NCtMHdW7/LMeYvyGbml FoJG/GS1w8ngdQlTEnGHu6xJ6JvjJM/MwW9nccM6irLYJs3Wogswlq2QUHAqccG8gP7R FK1qzVdzG/eflsyWlw3+dDpkW14g7FHlBxlnA= X-Google-DKIM-Signature: v=1; a=rsa-sha256; c=relaxed/relaxed; d=1e100.net; s=20230601; t=1752594404; x=1753199204; h=references:in-reply-to:cc:to:from:subject:message-id:date :x-gm-message-state:from:to:cc:subject:date:message-id:reply-to; bh=0if4yfMrqb9TOvgU43s0Hkps2wOY8PTHaWK9KgygS68=; b=Hws4xRnqITud7uh+o1e72CbxspoMAr+4xaZK8j/vz5kFGuqoepbaMhz2lGEKjAzi7y afv9D9jJ8el6QDsyi/whn+9s10fdCfs3zn5O3/5GnavDc1jwu9AZL+XUZ8qHhJfiJTyw 4+anTsSt3M6odSGCoAG8YBe4v/a1Njpa5WtuwqQVPYnEl47JbyiOw4Ez3fFnwtGudf2S dvzjQ28oeF7nlAGinhj7mPlHxVJkIdMJJRbfxMTsvKCfFpJw+uOq6rKust7+b1WFDNO3 bmkefslrtDUIdkD59B80V2QuO2Nzb5+qJYNfhKllnajJKamYfsUotr5EWbY8dKk3WStY 3gBg== X-Gm-Message-State: AOJu0Yzkh8YOcjCrSwVz4V/WEgwkgRfoueHcicZdJAauUU2XQUytTB09 HFLLSGRQTN0Ef2tiVRP24jBNPYxfZigNCV7r/P1ZUt+WFEz/bfaLqeD25ZUg9PWKHzjuE440KtB bQ9jsn6q8L25cwoG6OtzmzpxwnSeSLuiKtzgy4Z2hV/uDBgOuazRrCFc7ifI2 X-Gm-Gg: ASbGncuwsZ1oXUMOqYMWMWcbEdR4Hz4DU1Akf7NUTHWceqWUr5akKKlEkzj89xrW1eS bq95uFJy81Wn2GgS+DfhprXRvXILvnxrPRuZRMqfStBp9TI+Dg/M1XkY4Zcty/K3OaiO1u9Z9eS ndG2FddgZs3JOw3kmL1jds6gSOAII6OX8N0+vuUFknt9ik+ennZdsSdQoA5BknWpH6/r/+RIC7r f0F3lk0Z3SQG5CMeJC6auWoN2TnDl5+U7glV71CsKER8aNe7ZgJcfSSflYPPizYWtqo5FZfNrrC e675alIwfVTO2oMK5qMQuNanieBXqcdnJ0wYAMdqvLoM3h+mMg== X-Google-Smtp-Source: AGHT+IGexqsBhP6SEGXYRRw/wfUmyx4YodVVUuwc8rx/dmINIHcgg2eyydTGVhpP0vBxjXIlIx5qf7J4jsYF X-Received: by 2002:a17:903:2986:b0:234:d2fb:2d13 with SMTP id d9443c01a7336-23dede468e2mr267174015ad.18.1752594403649; Tue, 15 Jul 2025 08:46:43 -0700 (PDT) Received: from postal.iol.unh.edu (postal.iol.unh.edu. [2606:4100:3880:1234::84]) by smtp-relay.gmail.com with ESMTPS id d9443c01a7336-23de429e0ebsm6551565ad.36.2025.07.15.08.46.43 (version=TLS1_2 cipher=ECDHE-ECDSA-AES128-GCM-SHA256 bits=128/128); Tue, 15 Jul 2025 08:46:43 -0700 (PDT) X-Relaying-Domain: iol.unh.edu Date: Tue, 15 Jul 2025 08:46:43 -0700 (PDT) Message-ID: <687677e3.170a0220.3343ca.22f6SMTPIN_ADDED_MISSING@mx.google.com> Received: from [172.21.0.6] (unknown [172.18.0.240]) by postal.iol.unh.edu (Postfix) with ESMTP id 1AE86604D420; Tue, 15 Jul 2025 11:46:43 -0400 (EDT) Subject: |SUCCESS| pw155225 [PATCH] app/testpmd: add flag to enable RSS for s From: dpdklab@iol.unh.edu To: Test Report Cc: dpdk-test-reports@iol.unh.edu In-Reply-To: <20250715125330.2127309-1-bruce.richardson@intel.com> References: <20250715125330.2127309-1-bruce.richardson@intel.com> Content-Type: text/plain X-BeenThere: test-report@dpdk.org X-Mailman-Version: 2.1.29 Precedence: list List-Id: automatic DPDK test reports List-Unsubscribe: , List-Archive: List-Post: List-Help: List-Subscribe: , Errors-To: test-report-bounces@dpdk.org Test-Label: iol-abi-testing Test-Status: SUCCESS http://dpdk.org/patch/155225 _Testing PASS_ Submitter: Bruce Richardson Date: Tuesday, July 15 2025 12:53:30 DPDK git baseline: Repo:dpdk Branch: master CommitID:9fe9c0b231c8da5435bfccb1963121b4277f961c 155225 --> testing pass Upstream job id: Generic-DPDK-Compile-ABI#134411 Test environment and result as below: +-------------------------------+----------+ | Environment | abi_test | +===============================+==========+ | CentOS Stream 9 | PASS | +-------------------------------+----------+ | openSUSE Leap 15.6 | PASS | +-------------------------------+----------+ | CentOS Stream 10 | PASS | +-------------------------------+----------+ | Fedora Linux 41 | PASS | +-------------------------------+----------+ | Debian GNU/Linux 12 | PASS | +-------------------------------+----------+ | Red Hat Enterprise Linux 9.5 | PASS | +-------------------------------+----------+ | Fedora Linux 40 | PASS | +-------------------------------+----------+ | Red Hat Enterprise Linux 8.10 | PASS | +-------------------------------+----------+ | Ubuntu 22.04 | PASS | +-------------------------------+----------+ | Ubuntu 24.04 | PASS | +-------------------------------+----------+ CentOS Stream 9 Kernel: 5.15 Compiler: gcc gcc (GCC) 11.5.0 20240719 (Red Hat 11.5.0-7) openSUSE Leap 15.6 Kernel: 5.15 Compiler: gcc gcc (SUSE Linux) 7.5.0 CentOS Stream 10 Kernel: 5.15 Compiler: gcc gcc (GCC) 14.2.1 20250110 (Red Hat 14.2.1-8) Fedora Linux 41 Kernel: 5.15 Compiler: gcc gcc (GCC) 14.3.1 20250523 (Red Hat 14.3.1-1) Debian GNU/Linux 12 Kernel: 5.15 Compiler: gcc gcc (Debian 12.2.0-14+deb12u1) 12.2.0 Red Hat Enterprise Linux 9.5 Kernel: 5.15 Compiler: gcc gcc (GCC) 11.5.0 20240719 (Red Hat 11.5.0-2) Fedora Linux 40 Kernel: 5.15 Compiler: gcc gcc (GCC) 14.2.1 20240912 (Red Hat 14.2.1-3) Red Hat Enterprise Linux 8.10 Kernel: 5.15 Compiler: gcc gcc (GCC) 8.5.0 20210514 (Red Hat 8.5.0-22) Ubuntu 22.04 Kernel: 5.15 Compiler: gcc gcc (Ubuntu 11.4.0-1ubuntu1~22.04) 11.4.0 Ubuntu 24.04 Kernel: 5.15 Compiler: gcc gcc (Ubuntu 13.3.0-6ubuntu2~24.04) 13.3.0 To view detailed results, visit: https://lab.dpdk.org/results/dashboard/patchsets/33657/ UNH-IOL DPDK Community Lab To manage your email subscriptions, visit: https://lab.dpdk.org/results/dashboard/preferences/subscriptions/