From mboxrd@z Thu Jan 1 00:00:00 1970 Return-Path: Received: from mails.dpdk.org (mails.dpdk.org [217.70.189.124]) by inbox.dpdk.org (Postfix) with ESMTP id 1B07346B81 for ; Tue, 15 Jul 2025 18:21:30 +0200 (CEST) Received: from mails.dpdk.org (localhost [127.0.0.1]) by mails.dpdk.org (Postfix) with ESMTP id 1588E4028C; Tue, 15 Jul 2025 18:21:30 +0200 (CEST) Received: from mail-oa1-f100.google.com (mail-oa1-f100.google.com [209.85.160.100]) by mails.dpdk.org (Postfix) with ESMTP id 253654028C for ; Tue, 15 Jul 2025 18:21:29 +0200 (CEST) Received: by mail-oa1-f100.google.com with SMTP id 586e51a60fabf-2f77591f208so30071fac.0 for ; Tue, 15 Jul 2025 09:21:29 -0700 (PDT) DKIM-Signature: v=1; a=rsa-sha256; c=relaxed/relaxed; d=iol.unh.edu; s=unh-iol; t=1752596488; x=1753201288; darn=dpdk.org; h=references:in-reply-to:cc:to:from:subject:message-id:date:from:to :cc:subject:date:message-id:reply-to; bh=0Ta4EuUtGtvw0WHSPEWkiXtQHvOzvjriCXV3o/cNxfc=; b=R7bAQih5JgJ7Fc6ca8SVyj2RhFhy9H/xl7YvbsSUV6xP3KYng3QkQFqT8Aufy3ehcJ xX+ctLES8xugcD2d74wvtBe//mLDI7jELSlIB0ZSkPgzDiY7U/vZPKxx2CsE+5+bOoBq rZJB+IwaVCv2eF5SvProhdETaiUu1bYQXT+to= X-Google-DKIM-Signature: v=1; a=rsa-sha256; c=relaxed/relaxed; d=1e100.net; s=20230601; t=1752596488; x=1753201288; h=references:in-reply-to:cc:to:from:subject:message-id:date :x-gm-message-state:from:to:cc:subject:date:message-id:reply-to; bh=0Ta4EuUtGtvw0WHSPEWkiXtQHvOzvjriCXV3o/cNxfc=; b=xKEn4NP1NEx8kgthqvhpjGqhF0sEOQW3WTMg9eYnf6ZVW2ym/tFs6/XUlniqOe8NiG ZZ0U75hRjqQQg/zRyTM2Os4jDGMsm2EPG6DvHzFBZZg2dcdusBSi1AGv0YHO/zmPK8Fk DSNKRf+EJtKU6AT4qQ1bhL9DG0O2Jm2r5EKHqDFzRMZf9/T7+JOkDJNjLqpQd6/c5eSM EmjPEQTckTnvwDEjoi1PILhAYaGPf4YRWA2w2ZTTJrFLiTWnEkGJJObhofXSui46XWNC BpjxMFUFerjzjp3aq11CzppKPbBgBhR5duiv/rAjxva1xeuH64Z77nHUAqzTjgjyMNRp e5sA== X-Gm-Message-State: AOJu0YyL6aBgWE7DJ5PjMiH8X22DyadSSuJx3swIyFdisUSdtp+CO1A5 y6w0Vm5oIUUaMMyo+4rABR701kjS/JIUi4h20N1mlsP1GXz1juQzrAA9/Hp7nV1Lm6TOunBMg4P qAPKsqMZnbbdmI1nchwQqGpycRw9M0V06VLGXhzHocrwL X-Gm-Gg: ASbGncvq26LpknNpj+6bw3ppsowz0zrUuUV8c21gu6LqYytsaKpl8tLDGhCMh3OUT71 UcYunHUgvtrq8yhOLpileqUfm6WhMkC5BKZg1WggMRCth9XJPJ21bNqrrZNkinzB7e+JLhQpyBZ wjNfCyvpddlhVpe+9qT2QPYbPUDuP+kn4IuY7WnJv+rczq7c+DXwAWS78rSdbpJAJqxhkDUrokZ +78k3R/hi8Zmomjw/FLAHcCWGqxXMCGv1y0uK/k4OYYppj9aeNACMbUObk7VGHRi6/SB+TXrWEM +Q2Y1uv7KYBh7dvJ+lM7InhPrRkBZnLhdKs04l/5vhW5IVRXa8V+VP2kjqCIangf48T+mQP0 X-Google-Smtp-Source: AGHT+IHaSDSW3nFFpFFw7D4//U1UyMR6ZiNFq5ATlU/atF0a0h+/BzgvPzTi2+9fcPx9YPkUyvgg8sDavl4h X-Received: by 2002:a05:6870:b6a2:b0:2ea:83c5:1e27 with SMTP id 586e51a60fabf-2ff8fb9e3b3mr2964145fac.12.1752596488392; Tue, 15 Jul 2025 09:21:28 -0700 (PDT) Received: from postal.iol.unh.edu (postal.iol.unh.edu. [132.177.123.84]) by smtp-relay.gmail.com with ESMTPS id 586e51a60fabf-2ff11725528sm809889fac.28.2025.07.15.09.21.28 (version=TLS1_2 cipher=ECDHE-ECDSA-AES128-GCM-SHA256 bits=128/128); Tue, 15 Jul 2025 09:21:28 -0700 (PDT) X-Relaying-Domain: iol.unh.edu Date: Tue, 15 Jul 2025 09:21:28 -0700 (PDT) Message-ID: <68768008.050a0220.3be086.af3aSMTPIN_ADDED_MISSING@mx.google.com> Received: from [172.21.0.7] (unknown [172.18.0.240]) by postal.iol.unh.edu (Postfix) with ESMTP id D139B604D420; Tue, 15 Jul 2025 12:21:27 -0400 (EDT) Subject: |SUCCESS| pw155225 [PATCH] app/testpmd: add flag to enable RSS for s From: dpdklab@iol.unh.edu To: Test Report Cc: dpdk-test-reports@iol.unh.edu In-Reply-To: <20250715125330.2127309-1-bruce.richardson@intel.com> References: <20250715125330.2127309-1-bruce.richardson@intel.com> Content-Type: text/plain X-BeenThere: test-report@dpdk.org X-Mailman-Version: 2.1.29 Precedence: list List-Id: automatic DPDK test reports List-Unsubscribe: , List-Archive: List-Post: List-Help: List-Subscribe: , Errors-To: test-report-bounces@dpdk.org Test-Label: iol-compile-amd64-testing Test-Status: SUCCESS http://dpdk.org/patch/155225 _Testing PASS_ Submitter: Bruce Richardson Date: Tuesday, July 15 2025 12:53:30 DPDK git baseline: Repo:dpdk Branch: master CommitID:9fe9c0b231c8da5435bfccb1963121b4277f961c 155225 --> testing pass Upstream job id: Generic-DPDK-Compile-Meson#408854 Test environment and result as below: +-------------------------------+--------------------+-------------------+------------------+-------------------------+-------------------+----------------------+ | Environment | dpdk_meson_compile | dpdk_compile_spdk | dpdk_compile_ovs | dpdk_llvm_clang_compile | dpdk_msvc_compile | dpdk_mingw64_compile | +===============================+====================+===================+==================+=========================+===================+======================+ | CentOS Stream 9 | PASS | PASS | SKIPPED | SKIPPED | SKIPPED | SKIPPED | +-------------------------------+--------------------+-------------------+------------------+-------------------------+-------------------+----------------------+ | CentOS Stream 10 | PASS | SKIPPED | SKIPPED | SKIPPED | SKIPPED | SKIPPED | +-------------------------------+--------------------+-------------------+------------------+-------------------------+-------------------+----------------------+ | Debian GNU/Linux 12 | PASS | PASS | SKIPPED | SKIPPED | SKIPPED | SKIPPED | +-------------------------------+--------------------+-------------------+------------------+-------------------------+-------------------+----------------------+ | Fedora Linux 40 | PASS | PASS | SKIPPED | SKIPPED | SKIPPED | SKIPPED | +-------------------------------+--------------------+-------------------+------------------+-------------------------+-------------------+----------------------+ | Fedora Linux 41 | PASS | PASS | PASS | SKIPPED | SKIPPED | SKIPPED | +-------------------------------+--------------------+-------------------+------------------+-------------------------+-------------------+----------------------+ | openSUSE Leap 15.6 | PASS | SKIPPED | SKIPPED | SKIPPED | SKIPPED | SKIPPED | +-------------------------------+--------------------+-------------------+------------------+-------------------------+-------------------+----------------------+ | Red Hat Enterprise Linux 8.10 | PASS | SKIPPED | SKIPPED | SKIPPED | SKIPPED | SKIPPED | +-------------------------------+--------------------+-------------------+------------------+-------------------------+-------------------+----------------------+ | Red Hat Enterprise Linux 9.5 | PASS | SKIPPED | SKIPPED | SKIPPED | SKIPPED | SKIPPED | +-------------------------------+--------------------+-------------------+------------------+-------------------------+-------------------+----------------------+ | Ubuntu 20.04 | PASS | SKIPPED | SKIPPED | SKIPPED | SKIPPED | SKIPPED | +-------------------------------+--------------------+-------------------+------------------+-------------------------+-------------------+----------------------+ | Ubuntu 22.04 | PASS | PASS | SKIPPED | SKIPPED | SKIPPED | SKIPPED | +-------------------------------+--------------------+-------------------+------------------+-------------------------+-------------------+----------------------+ | Ubuntu 24.04 | PASS | PASS | PASS | SKIPPED | SKIPPED | SKIPPED | +-------------------------------+--------------------+-------------------+------------------+-------------------------+-------------------+----------------------+ | Alpine Linux 3.22.0 | PASS | SKIPPED | SKIPPED | SKIPPED | SKIPPED | SKIPPED | +-------------------------------+--------------------+-------------------+------------------+-------------------------+-------------------+----------------------+ | FreeBSD 14.2 | PASS | SKIPPED | SKIPPED | SKIPPED | SKIPPED | SKIPPED | +-------------------------------+--------------------+-------------------+------------------+-------------------------+-------------------+----------------------+ | Windows Server 2022 | SKIPPED | SKIPPED | SKIPPED | PASS | PASS | PASS | +-------------------------------+--------------------+-------------------+------------------+-------------------------+-------------------+----------------------+ CentOS Stream 9 Kernel: 5.15 Compiler: gcc gcc (GCC) 11.5.0 20240719 (Red Hat 11.5.0-7) CentOS Stream 10 Kernel: 5.15 Compiler: gcc gcc (GCC) 14.2.1 20250110 (Red Hat 14.2.1-8) Debian GNU/Linux 12 Kernel: 5.15 Compiler: gcc gcc (Debian 12.2.0-14+deb12u1) 12.2.0 Fedora Linux 40 Kernel: 5.15 Compiler: clang gcc (GCC) 14.2.1 20240912 (Red Hat 14.2.1-3) Fedora Linux 41 Kernel: 5.15 Compiler: clang gcc (GCC) 14.3.1 20250523 (Red Hat 14.3.1-1) openSUSE Leap 15.6 Kernel: 5.15 Compiler: gcc gcc (SUSE Linux) 7.5.0 Red Hat Enterprise Linux 8.10 Kernel: 5.15 Compiler: gcc gcc (GCC) 8.5.0 20210514 (Red Hat 8.5.0-22) Red Hat Enterprise Linux 9.5 Kernel: 5.15 Compiler: gcc gcc (GCC) 11.5.0 20240719 (Red Hat 11.5.0-2) Ubuntu 20.04 Kernel: 4.19 Compiler: gcc gcc (Ubuntu 9.4.0-1ubuntu1~20.04.2) 9.4.0 Ubuntu 22.04 Kernel: 5.15 Compiler: gcc gcc (Ubuntu 11.4.0-1ubuntu1~22.04) 11.4.0 Ubuntu 24.04 Kernel: 5.15 Compiler: gcc gcc (Ubuntu 13.3.0-6ubuntu2~24.04) 13.3.0 Alpine Linux 3.22.0 Kernel: 5.15 Compiler: gcc gcc (Alpine 14.2.0) 14.2.0 FreeBSD 14.2 Kernel: 14.2-RELEASE Compiler: clang 18.1.6 Windows Server 2022 Kernel: 10.0.20348.2031 Compiler: clang 15.0.7, gcc 14.1.0 (MinGW), and MSVC VS 19.39.33521 To view detailed results, visit: https://lab.dpdk.org/results/dashboard/patchsets/33657/ UNH-IOL DPDK Community Lab To manage your email subscriptions, visit: https://lab.dpdk.org/results/dashboard/preferences/subscriptions/