From mboxrd@z Thu Jan 1 00:00:00 1970 Return-Path: Received: from mails.dpdk.org (mails.dpdk.org [217.70.189.124]) by inbox.dpdk.org (Postfix) with ESMTP id 2CBCC46B81 for ; Tue, 15 Jul 2025 18:21:42 +0200 (CEST) Received: from mails.dpdk.org (localhost [127.0.0.1]) by mails.dpdk.org (Postfix) with ESMTP id 284FA4028C; Tue, 15 Jul 2025 18:21:42 +0200 (CEST) Received: from mail-pl1-f227.google.com (mail-pl1-f227.google.com [209.85.214.227]) by mails.dpdk.org (Postfix) with ESMTP id AE9C14028C for ; Tue, 15 Jul 2025 18:21:40 +0200 (CEST) Received: by mail-pl1-f227.google.com with SMTP id d9443c01a7336-234c5b57557so57471255ad.3 for ; Tue, 15 Jul 2025 09:21:40 -0700 (PDT) DKIM-Signature: v=1; a=rsa-sha256; c=relaxed/relaxed; d=iol.unh.edu; s=unh-iol; t=1752596500; x=1753201300; darn=dpdk.org; h=references:in-reply-to:cc:to:from:subject:message-id:date:from:to :cc:subject:date:message-id:reply-to; bh=zRYQmy6Yz7HVza4B8SC0yGCkf4Cq6z21A7a7YKA7L0c=; b=ekALJUasA7iSzaoS4jbrhadyPKQCdHFMyToBL47K6cH8Rz/v/Epf2uYJekQth+n+n4 J5onEKaf2/TlYbuXFnoWkW/59ITiFb9fVId+no+af/3dCQgdgXQYvwfZT2u6NXfDh0Tw IsT/mpepRmp7Ram3mnFM1lVPLenyugf2mrDTc= X-Google-DKIM-Signature: v=1; a=rsa-sha256; c=relaxed/relaxed; d=1e100.net; s=20230601; t=1752596500; x=1753201300; h=references:in-reply-to:cc:to:from:subject:message-id:date :x-gm-message-state:from:to:cc:subject:date:message-id:reply-to; bh=zRYQmy6Yz7HVza4B8SC0yGCkf4Cq6z21A7a7YKA7L0c=; b=f+QbTjpENTzqFIbJhOPkJSNDW2LR2JMkhdkWgzRkgDh2zNP6eiLwANKcvOlwvKdyZ3 IHvESfdwHKxystIf7KQt/CktT+CFTp9v2kbwoJ9gv3jHNaZePv/E8mS3PL6P0NdYb7nF pZ70Jg3mYrxjciCOGEkIQjGXIQQp5wunQmQS+n8Q1TNQtpFdYobK71m9c3JLibd9QkJm FTMCEBbhf26ik5kZVYLTEH8hjBwS2hp0A19fwgNAuY/DfGQnNHfp5nR+Outw94DZG9NT bKqIa/neXrh7KEfridiHl1nzBzrpdPiD4dKD/gfY7JtJ1Lk6+uPnui120B7f1JyoZ8l7 bKsg== X-Gm-Message-State: AOJu0YxLYppG1q2CAA2U2fxuHZiFeXA+2wMPETN91eW0e9glT37Zmyrl DAQuo9I8pwLGGFonuFUN/nx+5o506uQklXIxSwdvW3eMo1kX0FfCz0HBC4DhkZHq2Z9SIGlL8ZF I4Zess8k4g50b08DrC4085HGJqkm3wbZfD3lhmeTi9LSE0pudbpYpxxf2P+eR X-Gm-Gg: ASbGncu6Dpfya+rcpPQ7jOw2Ro38BvgVba1aoufyXCS2W3FMWoXprvcQqCktXyvKXbT J2+Azzjy9WsQfe1Umkp5ds0t8fNNDa0MnRy9cwSaVPeHNbOyM6ciK+IndTRwuXfBl4dcx0QiodM sJp/cky1aaz6TbV5b4aJvoTRpKrjWlPNhrDPoMSNASShgLl8e3J5y4W8sxJiISTnmv5SY+PGHRc qFlqKkfHjUad/Cw0aFtfaOYDScUUpTt0od0T2U3nrj4udGRFtIlZLQPFKdBDUMvcQK3vj2ZKYd/ 9ZiNRgOvrpw0X7ls84vN3Vj4fpyk1r7GgrqjD6e9GDOwrXm/dQ== X-Google-Smtp-Source: AGHT+IGO3hHbboznYQbDkMMoST02AMu3qd5MvdorP69QFECuJTEagow5hJkGcBNRxI1QjUqE/yMvCSCWlTt5 X-Received: by 2002:a17:902:e805:b0:234:c2e7:a0e4 with SMTP id d9443c01a7336-23dede2f317mr230447715ad.3.1752596499738; Tue, 15 Jul 2025 09:21:39 -0700 (PDT) Received: from postal.iol.unh.edu (postal.iol.unh.edu. [2606:4100:3880:1234::84]) by smtp-relay.gmail.com with ESMTPS id d9443c01a7336-23de4320a31sm6568945ad.75.2025.07.15.09.21.39 (version=TLS1_2 cipher=ECDHE-ECDSA-AES128-GCM-SHA256 bits=128/128); Tue, 15 Jul 2025 09:21:39 -0700 (PDT) X-Relaying-Domain: iol.unh.edu Date: Tue, 15 Jul 2025 09:21:39 -0700 (PDT) Message-ID: <68768013.170a0220.3acbb8.306aSMTPIN_ADDED_MISSING@mx.google.com> Received: from [172.21.0.6] (unknown [172.18.0.240]) by postal.iol.unh.edu (Postfix) with ESMTP id E13BE604D420; Tue, 15 Jul 2025 12:21:38 -0400 (EDT) Subject: |SUCCESS| pw155225 [PATCH] app/testpmd: add flag to enable RSS for s From: dpdklab@iol.unh.edu To: Test Report Cc: dpdk-test-reports@iol.unh.edu In-Reply-To: <20250715125330.2127309-1-bruce.richardson@intel.com> References: <20250715125330.2127309-1-bruce.richardson@intel.com> Content-Type: text/plain X-BeenThere: test-report@dpdk.org X-Mailman-Version: 2.1.29 Precedence: list List-Id: automatic DPDK test reports List-Unsubscribe: , List-Archive: List-Post: List-Help: List-Subscribe: , Errors-To: test-report-bounces@dpdk.org Test-Label: iol-compile-amd64-testing Test-Status: SUCCESS http://dpdk.org/patch/155225 _Testing PASS_ Submitter: Bruce Richardson Date: Tuesday, July 15 2025 12:53:30 DPDK git baseline: Repo:dpdk Branch: master CommitID:9fe9c0b231c8da5435bfccb1963121b4277f961c 155225 --> testing pass Upstream job id: Generic-DPDK-Compile-Meson#408847 Test environment and result as below: +-------------------------------+--------------------+-------------------+------------------+-------------------------+-------------------+----------------------+ | Environment | dpdk_meson_compile | dpdk_compile_spdk | dpdk_compile_ovs | dpdk_llvm_clang_compile | dpdk_msvc_compile | dpdk_mingw64_compile | +===============================+====================+===================+==================+=========================+===================+======================+ | CentOS Stream 9 | PASS | PASS | SKIPPED | SKIPPED | SKIPPED | SKIPPED | +-------------------------------+--------------------+-------------------+------------------+-------------------------+-------------------+----------------------+ | CentOS Stream 10 | PASS | SKIPPED | SKIPPED | SKIPPED | SKIPPED | SKIPPED | +-------------------------------+--------------------+-------------------+------------------+-------------------------+-------------------+----------------------+ | Debian GNU/Linux 12 | PASS | PASS | SKIPPED | SKIPPED | SKIPPED | SKIPPED | +-------------------------------+--------------------+-------------------+------------------+-------------------------+-------------------+----------------------+ | Fedora Linux 40 | PASS | PASS | SKIPPED | SKIPPED | SKIPPED | SKIPPED | +-------------------------------+--------------------+-------------------+------------------+-------------------------+-------------------+----------------------+ | Fedora Linux 41 | PASS | PASS | PASS | SKIPPED | SKIPPED | SKIPPED | +-------------------------------+--------------------+-------------------+------------------+-------------------------+-------------------+----------------------+ | openSUSE Leap 15.6 | PASS | SKIPPED | SKIPPED | SKIPPED | SKIPPED | SKIPPED | +-------------------------------+--------------------+-------------------+------------------+-------------------------+-------------------+----------------------+ | Red Hat Enterprise Linux 8.10 | PASS | SKIPPED | SKIPPED | SKIPPED | SKIPPED | SKIPPED | +-------------------------------+--------------------+-------------------+------------------+-------------------------+-------------------+----------------------+ | Red Hat Enterprise Linux 9.5 | PASS | SKIPPED | SKIPPED | SKIPPED | SKIPPED | SKIPPED | +-------------------------------+--------------------+-------------------+------------------+-------------------------+-------------------+----------------------+ | Ubuntu 20.04 | PASS | SKIPPED | SKIPPED | SKIPPED | SKIPPED | SKIPPED | +-------------------------------+--------------------+-------------------+------------------+-------------------------+-------------------+----------------------+ | Ubuntu 22.04 | PASS | PASS | SKIPPED | SKIPPED | SKIPPED | SKIPPED | +-------------------------------+--------------------+-------------------+------------------+-------------------------+-------------------+----------------------+ | Ubuntu 24.04 | PASS | PASS | PASS | SKIPPED | SKIPPED | SKIPPED | +-------------------------------+--------------------+-------------------+------------------+-------------------------+-------------------+----------------------+ | Alpine Linux 3.22.0 | PASS | SKIPPED | SKIPPED | SKIPPED | SKIPPED | SKIPPED | +-------------------------------+--------------------+-------------------+------------------+-------------------------+-------------------+----------------------+ | FreeBSD 14.2 | PASS | SKIPPED | SKIPPED | SKIPPED | SKIPPED | SKIPPED | +-------------------------------+--------------------+-------------------+------------------+-------------------------+-------------------+----------------------+ | Windows Server 2022 | SKIPPED | SKIPPED | SKIPPED | PASS | PASS | PASS | +-------------------------------+--------------------+-------------------+------------------+-------------------------+-------------------+----------------------+ CentOS Stream 9 Kernel: 5.15 Compiler: gcc gcc (GCC) 11.5.0 20240719 (Red Hat 11.5.0-7) CentOS Stream 10 Kernel: 5.15 Compiler: gcc gcc (GCC) 14.2.1 20250110 (Red Hat 14.2.1-8) Debian GNU/Linux 12 Kernel: 5.15 Compiler: gcc gcc (Debian 12.2.0-14+deb12u1) 12.2.0 Fedora Linux 40 Kernel: 5.15 Compiler: clang gcc (GCC) 14.2.1 20240912 (Red Hat 14.2.1-3) Fedora Linux 41 Kernel: 5.15 Compiler: clang gcc (GCC) 14.3.1 20250523 (Red Hat 14.3.1-1) openSUSE Leap 15.6 Kernel: 5.15 Compiler: gcc gcc (SUSE Linux) 7.5.0 Red Hat Enterprise Linux 8.10 Kernel: 5.15 Compiler: gcc gcc (GCC) 8.5.0 20210514 (Red Hat 8.5.0-22) Red Hat Enterprise Linux 9.5 Kernel: 5.15 Compiler: gcc gcc (GCC) 11.5.0 20240719 (Red Hat 11.5.0-2) Ubuntu 20.04 Kernel: 4.19 Compiler: gcc gcc (Ubuntu 9.4.0-1ubuntu1~20.04.2) 9.4.0 Ubuntu 22.04 Kernel: 5.15 Compiler: gcc gcc (Ubuntu 11.4.0-1ubuntu1~22.04) 11.4.0 Ubuntu 24.04 Kernel: 5.15 Compiler: gcc gcc (Ubuntu 13.3.0-6ubuntu2~24.04) 13.3.0 Alpine Linux 3.22.0 Kernel: 5.15 Compiler: gcc gcc (Alpine 14.2.0) 14.2.0 FreeBSD 14.2 Kernel: 14.2-RELEASE Compiler: clang 18.1.6 Windows Server 2022 Kernel: 10.0.20348.2031 Compiler: clang 15.0.7, gcc 14.1.0 (MinGW), and MSVC VS 19.39.33521 To view detailed results, visit: https://lab.dpdk.org/results/dashboard/patchsets/33657/ UNH-IOL DPDK Community Lab To manage your email subscriptions, visit: https://lab.dpdk.org/results/dashboard/preferences/subscriptions/