From mboxrd@z Thu Jan 1 00:00:00 1970 Return-Path: Received: from mails.dpdk.org (mails.dpdk.org [217.70.189.124]) by inbox.dpdk.org (Postfix) with ESMTP id 7E80346B81 for ; Tue, 15 Jul 2025 18:24:31 +0200 (CEST) Received: from mails.dpdk.org (localhost [127.0.0.1]) by mails.dpdk.org (Postfix) with ESMTP id 7A9444028C; Tue, 15 Jul 2025 18:24:31 +0200 (CEST) Received: from mail-pl1-f226.google.com (mail-pl1-f226.google.com [209.85.214.226]) by mails.dpdk.org (Postfix) with ESMTP id 51B554028C for ; Tue, 15 Jul 2025 18:24:30 +0200 (CEST) Received: by mail-pl1-f226.google.com with SMTP id d9443c01a7336-234d3261631so46212655ad.1 for ; Tue, 15 Jul 2025 09:24:30 -0700 (PDT) DKIM-Signature: v=1; a=rsa-sha256; c=relaxed/relaxed; d=iol.unh.edu; s=unh-iol; t=1752596669; x=1753201469; darn=dpdk.org; h=references:in-reply-to:cc:to:from:subject:message-id:date:from:to :cc:subject:date:message-id:reply-to; bh=YRVLGomKio8BjQFametyvX+e/Sid0tGafnmzOm8D/Bc=; b=ZDu5odO+2I0SLHs5EGl+I+nkdUlioP7pY+AcD++aCOcVqtLEcAr1eERVUF/vMB6C9x 2ADmEgMDqvBsdUMAPq68QYmpflhtZ7ETcu9eq1Je2fLQ0Zmd9t+sXJ+4Ew/djiL3Qu2i ZP+6wrUK1jiprqOCCs/aE9QAFZO+vRJpGZkxg= X-Google-DKIM-Signature: v=1; a=rsa-sha256; c=relaxed/relaxed; d=1e100.net; s=20230601; t=1752596669; x=1753201469; h=references:in-reply-to:cc:to:from:subject:message-id:date :x-gm-message-state:from:to:cc:subject:date:message-id:reply-to; bh=YRVLGomKio8BjQFametyvX+e/Sid0tGafnmzOm8D/Bc=; b=TBXFWjRe8GJIKGWdJYbsbiq+TgwGJ4JSmK3ANex0B6X3+37WizyKFVMMEx8Iw8K7rE whvEZcaaYqccSA8857KFP5v1n/EOtDIbaMXyIu3BIlU4QnEdg/XWfDZ/77q19dKq04dW SIKY87H7S1XxNKOHDed6UfesMSvE8z1pHhG3fBKiu7GekgFye75SDZwoRuevp9qcYPwZ 6c6mGh0RJ16C3yyYdlV29Cd7ZJ2jA7GfnG3okBR14S/xdeqLGcaw+QdQ1GQxWFnO5e6Z xk59KHp3aNqJPLVQA1IgkCdLTLkvWOd109gTIa7bNu/2QiZT9y4k/ter04tQEQ+P8pZx t1Cw== X-Gm-Message-State: AOJu0YyaZzTNL7mTkLj4SWlLwwCR7/WCo2IEwy/sQIJPIbROFriCOajS f3xYkypecR4p/PA2XP1L6LyiPoGUezi0yKX2iX9Tqll5ADawalOJhhk2/iXBg967vzVTJUhoWEh lGw0wSoCF7u4WH4NL/Jb/K5HjYtwWaimbKIddlIWnY9jh X-Gm-Gg: ASbGncuGSRwW2bOp0oWT3BqemsN1U1rLwVEYTlVbGAh2nDpwyW9tpQbkF2Dtedo2fyp oQ+LkbSes9osSvgGCiWsmoHNkCMxYfF0DFoJsJAvTJpdUiQmBmcAX4QZ9cK2XTvB1y/opKYobQF iT2yj78rPN8EWq/mBUvoerraP15k1+RlbeXI+sj+3Dit6olVosSir5cbS9m4fwD5KIM2SgzwL9s Ow1/f8WQco+Kc0FPPjHjS5D4N/Onr+wZsGNhVWJ3Q674DR71b43j9YMQ5w2uKRhBD3VCEdk5cpM iYUQjpW18N4yLMe82eEphg2rMdDaTOHs9hmQRhmnsfgQK++lbUT/jnff7wJQYVWlPd4ZXTHU X-Google-Smtp-Source: AGHT+IHLepdrPGUopRIta65WuLReaXEGhf3RyZlwj0c773LHDOWkxApsLM2+I2ZTsTUNjZaDrn7IB+QzxdHZ X-Received: by 2002:a17:903:11c9:b0:235:2e0:aa9 with SMTP id d9443c01a7336-23dede456d7mr270865575ad.14.1752596669101; Tue, 15 Jul 2025 09:24:29 -0700 (PDT) Received: from postal.iol.unh.edu (postal.iol.unh.edu. [132.177.123.84]) by smtp-relay.gmail.com with ESMTPS id d9443c01a7336-23de42b2aeasm6332715ad.53.2025.07.15.09.24.28 (version=TLS1_2 cipher=ECDHE-ECDSA-AES128-GCM-SHA256 bits=128/128); Tue, 15 Jul 2025 09:24:29 -0700 (PDT) X-Relaying-Domain: iol.unh.edu Date: Tue, 15 Jul 2025 09:24:29 -0700 (PDT) Message-ID: <687680bd.170a0220.169e31.1158SMTPIN_ADDED_MISSING@mx.google.com> Received: from [172.21.0.8] (unknown [172.18.0.240]) by postal.iol.unh.edu (Postfix) with ESMTP id 85559604D420; Tue, 15 Jul 2025 12:24:28 -0400 (EDT) Subject: |SUCCESS| pw155224 [PATCH] examples/multi_process: revert ports clea From: dpdklab@iol.unh.edu To: Test Report Cc: dpdk-test-reports@iol.unh.edu In-Reply-To: <20250715121111.156639-1-thomas@monjalon.net> References: <20250715121111.156639-1-thomas@monjalon.net> Content-Type: text/plain X-BeenThere: test-report@dpdk.org X-Mailman-Version: 2.1.29 Precedence: list List-Id: automatic DPDK test reports List-Unsubscribe: , List-Archive: List-Post: List-Help: List-Subscribe: , Errors-To: test-report-bounces@dpdk.org Test-Label: iol-compile-arm64-testing Test-Status: SUCCESS http://dpdk.org/patch/155224 _Testing PASS_ Submitter: Thomas Monjalon Date: Tuesday, July 15 2025 12:11:10 DPDK git baseline: Repo:dpdk Branch: master CommitID:9fe9c0b231c8da5435bfccb1963121b4277f961c 155224 --> testing pass Upstream job id: Generic-DPDK-Compile-Meson#408835 Test environment and result as below: +------------------------------+--------------------+ | Environment | dpdk_meson_compile | +==============================+====================+ | Red Hat Enterprise Linux 9.5 | PASS | +------------------------------+--------------------+ | Ubuntu 20.04 | PASS | +------------------------------+--------------------+ | Debian GNU/Linux 12 | PASS | +------------------------------+--------------------+ | Fedora Linux 41 | PASS | +------------------------------+--------------------+ | Fedora Linux 40 | PASS | +------------------------------+--------------------+ | Ubuntu 22.04 | PASS | +------------------------------+--------------------+ | Ubuntu 24.04 | PASS | +------------------------------+--------------------+ | CentOS Stream 9 | PASS | +------------------------------+--------------------+ | CentOS Stream 10 | PASS | +------------------------------+--------------------+ Red Hat Enterprise Linux 9.5 Kernel: 5.4 Compiler: gcc gcc (GCC) 11.5.0 20240719 (Red Hat 11.5.0-2) Ubuntu 20.04 Kernel: 5.15 Compiler: aarch64-linux-gnu-gcc gcc (Ubuntu 9.4.0-1ubuntu1~20.04.2) 9.4.0 Debian GNU/Linux 12 Kernel: 5.4 Compiler: gcc gcc (Debian 12.2.0-14+deb12u1) 12.2.0 Fedora Linux 41 Kernel: 5.4 Compiler: clang gcc (GCC) 14.3.1 20250523 (Red Hat 14.3.1-1) Fedora Linux 40 Kernel: 5.4 Compiler: clang gcc (GCC) 14.2.1 20240912 (Red Hat 14.2.1-3) Ubuntu 22.04 Kernel: 5.4 Compiler: gcc gcc (Ubuntu 11.4.0-1ubuntu1~22.04) 11.4.0 Ubuntu 24.04 Kernel: 5.4 Compiler: gcc gcc (Ubuntu 13.3.0-6ubuntu2~24.04) 13.3.0 CentOS Stream 9 Kernel: 5.4 Compiler: gcc gcc (GCC) 11.5.0 20240719 (Red Hat 11.5.0-7) CentOS Stream 10 Kernel: 5.4 Compiler: gcc gcc (GCC) 14.2.1 20250110 (Red Hat 14.2.1-8) To view detailed results, visit: https://lab.dpdk.org/results/dashboard/patchsets/33656/ UNH-IOL DPDK Community Lab To manage your email subscriptions, visit: https://lab.dpdk.org/results/dashboard/preferences/subscriptions/