From mboxrd@z Thu Jan 1 00:00:00 1970 Return-Path: Received: from mails.dpdk.org (mails.dpdk.org [217.70.189.124]) by inbox.dpdk.org (Postfix) with ESMTP id 3702646B81 for ; Tue, 15 Jul 2025 18:31:37 +0200 (CEST) Received: from mails.dpdk.org (localhost [127.0.0.1]) by mails.dpdk.org (Postfix) with ESMTP id 2106A4028C; Tue, 15 Jul 2025 18:31:37 +0200 (CEST) Received: from mail-yb1-f226.google.com (mail-yb1-f226.google.com [209.85.219.226]) by mails.dpdk.org (Postfix) with ESMTP id 11CB64028C for ; Tue, 15 Jul 2025 18:31:36 +0200 (CEST) Received: by mail-yb1-f226.google.com with SMTP id 3f1490d57ef6-e8600c87293so4440286276.1 for ; Tue, 15 Jul 2025 09:31:35 -0700 (PDT) DKIM-Signature: v=1; a=rsa-sha256; c=relaxed/relaxed; d=iol.unh.edu; s=unh-iol; t=1752597095; x=1753201895; darn=dpdk.org; h=references:in-reply-to:cc:to:from:subject:message-id:date:from:to :cc:subject:date:message-id:reply-to; bh=rmiBNV51oSZNUalNIQawUC+r8l913ChQMuZZ/q3MVTM=; b=egUjV9Y3KmiadD7enmuiINBS3mHTFEku11tGCMDsGP7HGQoJeQBpKaESgIfSlbG6NU 7aFTlTqp5BkwOyfGoEewYsjN2w4yl5t7gnIHTAGF5kAMJ9rPlf7/zOD3GEJpo1A4AxVd 5A7Bj8xPTmOycBSxKcsUk+eNYj6QFuzZiWT5A= X-Google-DKIM-Signature: v=1; a=rsa-sha256; c=relaxed/relaxed; d=1e100.net; s=20230601; t=1752597095; x=1753201895; h=references:in-reply-to:cc:to:from:subject:message-id:date :x-gm-message-state:from:to:cc:subject:date:message-id:reply-to; bh=rmiBNV51oSZNUalNIQawUC+r8l913ChQMuZZ/q3MVTM=; b=vfV1vhBDp6rW4WJ6J6w5swIgsrgMmOE1ZLHEHZCrFOSuMcJErfg4pU6f05RGrzndEC I07vGL4MYEQUIgjT+o+o+y1Qax0oBU8y876bSwy9P4AxI9w7axFJyGzSjLykQlPVnxaJ qvG8sEnmSajVgV8JIWk6IeKtGCFpIBafiBXv5japbXRmW72XbaKgeWBx+AyE7NsEsJag U++zy5uvN+G4dkEpPpNhZurDyhGDkDP90t0BN2Cd2VJqircVcTUPrb1mXQ82m9O7C86p gtpYzjV1QTUrg0QJHOxuQWAtLwmTztHRcHacKFgf3LWL9thq91qXgnCsrPbqWOhW9K69 SaSQ== X-Gm-Message-State: AOJu0YzNDBk4kRASN6GPCjG3sjpJojhH+p/gqNCox5w3mt6iHr+KXL3r m4aPZj6KDo7CzgM84AZMRz4AwntdMX+4qTUFjfhAxz+jSBN8a/pSzHgMAXg3TtT8Epr7Cx5/G77 XA46Xvn3yUIsh2gs+3KGgS9agwjtcvQDLow5ZA/HAfPLI X-Gm-Gg: ASbGncvmaQEQGvvHUSsdat80hcrQSypYC0kJ9m9XzSevG6FGArP/8qiHX7LOGo/kEiN MsSSItvV+F5DrHB28jSgVlWbEeaMshzQwrYgsulott4fTEP9+hszHt6owHTdk6NhL+HvEiD6iXz wNR7s9ew+Lw0NWrw7KTI7/K2MhZraBH3kDbVkDkDp2C4sToub2RZR2uurFHThZ5rCD6Wsp/xCcD fnNK8gC0uPm0z/P55GlS9p0a58blAAIVOxN5kUh8laJKXk5+AsNpr/7H98vXuZvoA65oIfwbtaN nNXlrOgmmScOvhRxOwKrNlogD9opRO6HALpQbPlOaNx+EvqmKIDYXLnsC/KRON1w/Vi5eUWL X-Google-Smtp-Source: AGHT+IFv5Z5qauAjy4Juq8v7wOrmOy2jO2vVNIbhdOmRFPgMXa1U3FsU1bXZe/Lj8upw311PUiycmzkMfO+T X-Received: by 2002:a05:6902:1009:b0:e87:a607:6c39 with SMTP id 3f1490d57ef6-e8bb6cee662mr3878850276.9.1752597095285; Tue, 15 Jul 2025 09:31:35 -0700 (PDT) Received: from postal.iol.unh.edu (postal.iol.unh.edu. [132.177.123.84]) by smtp-relay.gmail.com with ESMTPS id 3f1490d57ef6-e8bb9e17f3dsm92228276.2.2025.07.15.09.31.35 (version=TLS1_2 cipher=ECDHE-ECDSA-AES128-GCM-SHA256 bits=128/128); Tue, 15 Jul 2025 09:31:35 -0700 (PDT) X-Relaying-Domain: iol.unh.edu Date: Tue, 15 Jul 2025 09:31:35 -0700 (PDT) Message-ID: <68768267.250a0220.1725a0.482aSMTPIN_ADDED_MISSING@mx.google.com> Received: from [172.21.0.5] (unknown [172.18.0.240]) by postal.iol.unh.edu (Postfix) with ESMTP id E7E71604D420; Tue, 15 Jul 2025 12:31:34 -0400 (EDT) Subject: |SUCCESS| pw155227 [PATCH] latencystats: make errors visible From: dpdklab@iol.unh.edu To: Test Report Cc: dpdk-test-reports@iol.unh.edu In-Reply-To: <20250715150722.39575-1-stephen@networkplumber.org> References: <20250715150722.39575-1-stephen@networkplumber.org> Content-Type: text/plain X-BeenThere: test-report@dpdk.org X-Mailman-Version: 2.1.29 Precedence: list List-Id: automatic DPDK test reports List-Unsubscribe: , List-Archive: List-Post: List-Help: List-Subscribe: , Errors-To: test-report-bounces@dpdk.org Test-Label: iol-unit-amd64-testing Test-Status: SUCCESS http://dpdk.org/patch/155227 _Testing PASS_ Submitter: Stephen Hemminger Date: Tuesday, July 15 2025 15:06:46 DPDK git baseline: Repo:dpdk Branch: master CommitID:9fe9c0b231c8da5435bfccb1963121b4277f961c 155227 --> testing pass Upstream job id: Generic-Unit-Test-DPDK#355532 Test environment and result as below: +-------------------------------+----------------+ | Environment | dpdk_unit_test | +===============================+================+ | Debian GNU/Linux 12 | PASS | +-------------------------------+----------------+ | CentOS Stream 9 | PASS | +-------------------------------+----------------+ | Fedora Linux 40 | PASS | +-------------------------------+----------------+ | CentOS Stream 10 | PASS | +-------------------------------+----------------+ | Fedora Linux 41 | PASS | +-------------------------------+----------------+ | Ubuntu 24.04 | PASS | +-------------------------------+----------------+ | Red Hat Enterprise Linux 8.10 | PASS | +-------------------------------+----------------+ | Red Hat Enterprise Linux 9.5 | PASS | +-------------------------------+----------------+ | Ubuntu 20.04 | PASS | +-------------------------------+----------------+ | Ubuntu 22.04 | PASS | +-------------------------------+----------------+ | Windows Server 2022 | PASS | +-------------------------------+----------------+ Debian GNU/Linux 12 Kernel: 5.15 Compiler: gcc gcc (Debian 12.2.0-14+deb12u1) 12.2.0 CentOS Stream 9 Kernel: 5.15 Compiler: gcc gcc (GCC) 11.5.0 20240719 (Red Hat 11.5.0-7) Fedora Linux 40 Kernel: 5.15 Compiler: gcc gcc (GCC) 14.2.1 20240912 (Red Hat 14.2.1-3) CentOS Stream 10 Kernel: 5.15 Compiler: gcc gcc (GCC) 14.2.1 20250110 (Red Hat 14.2.1-8) Fedora Linux 41 Kernel: 5.15 Compiler: gcc gcc (GCC) 14.3.1 20250523 (Red Hat 14.3.1-1) Ubuntu 24.04 Kernel: 5.15 Compiler: gcc gcc (Ubuntu 13.3.0-6ubuntu2~24.04) 13.3.0 Red Hat Enterprise Linux 8.10 Kernel: 5.15 Compiler: gcc gcc (GCC) 8.5.0 20210514 (Red Hat 8.5.0-22) Red Hat Enterprise Linux 9.5 Kernel: 5.15 Compiler: gcc gcc (GCC) 11.5.0 20240719 (Red Hat 11.5.0-2) Ubuntu 20.04 Kernel: 5.15 Compiler: gcc gcc (Ubuntu 9.4.0-1ubuntu1~20.04.2) 9.4.0 Ubuntu 22.04 Kernel: 5.15 Compiler: gcc gcc (Ubuntu 11.4.0-1ubuntu1~22.04) 11.4.0 Windows Server 2022 Kernel: 10.0.20348.2031 Compiler: clang 15.0.7, gcc 14.1.0 (MinGW), and MSVC VS 19.39.33521 To view detailed results, visit: https://lab.dpdk.org/results/dashboard/patchsets/33659/ UNH-IOL DPDK Community Lab To manage your email subscriptions, visit: https://lab.dpdk.org/results/dashboard/preferences/subscriptions/