From mboxrd@z Thu Jan 1 00:00:00 1970 Return-Path: Received: from mails.dpdk.org (mails.dpdk.org [217.70.189.124]) by inbox.dpdk.org (Postfix) with ESMTP id CAD7246B81 for ; Tue, 15 Jul 2025 18:37:35 +0200 (CEST) Received: from mails.dpdk.org (localhost [127.0.0.1]) by mails.dpdk.org (Postfix) with ESMTP id 9A8A54028C; Tue, 15 Jul 2025 18:37:35 +0200 (CEST) Received: from mail-yb1-f225.google.com (mail-yb1-f225.google.com [209.85.219.225]) by mails.dpdk.org (Postfix) with ESMTP id AE8854028C for ; Tue, 15 Jul 2025 18:37:34 +0200 (CEST) Received: by mail-yb1-f225.google.com with SMTP id 3f1490d57ef6-e8187601f85so5009546276.2 for ; Tue, 15 Jul 2025 09:37:34 -0700 (PDT) DKIM-Signature: v=1; a=rsa-sha256; c=relaxed/relaxed; d=iol.unh.edu; s=unh-iol; t=1752597454; x=1753202254; darn=dpdk.org; h=references:in-reply-to:cc:to:from:subject:message-id:date:from:to :cc:subject:date:message-id:reply-to; bh=FObBOjN7Jrf6r8TYRbIR+QqQSa17GYJ+E76RCWeVtls=; b=hjfqwX42EElhiHPhtQ+K/NT03IdendGNwPdjXYDlX+G6jvYZXYNqtzrT1M40dfFmjO oqF04MocVA3qk2Ithp/gJPiCogXBzE3Pakst0e7G+F6LGa508vFn5H+gJ8ylpSVIVJ+O ZyaTTmoRnD6lnezH6erQmWYHzs1P9TWc0HppU= X-Google-DKIM-Signature: v=1; a=rsa-sha256; c=relaxed/relaxed; d=1e100.net; s=20230601; t=1752597454; x=1753202254; h=references:in-reply-to:cc:to:from:subject:message-id:date :x-gm-message-state:from:to:cc:subject:date:message-id:reply-to; bh=FObBOjN7Jrf6r8TYRbIR+QqQSa17GYJ+E76RCWeVtls=; b=STo3Fo8tfkgRlWw3LhbjxvCb0OzNtyU1PeIvdd8YkA0JoSO20gzLHW8MEEt/rKgH3Y TmWNMHovSBFcd5ORTLC3Iawo5jKAaNH9zQjSrrwjECmeakDN1nv78lmcfk0ajIpf90v9 +T8B11YQDYsDV6aZoTb8ISI7kZ290o6vmajdSnNJstda59ujCQ67liVfbkGagCriXPqF Gq1RmTlnbJ59leBoLO+zgrKPr1FNvr+9Ot1LUGVBJnNTuHheuV3l89TfYSwEWLwb28J5 ja9ExiBNjOIa2Aaptdlxe23FX01G7IjHslFXIc1Cm7tNSEJ//h8o0wDEnq/0Qt3F+JAg gkgw== X-Gm-Message-State: AOJu0Yxgzx49ZEqqXfj6NTwFyg3UB4cadYMPEJInE/f8u9XzFa9h0Kcd ZpocBw9z8Mj8/65uMkJ92cflO6MI1HZkZ4ZghPyjmrK4z3sCBQUdU9hpBcSvd73ilfVxBDEmtgJ xawEaglCfdb9eypDvuvn0q+rHXHLU84BE9tNtmOyvn7UZ X-Gm-Gg: ASbGnct4WEnKhC+bumzGdu+BFDzgZ68tZP8Nv5DisRaTyYsmG2weYj25U++jq3tVZNv 3EZge0xVgNtOjkIslBkeQJs6fuxTYIlSdq5dbLtiAPr88pEtDn8qfDkstqDaATQxf2Q0mGhlHhP vTUrlBez/tslOP66a7r2Zf/UK9q+wNeuP9HPfSpmqN/wYCAWAkek8JPdCFAHP8Mue03e+qDXm11 +1s3ofxk0D+cesym7AYhPdn6F1RYhxXlgyd/PtOQtyjnQ5p3KI76r2t2ERdhoIT+CDbKPXYDzv7 2nuXhWDSjr2n4PCQw3ePujxboW4lzYW+ms22itC6O/xX+ipfP3/mHfvIz6Rb3H9LxORrl1iX X-Google-Smtp-Source: AGHT+IHYvf+b9Vjtc8YA0RP7aCm2/vHzwNcrPfGCdLK6QD24K7F/zrmWLLFvB1oVo1gwAnbgCVPpjaWwPBRG X-Received: by 2002:a05:6902:4890:b0:e8b:b3d9:93fd with SMTP id 3f1490d57ef6-e8bb3d994eamr6171561276.18.1752597452478; Tue, 15 Jul 2025 09:37:32 -0700 (PDT) Received: from postal.iol.unh.edu (postal.iol.unh.edu. [132.177.123.84]) by smtp-relay.gmail.com with ESMTPS id 3f1490d57ef6-e8b7abee53csm333225276.0.2025.07.15.09.37.32 (version=TLS1_2 cipher=ECDHE-ECDSA-AES128-GCM-SHA256 bits=128/128); Tue, 15 Jul 2025 09:37:32 -0700 (PDT) X-Relaying-Domain: iol.unh.edu Date: Tue, 15 Jul 2025 09:37:32 -0700 (PDT) Message-ID: <687683cc.050a0220.21e48b.37deSMTPIN_ADDED_MISSING@mx.google.com> Received: from [172.21.0.5] (unknown [172.18.0.240]) by postal.iol.unh.edu (Postfix) with ESMTP id 32E51604D420; Tue, 15 Jul 2025 12:37:32 -0400 (EDT) Subject: |SUCCESS| pw155227 [PATCH] latencystats: make errors visible From: dpdklab@iol.unh.edu To: Test Report Cc: dpdk-test-reports@iol.unh.edu In-Reply-To: <20250715150722.39575-1-stephen@networkplumber.org> References: <20250715150722.39575-1-stephen@networkplumber.org> Content-Type: text/plain X-BeenThere: test-report@dpdk.org X-Mailman-Version: 2.1.29 Precedence: list List-Id: automatic DPDK test reports List-Unsubscribe: , List-Archive: List-Post: List-Help: List-Subscribe: , Errors-To: test-report-bounces@dpdk.org Test-Label: iol-unit-amd64-testing Test-Status: SUCCESS http://dpdk.org/patch/155227 _Testing PASS_ Submitter: Stephen Hemminger Date: Tuesday, July 15 2025 15:06:46 DPDK git baseline: Repo:dpdk Branch: master CommitID:9fe9c0b231c8da5435bfccb1963121b4277f961c 155227 --> testing pass Upstream job id: Generic-VM-Unit-Test-DPDK#29957 Test environment and result as below: +-------------------------------+----------------+ | Environment | dpdk_unit_test | +===============================+================+ | Debian GNU/Linux 12 | PASS | +-------------------------------+----------------+ | CentOS Stream 9 | PASS | +-------------------------------+----------------+ | Fedora Linux 40 | PASS | +-------------------------------+----------------+ | CentOS Stream 10 | PASS | +-------------------------------+----------------+ | Fedora Linux 41 | PASS | +-------------------------------+----------------+ | Ubuntu 24.04 | PASS | +-------------------------------+----------------+ | Red Hat Enterprise Linux 8.10 | PASS | +-------------------------------+----------------+ | Red Hat Enterprise Linux 9.5 | PASS | +-------------------------------+----------------+ | Ubuntu 20.04 | PASS | +-------------------------------+----------------+ | Ubuntu 22.04 | PASS | +-------------------------------+----------------+ | Windows Server 2022 | PASS | +-------------------------------+----------------+ Debian GNU/Linux 12 Kernel: 5.15 Compiler: gcc gcc (Debian 12.2.0-14+deb12u1) 12.2.0 CentOS Stream 9 Kernel: 5.15 Compiler: gcc gcc (GCC) 11.5.0 20240719 (Red Hat 11.5.0-7) Fedora Linux 40 Kernel: 5.15 Compiler: gcc gcc (GCC) 14.2.1 20240912 (Red Hat 14.2.1-3) CentOS Stream 10 Kernel: 5.15 Compiler: gcc gcc (GCC) 14.2.1 20250110 (Red Hat 14.2.1-8) Fedora Linux 41 Kernel: 5.15 Compiler: gcc gcc (GCC) 14.3.1 20250523 (Red Hat 14.3.1-1) Ubuntu 24.04 Kernel: 5.15 Compiler: gcc gcc (Ubuntu 13.3.0-6ubuntu2~24.04) 13.3.0 Red Hat Enterprise Linux 8.10 Kernel: 5.15 Compiler: gcc gcc (GCC) 8.5.0 20210514 (Red Hat 8.5.0-22) Red Hat Enterprise Linux 9.5 Kernel: 5.15 Compiler: gcc gcc (GCC) 11.5.0 20240719 (Red Hat 11.5.0-2) Ubuntu 20.04 Kernel: 5.15 Compiler: gcc gcc (Ubuntu 9.4.0-1ubuntu1~20.04.2) 9.4.0 Ubuntu 22.04 Kernel: 5.15 Compiler: gcc gcc (Ubuntu 11.4.0-1ubuntu1~22.04) 11.4.0 Windows Server 2022 Kernel: 10.0.20348.2031 Compiler: clang 15.0.7, gcc 14.1.0 (MinGW), and MSVC VS 19.39.33521 To view detailed results, visit: https://lab.dpdk.org/results/dashboard/patchsets/33659/ UNH-IOL DPDK Community Lab To manage your email subscriptions, visit: https://lab.dpdk.org/results/dashboard/preferences/subscriptions/