From mboxrd@z Thu Jan 1 00:00:00 1970 Return-Path: Received: from mails.dpdk.org (mails.dpdk.org [217.70.189.124]) by inbox.dpdk.org (Postfix) with ESMTP id 512A446B81 for ; Tue, 15 Jul 2025 19:06:09 +0200 (CEST) Received: from mails.dpdk.org (localhost [127.0.0.1]) by mails.dpdk.org (Postfix) with ESMTP id 49E1C4028C; Tue, 15 Jul 2025 19:06:09 +0200 (CEST) Received: from mail-pl1-f226.google.com (mail-pl1-f226.google.com [209.85.214.226]) by mails.dpdk.org (Postfix) with ESMTP id 0C57E4028C for ; Tue, 15 Jul 2025 19:06:08 +0200 (CEST) Received: by mail-pl1-f226.google.com with SMTP id d9443c01a7336-234f17910d8so57819535ad.3 for ; Tue, 15 Jul 2025 10:06:07 -0700 (PDT) DKIM-Signature: v=1; a=rsa-sha256; c=relaxed/relaxed; d=iol.unh.edu; s=unh-iol; t=1752599167; x=1753203967; darn=dpdk.org; h=references:in-reply-to:cc:to:from:subject:message-id:date:from:to :cc:subject:date:message-id:reply-to; bh=sgAB3K396mU39jGtmAKUnwWu/d6SLEdoFcoCIQvLXaY=; b=IchDMrRTdghox/I4zqsB1VLrSSQ9Grfem/hrVLbHuo2hPSMHl6bhC5Fra/H32/m4TQ pAff0kdESH6RNykFK3FId1fxvAZF1ZzPRfva1CPYRF3WJpTP2PUWTT4MurakXDvUxizQ bHQ6ZUW0dKyhASwCNdVTeBhTZ9rbsvdP1jgeI= X-Google-DKIM-Signature: v=1; a=rsa-sha256; c=relaxed/relaxed; d=1e100.net; s=20230601; t=1752599167; x=1753203967; h=references:in-reply-to:cc:to:from:subject:message-id:date :x-gm-message-state:from:to:cc:subject:date:message-id:reply-to; bh=sgAB3K396mU39jGtmAKUnwWu/d6SLEdoFcoCIQvLXaY=; b=Z53xdqGU/1Jrs3sIWlxCXjudlkrV2EAuWDiY1Z2HkODSvS90Oa51R+ZVrvpiNRbCs5 sVA7t6RxMLN9FxPPguLDr2KiVfJMbvTPiTwavtv7q2k6MSWwY5qaYoZticsTEMMHAbEX oTsW4cqMYdvGc8ewZRrMu+R999Eybo3oZ2MTGKTXFEWuqDTL9hPDncFnxp1OZZY6TN+A ghwCsCnLMffZCShohoFgh8voNl6OOxDI9sihBFKdO62SZ6YA5sJ6dHIIV6qt+bmsT3mH n/3yXdZsTgKafyG8WF6Q7USWFxokB6dGihWZdPeFXWPpjKgvGNE5c2JrcdQ4iJV02ZUF +GCQ== X-Gm-Message-State: AOJu0YwetQNO4i4PCrgRSvVNxyAJ8ugLmOuC6HiVtkgi947lEn6EBByL aDaxUVUAWJBuGyzJATSgXNbAnLrlc13M2Dv8dVjyeXi3zdabYJPPpvlBp0157qa9nYFtQKCWO+J 8I855ru6zO0b7Hy7Z+NY89lW95JQN9PSVK79+87qXlkTpkDn3EnShIImDmL3A X-Gm-Gg: ASbGncvFy39+2LcEwVDrpBVqNn58jci+dxGzPu3/tfSTVFh1CtpdOYPn5EI5Aq7Rpa1 ywHXesy+SXOCMkHnfvq09ehc2GkTaNl0iIW2jX27kUZjlnk5yWD/4lj0F36lDqBoZre8K4BXZ0p xdcdd3FZHeMHnH2E9VfWCXY9A5jNi6h6M3f7qXIVhLOFZFc+J0qGhanq9LhJyUGohbS256TVJgw Ua3P3Txxmom7JWGH75ZAOGyWPkpPNvDhLkuT/7Z8tHGy0TsEhzM6ElfHZ4UJT5Cep+pVMd/jieW gmFAvLbW8Q4zaK/UdPog7Vc1nS34X22frmBcdYqkCsrJ16Fykw== X-Google-Smtp-Source: AGHT+IEEbc7sRltxg9BTpriyr33/CusdXkwIp66y+qinR4RhNgJP1O1bUCcf0AhudVWI0VtYfzyBsZwLa92j X-Received: by 2002:a17:903:90e:b0:234:d7c5:a0f6 with SMTP id d9443c01a7336-23dede860c0mr236948795ad.31.1752599166961; Tue, 15 Jul 2025 10:06:06 -0700 (PDT) Received: from postal.iol.unh.edu (postal.iol.unh.edu. [2606:4100:3880:1234::84]) by smtp-relay.gmail.com with ESMTPS id d9443c01a7336-23de43209cesm6711925ad.69.2025.07.15.10.06.06 (version=TLS1_2 cipher=ECDHE-ECDSA-AES128-GCM-SHA256 bits=128/128); Tue, 15 Jul 2025 10:06:06 -0700 (PDT) X-Relaying-Domain: iol.unh.edu Date: Tue, 15 Jul 2025 10:06:06 -0700 (PDT) Message-ID: <68768a7e.170a0220.96f30.437eSMTPIN_ADDED_MISSING@mx.google.com> Received: from [172.21.0.5] (unknown [172.18.0.240]) by postal.iol.unh.edu (Postfix) with ESMTP id 2360C6051830; Tue, 15 Jul 2025 13:06:06 -0400 (EDT) Subject: |SUCCESS| pw155227 [PATCH] latencystats: make errors visible From: dpdklab@iol.unh.edu To: Test Report Cc: dpdk-test-reports@iol.unh.edu In-Reply-To: <20250715150722.39575-1-stephen@networkplumber.org> References: <20250715150722.39575-1-stephen@networkplumber.org> Content-Type: text/plain X-BeenThere: test-report@dpdk.org X-Mailman-Version: 2.1.29 Precedence: list List-Id: automatic DPDK test reports List-Unsubscribe: , List-Archive: List-Post: List-Help: List-Subscribe: , Errors-To: test-report-bounces@dpdk.org Test-Label: iol-unit-arm64-testing Test-Status: SUCCESS http://dpdk.org/patch/155227 _Testing PASS_ Submitter: Stephen Hemminger Date: Tuesday, July 15 2025 15:06:46 DPDK git baseline: Repo:dpdk Branch: master CommitID:9fe9c0b231c8da5435bfccb1963121b4277f961c 155227 --> testing pass Upstream job id: Generic-Unit-Test-DPDK#355528 Test environment and result as below: +------------------------------+--------------+---------------------------+------------------------------+----------------+ | Environment | lpm_autotest | cryptodev_sw_zuc_autotest | cryptodev_sw_snow3g_autotest | dpdk_unit_test | +==============================+==============+===========================+==============================+================+ | Ubuntu 20.04 | PASS | SKIPPED | SKIPPED | PASS | +------------------------------+--------------+---------------------------+------------------------------+----------------+ | Debian 12 (arm) | SKIPPED | PASS | PASS | SKIPPED | +------------------------------+--------------+---------------------------+------------------------------+----------------+ | Debian GNU/Linux 12 | SKIPPED | SKIPPED | SKIPPED | PASS | +------------------------------+--------------+---------------------------+------------------------------+----------------+ | CentOS Stream 9 | SKIPPED | SKIPPED | SKIPPED | PASS | +------------------------------+--------------+---------------------------+------------------------------+----------------+ | CentOS Stream 10 | SKIPPED | SKIPPED | SKIPPED | PASS | +------------------------------+--------------+---------------------------+------------------------------+----------------+ | Fedora Linux 40 | SKIPPED | SKIPPED | SKIPPED | PASS | +------------------------------+--------------+---------------------------+------------------------------+----------------+ | Ubuntu 22.04 | SKIPPED | SKIPPED | SKIPPED | PASS | +------------------------------+--------------+---------------------------+------------------------------+----------------+ | Fedora Linux 41 | SKIPPED | SKIPPED | SKIPPED | PASS | +------------------------------+--------------+---------------------------+------------------------------+----------------+ | Red Hat Enterprise Linux 9.5 | SKIPPED | SKIPPED | SKIPPED | PASS | +------------------------------+--------------+---------------------------+------------------------------+----------------+ | Ubuntu 24.04 | SKIPPED | SKIPPED | SKIPPED | PASS | +------------------------------+--------------+---------------------------+------------------------------+----------------+ Ubuntu 20.04 Kernel: 5.4 Compiler: gcc gcc (Ubuntu 9.4.0-1ubuntu1~20.04.2) 9.4.0 Debian 12 (arm) Kernel: Depends on container host Compiler: gcc (Debian 12.2.0-14) 12.2.0 Debian GNU/Linux 12 Kernel: 5.4 Compiler: gcc gcc (Debian 12.2.0-14+deb12u1) 12.2.0 CentOS Stream 9 Kernel: 5.4 Compiler: gcc gcc (GCC) 11.5.0 20240719 (Red Hat 11.5.0-7) CentOS Stream 10 Kernel: 5.4 Compiler: gcc gcc (GCC) 14.2.1 20250110 (Red Hat 14.2.1-8) Fedora Linux 40 Kernel: 5.4 Compiler: gcc gcc (GCC) 14.2.1 20240912 (Red Hat 14.2.1-3) Ubuntu 22.04 Kernel: 5.4 Compiler: gcc gcc (Ubuntu 11.4.0-1ubuntu1~22.04) 11.4.0 Fedora Linux 41 Kernel: 5.4 Compiler: gcc gcc (GCC) 14.3.1 20250523 (Red Hat 14.3.1-1) Red Hat Enterprise Linux 9.5 Kernel: 5.4 Compiler: gcc gcc (GCC) 11.5.0 20240719 (Red Hat 11.5.0-2) Ubuntu 24.04 Kernel: 5.4 Compiler: gcc gcc (Ubuntu 13.3.0-6ubuntu2~24.04) 13.3.0 To view detailed results, visit: https://lab.dpdk.org/results/dashboard/patchsets/33659/ UNH-IOL DPDK Community Lab To manage your email subscriptions, visit: https://lab.dpdk.org/results/dashboard/preferences/subscriptions/