automatic DPDK test reports
 help / color / mirror / Atom feed
From: dpdklab@iol.unh.edu
To: Test Report <test-report@dpdk.org>
Cc: dpdk-test-reports@iol.unh.edu
Subject: |SUCCESS| pw155225 [PATCH] app/testpmd: add flag to enable RSS for s
Date: Tue, 15 Jul 2025 10:13:38 -0700 (PDT)	[thread overview]
Message-ID: <68768c42.050a0220.49fe5.68b3SMTPIN_ADDED_MISSING@mx.google.com> (raw)
In-Reply-To: <20250715125330.2127309-1-bruce.richardson@intel.com>

Test-Label: iol-compile-arm64-testing
Test-Status: SUCCESS
http://dpdk.org/patch/155225

_Testing PASS_

Submitter: Bruce Richardson <bruce.richardson@intel.com>
Date: Tuesday, July 15 2025 12:53:30 
DPDK git baseline: Repo:dpdk
  Branch: master
  CommitID:9fe9c0b231c8da5435bfccb1963121b4277f961c

155225 --> testing pass

Upstream job id: Generic-DPDK-Compile-Meson#408866

Test environment and result as below:

+------------------------------+--------------------+
|         Environment          | dpdk_meson_compile |
+==============================+====================+
| Red Hat Enterprise Linux 9.5 | PASS               |
+------------------------------+--------------------+
| Ubuntu 20.04                 | PASS               |
+------------------------------+--------------------+
| Fedora Linux 40              | PASS               |
+------------------------------+--------------------+
| Debian GNU/Linux 12          | PASS               |
+------------------------------+--------------------+
| Fedora Linux 41              | PASS               |
+------------------------------+--------------------+
| CentOS Stream 9              | PASS               |
+------------------------------+--------------------+
| Ubuntu 24.04                 | PASS               |
+------------------------------+--------------------+
| Ubuntu 22.04                 | PASS               |
+------------------------------+--------------------+
| CentOS Stream 10             | PASS               |
+------------------------------+--------------------+


Red Hat Enterprise Linux 9.5
	Kernel: 5.4
	Compiler: gcc gcc (GCC) 11.5.0 20240719 (Red Hat 11.5.0-2)

Ubuntu 20.04
	Kernel: 5.15
	Compiler: aarch64-linux-gnu-gcc gcc (Ubuntu 9.4.0-1ubuntu1~20.04.2) 9.4.0

Fedora Linux 40
	Kernel: 5.4
	Compiler: clang gcc (GCC) 14.2.1 20240912 (Red Hat 14.2.1-3)

Debian GNU/Linux 12
	Kernel: 5.4
	Compiler: gcc gcc (Debian 12.2.0-14+deb12u1) 12.2.0

Fedora Linux 41
	Kernel: 5.4
	Compiler: gcc gcc (GCC) 14.3.1 20250523 (Red Hat 14.3.1-1)

CentOS Stream 9
	Kernel: 5.4
	Compiler: gcc gcc (GCC) 11.5.0 20240719 (Red Hat 11.5.0-7)

Ubuntu 24.04
	Kernel: 5.4
	Compiler: gcc gcc (Ubuntu 13.3.0-6ubuntu2~24.04) 13.3.0

Ubuntu 22.04
	Kernel: 5.4
	Compiler: gcc gcc (Ubuntu 11.4.0-1ubuntu1~22.04) 11.4.0

CentOS Stream 10
	Kernel: 5.4
	Compiler: gcc gcc (GCC) 14.2.1 20250110 (Red Hat 14.2.1-8)

To view detailed results, visit:
https://lab.dpdk.org/results/dashboard/patchsets/33657/

UNH-IOL DPDK Community Lab

To manage your email subscriptions, visit: 
https://lab.dpdk.org/results/dashboard/preferences/subscriptions/

      parent reply	other threads:[~2025-07-15 17:13 UTC|newest]

Thread overview: 22+ messages / expand[flat|nested]  mbox.gz  Atom feed  top
     [not found] <20250715125330.2127309-1-bruce.richardson@intel.com>
2025-07-15 12:19 ` |SUCCESS| pw155225 [PATCH] app/testpmd: add flag to enable RSS for single-queue qemudev
2025-07-15 12:24 ` qemudev
2025-07-15 12:53 ` checkpatch
2025-07-15 13:45 ` |SUCCESS| pw155225 [PATCH] app/testpmd: add flag to enable RSS for s dpdklab
2025-07-15 13:46 ` dpdklab
2025-07-15 13:48 ` |PENDING| " dpdklab
2025-07-15 13:53 ` |SUCCESS| " dpdklab
2025-07-15 14:00 ` dpdklab
2025-07-15 14:01 ` dpdklab
2025-07-15 14:02 ` dpdklab
2025-07-15 14:04 ` |PENDING| " dpdklab
2025-07-15 14:04 ` |SUCCESS| pw155225 [PATCH] app/testpmd: add flag to enable RSS for single-queue 0-day Robot
2025-07-15 14:08 ` |PENDING| pw155225 [PATCH] app/testpmd: add flag to enable RSS for s dpdklab
2025-07-15 14:24 ` |SUCCESS| " dpdklab
2025-07-15 14:48 ` |PENDING| " dpdklab
2025-07-15 14:58 ` |SUCCESS| " dpdklab
2025-07-15 15:01 ` dpdklab
2025-07-15 15:41 ` dpdklab
2025-07-15 15:46 ` dpdklab
2025-07-15 16:21 ` dpdklab
2025-07-15 16:21 ` dpdklab
2025-07-15 17:13 ` dpdklab [this message]

Reply instructions:

You may reply publicly to this message via plain-text email
using any one of the following methods:

* Save the following mbox file, import it into your mail client,
  and reply-to-all from there: mbox

  Avoid top-posting and favor interleaved quoting:
  https://en.wikipedia.org/wiki/Posting_style#Interleaved_style

* Reply using the --to, --cc, and --in-reply-to
  switches of git-send-email(1):

  git send-email \
    --in-reply-to=68768c42.050a0220.49fe5.68b3SMTPIN_ADDED_MISSING@mx.google.com \
    --to=dpdklab@iol.unh.edu \
    --cc=dpdk-test-reports@iol.unh.edu \
    --cc=test-report@dpdk.org \
    /path/to/YOUR_REPLY

  https://kernel.org/pub/software/scm/git/docs/git-send-email.html

* If your mail client supports setting the In-Reply-To header
  via mailto: links, try the mailto: link
Be sure your reply has a Subject: header at the top and a blank line before the message body.
This is a public inbox, see mirroring instructions
for how to clone and mirror all data and code used for this inbox;
as well as URLs for NNTP newsgroup(s).