From mboxrd@z Thu Jan 1 00:00:00 1970 Return-Path: Received: from mails.dpdk.org (mails.dpdk.org [217.70.189.124]) by inbox.dpdk.org (Postfix) with ESMTP id 142D946B81 for ; Tue, 15 Jul 2025 19:13:41 +0200 (CEST) Received: from mails.dpdk.org (localhost [127.0.0.1]) by mails.dpdk.org (Postfix) with ESMTP id 0E22F4028C; Tue, 15 Jul 2025 19:13:41 +0200 (CEST) Received: from mail-il1-f228.google.com (mail-il1-f228.google.com [209.85.166.228]) by mails.dpdk.org (Postfix) with ESMTP id 4A6544028C for ; Tue, 15 Jul 2025 19:13:39 +0200 (CEST) Received: by mail-il1-f228.google.com with SMTP id e9e14a558f8ab-3df2d111fefso49044155ab.1 for ; Tue, 15 Jul 2025 10:13:39 -0700 (PDT) DKIM-Signature: v=1; a=rsa-sha256; c=relaxed/relaxed; d=iol.unh.edu; s=unh-iol; t=1752599618; x=1753204418; darn=dpdk.org; h=references:in-reply-to:cc:to:from:subject:message-id:date:from:to :cc:subject:date:message-id:reply-to; bh=64j45fiwF7ao353AD5QqqjQINQaoPZoig61M8I6W9i8=; b=chDgLwlTWHyYV4fkYO/wj//HVXplTo+z+A4ia16vQiTFESWrLNCT271xFJ8x3PgmWL XK+h4nEtR2tNqCDau7F06RueFL3iJ2lfv+JRL4alvakComnhp2t5sS71d2nNgCils1V2 X+MG9Kz+Jgl5pa5GijQ4NdiSYCEHC0LaixQJY= X-Google-DKIM-Signature: v=1; a=rsa-sha256; c=relaxed/relaxed; d=1e100.net; s=20230601; t=1752599618; x=1753204418; h=references:in-reply-to:cc:to:from:subject:message-id:date :x-gm-message-state:from:to:cc:subject:date:message-id:reply-to; bh=64j45fiwF7ao353AD5QqqjQINQaoPZoig61M8I6W9i8=; b=prHoZNpikDMuITUuK25iD9U0oGoe/A7az7jjFGc3nbRTA3FQY1lXL0ku8L0hl0nqqY k3HshUrKoIPyFQgpXLrpSSc23/NsfzcCPspQ1kRvWhXB6wcnU5Rjqco0n9YJTC0ms+5B potGCrekk3Ttvw6F+kHHupLGKEy8srPSOR0iagFBjbTyri+ryvhLrF7Lowl4YyBhVInT 5rieWAqdOrJUHAIN6CfyiJLVUjY7aEAn8JaA5bvPhgFBkFxXyj/o20/mwNfRoBaTew2H HcEvr+owQk5I4o4oU/LJkozcRP8PeeAfZ4iu7ECLWmE1vMqIOzM1/3o5eISmBUUfd79H HB/Q== X-Gm-Message-State: AOJu0YxooWWaavQwL9tdlmidAOjlRYgWpr/S/k785eTZPMppic613zJu dBjMmyqRn3CXCaEzBeNHJRmW2Wsm8KWcni8m2ydjgK3+dtB5rQVm2IwrhyD8XFLCVQpjMJm37jX /h7fP9vykfT62d3lYGdK9pSwXTOzWZa1GuS5a9c0T921j X-Gm-Gg: ASbGncu488UM0jc/TFV3JVoGZJowPCXtLCE86WK0JHpBcBN2A+maYdidRtOZwQ0ZvsY W2hNnVgd9fQUPUKnV55avjLjyqVmWP4o+fEbqwKMetp8pf+HfZoDSDEHgIwLYOpP4M5OlNV2Hug fRXVaXWucU65OoWv7kOC1EgDNp/PCVBPydcFx951NLgfASyOA6rNYDuRjNfaBA8cmqHN4q9Grx2 JxCupzLb1sy0J5hdXy4cwcvJ1Hyc8818qXaV6yOl0475mED1YTtxbtJh3UN8mqBSSIVr1Mc21FW vhyohjp2SlxxheoKxzt00PR3y4HJAQjVMg/gKVg9udFCAvWERZ41Vp465DRMPWb3Nnqx/bPK X-Google-Smtp-Source: AGHT+IG+BfJ7+Z5I6QaYHF/JhZIKdXBTgvSWMQo4QoZM+rNGhHcEakvSQTFANR6/mYvZn+R2k8RHaX+Z5tJF X-Received: by 2002:a92:c242:0:b0:3df:4b77:28d6 with SMTP id e9e14a558f8ab-3e25334e8camr211087825ab.21.1752599618535; Tue, 15 Jul 2025 10:13:38 -0700 (PDT) Received: from postal.iol.unh.edu (postal.iol.unh.edu. [132.177.123.84]) by smtp-relay.gmail.com with ESMTPS id e9e14a558f8ab-3e2461fa625sm7297655ab.41.2025.07.15.10.13.38 (version=TLS1_2 cipher=ECDHE-ECDSA-AES128-GCM-SHA256 bits=128/128); Tue, 15 Jul 2025 10:13:38 -0700 (PDT) X-Relaying-Domain: iol.unh.edu Date: Tue, 15 Jul 2025 10:13:38 -0700 (PDT) Message-ID: <68768c42.050a0220.49fe5.68b3SMTPIN_ADDED_MISSING@mx.google.com> Received: from [172.21.0.7] (unknown [172.18.0.240]) by postal.iol.unh.edu (Postfix) with ESMTP id 0363E6050A61; Tue, 15 Jul 2025 13:13:38 -0400 (EDT) Subject: |SUCCESS| pw155225 [PATCH] app/testpmd: add flag to enable RSS for s From: dpdklab@iol.unh.edu To: Test Report Cc: dpdk-test-reports@iol.unh.edu In-Reply-To: <20250715125330.2127309-1-bruce.richardson@intel.com> References: <20250715125330.2127309-1-bruce.richardson@intel.com> Content-Type: text/plain X-BeenThere: test-report@dpdk.org X-Mailman-Version: 2.1.29 Precedence: list List-Id: automatic DPDK test reports List-Unsubscribe: , List-Archive: List-Post: List-Help: List-Subscribe: , Errors-To: test-report-bounces@dpdk.org Test-Label: iol-compile-arm64-testing Test-Status: SUCCESS http://dpdk.org/patch/155225 _Testing PASS_ Submitter: Bruce Richardson Date: Tuesday, July 15 2025 12:53:30 DPDK git baseline: Repo:dpdk Branch: master CommitID:9fe9c0b231c8da5435bfccb1963121b4277f961c 155225 --> testing pass Upstream job id: Generic-DPDK-Compile-Meson#408866 Test environment and result as below: +------------------------------+--------------------+ | Environment | dpdk_meson_compile | +==============================+====================+ | Red Hat Enterprise Linux 9.5 | PASS | +------------------------------+--------------------+ | Ubuntu 20.04 | PASS | +------------------------------+--------------------+ | Fedora Linux 40 | PASS | +------------------------------+--------------------+ | Debian GNU/Linux 12 | PASS | +------------------------------+--------------------+ | Fedora Linux 41 | PASS | +------------------------------+--------------------+ | CentOS Stream 9 | PASS | +------------------------------+--------------------+ | Ubuntu 24.04 | PASS | +------------------------------+--------------------+ | Ubuntu 22.04 | PASS | +------------------------------+--------------------+ | CentOS Stream 10 | PASS | +------------------------------+--------------------+ Red Hat Enterprise Linux 9.5 Kernel: 5.4 Compiler: gcc gcc (GCC) 11.5.0 20240719 (Red Hat 11.5.0-2) Ubuntu 20.04 Kernel: 5.15 Compiler: aarch64-linux-gnu-gcc gcc (Ubuntu 9.4.0-1ubuntu1~20.04.2) 9.4.0 Fedora Linux 40 Kernel: 5.4 Compiler: clang gcc (GCC) 14.2.1 20240912 (Red Hat 14.2.1-3) Debian GNU/Linux 12 Kernel: 5.4 Compiler: gcc gcc (Debian 12.2.0-14+deb12u1) 12.2.0 Fedora Linux 41 Kernel: 5.4 Compiler: gcc gcc (GCC) 14.3.1 20250523 (Red Hat 14.3.1-1) CentOS Stream 9 Kernel: 5.4 Compiler: gcc gcc (GCC) 11.5.0 20240719 (Red Hat 11.5.0-7) Ubuntu 24.04 Kernel: 5.4 Compiler: gcc gcc (Ubuntu 13.3.0-6ubuntu2~24.04) 13.3.0 Ubuntu 22.04 Kernel: 5.4 Compiler: gcc gcc (Ubuntu 11.4.0-1ubuntu1~22.04) 11.4.0 CentOS Stream 10 Kernel: 5.4 Compiler: gcc gcc (GCC) 14.2.1 20250110 (Red Hat 14.2.1-8) To view detailed results, visit: https://lab.dpdk.org/results/dashboard/patchsets/33657/ UNH-IOL DPDK Community Lab To manage your email subscriptions, visit: https://lab.dpdk.org/results/dashboard/preferences/subscriptions/