From mboxrd@z Thu Jan 1 00:00:00 1970 Return-Path: Received: from mails.dpdk.org (mails.dpdk.org [217.70.189.124]) by inbox.dpdk.org (Postfix) with ESMTP id 0961A46B81 for ; Tue, 15 Jul 2025 20:09:25 +0200 (CEST) Received: from mails.dpdk.org (localhost [127.0.0.1]) by mails.dpdk.org (Postfix) with ESMTP id 00DA84028C; Tue, 15 Jul 2025 20:09:25 +0200 (CEST) Received: from mail-il1-f226.google.com (mail-il1-f226.google.com [209.85.166.226]) by mails.dpdk.org (Postfix) with ESMTP id 0B9214028C for ; Tue, 15 Jul 2025 20:09:24 +0200 (CEST) Received: by mail-il1-f226.google.com with SMTP id e9e14a558f8ab-3e057f2c8d8so45617735ab.1 for ; Tue, 15 Jul 2025 11:09:23 -0700 (PDT) DKIM-Signature: v=1; a=rsa-sha256; c=relaxed/relaxed; d=iol.unh.edu; s=unh-iol; t=1752602963; x=1753207763; darn=dpdk.org; h=references:in-reply-to:cc:to:from:subject:message-id:date:from:to :cc:subject:date:message-id:reply-to; bh=1l2ALRYfPsGrwGjFDHWOEu9CgZhIRnSHtuhSRvzrrYk=; b=B2AaVU/zITk9z9rIuacqvfVo0AqKUUFhTkVy3TBcjZz/bqAD/1jLO6e3IyuvdcCJVn ws9lqpbZsJ6pP5L5T03BHfkgjGtPT6N6Y8ouAHEu3rVBRxLxQgU2mODUO79CiVvw93wQ yqcb/x3rHPUiZ8sa3jD51D68rIwenXxLJ+K6c= X-Google-DKIM-Signature: v=1; a=rsa-sha256; c=relaxed/relaxed; d=1e100.net; s=20230601; t=1752602963; x=1753207763; h=references:in-reply-to:cc:to:from:subject:message-id:date :x-gm-message-state:from:to:cc:subject:date:message-id:reply-to; bh=1l2ALRYfPsGrwGjFDHWOEu9CgZhIRnSHtuhSRvzrrYk=; b=o1HshWYJbKFRCG11aUQurEB1vi422MD/O8NBCI3deIzois7aN0wdVKDxpB4kLejSvB BwLRWx6o9XFwW27wMAnleh99LuBrwSxbzrxzFFuZg6t1nFxzBnbvtXKOMcMyDEa5gq2R 0m5CkBsItfD8nwmI3VRktLt6EdwR5atYV4383qZtQgvASACZJBFAb72QCtiYaq2wlPUA lTneM/AJvTEapG+Ff6OvQge38A/EuYUn4N+Wezg5C+6/tZlGsP867LTVzIJxP+83n17K hOffYsSAGZ9VT9xEd6zLzsZAg0dLqalG74bRP7OyPkM8+OMCzgvkdXkcaO2rRmew42WW UhdQ== X-Gm-Message-State: AOJu0YwN/Q/y/qnNcajUnbATdgSLYCwDowNYeedPaa2Tv1K8IBcurRXU gu0ILDLQKP8Sic3mzZPM8HV+at8JiFPRExjUuUE0MPPnswgOn+naOijF8AaTSCrAdbiZ1FjUbpA vy5ceqjIJLppCKcsYpyWDOJ1UJlnVoVAR6AVvF7ACE674 X-Gm-Gg: ASbGnctX4PT3AUBcaZXn05RSbBdDoTTzqKmgJ42b9YZ+OPAZfAyZ42ZE7W03PUIbKJ/ sTT7cgGbeld1Ky5b2fRjview76cqEKdBFrYM8Pwjd5Pk7AhTsgTXxtCO/kGLbwxxKcJlwdiDW9f I9ZOqQn3bpJJMovfScLTxmLWYnTuRxvAh0Ven0axTDPyXTJPOqndcUVi98whJZXUuO59MMBtVZS ay13v8IHSXgDYj8YI3RnJ6NUUCWaINoT5cm7ZUoH0VJo3qGbsNb+3nEOw7Y7f1he3FmbUgnxych aG6uMlyDXU3AJBOeGwea0u2PZUZBNRwiR6ADWScJM16NX+9R1abq/MDI26Zux81hReue1HHt X-Google-Smtp-Source: AGHT+IHm4ajQQXgSXOITeBAkyoIETblhmtvnTVeXmBHPpR68MDeaEejbqkeKPkq8P5sU1Zi9f9iZns3U8N3q X-Received: by 2002:a92:cd8c:0:b0:3dc:87c7:a5b5 with SMTP id e9e14a558f8ab-3e2822fa811mr1082545ab.3.1752602963334; Tue, 15 Jul 2025 11:09:23 -0700 (PDT) Received: from postal.iol.unh.edu (postal.iol.unh.edu. [132.177.123.84]) by smtp-relay.gmail.com with ESMTPS id 8926c6da1cb9f-5055652f949sm569898173.10.2025.07.15.11.09.23 (version=TLS1_2 cipher=ECDHE-ECDSA-AES128-GCM-SHA256 bits=128/128); Tue, 15 Jul 2025 11:09:23 -0700 (PDT) X-Relaying-Domain: iol.unh.edu Date: Tue, 15 Jul 2025 11:09:23 -0700 (PDT) Message-ID: <68769953.050a0220.14bb13.dfb3SMTPIN_ADDED_MISSING@mx.google.com> Received: from [172.21.0.7] (unknown [172.18.0.240]) by postal.iol.unh.edu (Postfix) with ESMTP id F0ABA6050A61; Tue, 15 Jul 2025 14:09:22 -0400 (EDT) Subject: |SUCCESS| pw155227 [PATCH] latencystats: make errors visible From: dpdklab@iol.unh.edu To: Test Report Cc: dpdk-test-reports@iol.unh.edu In-Reply-To: <20250715150722.39575-1-stephen@networkplumber.org> References: <20250715150722.39575-1-stephen@networkplumber.org> Content-Type: text/plain X-BeenThere: test-report@dpdk.org X-Mailman-Version: 2.1.29 Precedence: list List-Id: automatic DPDK test reports List-Unsubscribe: , List-Archive: List-Post: List-Help: List-Subscribe: , Errors-To: test-report-bounces@dpdk.org Test-Label: iol-compile-amd64-testing Test-Status: SUCCESS http://dpdk.org/patch/155227 _Testing PASS_ Submitter: Stephen Hemminger Date: Tuesday, July 15 2025 15:06:46 DPDK git baseline: Repo:dpdk Branch: master CommitID:9fe9c0b231c8da5435bfccb1963121b4277f961c 155227 --> testing pass Upstream job id: Generic-DPDK-Compile-Meson#408887 Test environment and result as below: +-------------------------------+--------------------+-------------------+------------------+-------------------------+-------------------+----------------------+ | Environment | dpdk_meson_compile | dpdk_compile_spdk | dpdk_compile_ovs | dpdk_llvm_clang_compile | dpdk_msvc_compile | dpdk_mingw64_compile | +===============================+====================+===================+==================+=========================+===================+======================+ | CentOS Stream 9 | PASS | PASS | SKIPPED | SKIPPED | SKIPPED | SKIPPED | +-------------------------------+--------------------+-------------------+------------------+-------------------------+-------------------+----------------------+ | CentOS Stream 10 | PASS | SKIPPED | SKIPPED | SKIPPED | SKIPPED | SKIPPED | +-------------------------------+--------------------+-------------------+------------------+-------------------------+-------------------+----------------------+ | Debian GNU/Linux 12 | PASS | PASS | SKIPPED | SKIPPED | SKIPPED | SKIPPED | +-------------------------------+--------------------+-------------------+------------------+-------------------------+-------------------+----------------------+ | Fedora Linux 40 | PASS | PASS | SKIPPED | SKIPPED | SKIPPED | SKIPPED | +-------------------------------+--------------------+-------------------+------------------+-------------------------+-------------------+----------------------+ | openSUSE Leap 15.6 | PASS | SKIPPED | SKIPPED | SKIPPED | SKIPPED | SKIPPED | +-------------------------------+--------------------+-------------------+------------------+-------------------------+-------------------+----------------------+ | Fedora Linux 41 | PASS | PASS | PASS | SKIPPED | SKIPPED | SKIPPED | +-------------------------------+--------------------+-------------------+------------------+-------------------------+-------------------+----------------------+ | Red Hat Enterprise Linux 8.10 | PASS | SKIPPED | SKIPPED | SKIPPED | SKIPPED | SKIPPED | +-------------------------------+--------------------+-------------------+------------------+-------------------------+-------------------+----------------------+ | Red Hat Enterprise Linux 9.5 | PASS | SKIPPED | SKIPPED | SKIPPED | SKIPPED | SKIPPED | +-------------------------------+--------------------+-------------------+------------------+-------------------------+-------------------+----------------------+ | Ubuntu 20.04 | PASS | SKIPPED | SKIPPED | SKIPPED | SKIPPED | SKIPPED | +-------------------------------+--------------------+-------------------+------------------+-------------------------+-------------------+----------------------+ | Ubuntu 24.04 | PASS | PASS | PASS | SKIPPED | SKIPPED | SKIPPED | +-------------------------------+--------------------+-------------------+------------------+-------------------------+-------------------+----------------------+ | Alpine Linux 3.22.0 | PASS | SKIPPED | SKIPPED | SKIPPED | SKIPPED | SKIPPED | +-------------------------------+--------------------+-------------------+------------------+-------------------------+-------------------+----------------------+ | FreeBSD 14.2 | PASS | SKIPPED | SKIPPED | SKIPPED | SKIPPED | SKIPPED | +-------------------------------+--------------------+-------------------+------------------+-------------------------+-------------------+----------------------+ | Ubuntu 22.04 | PASS | PASS | SKIPPED | SKIPPED | SKIPPED | SKIPPED | +-------------------------------+--------------------+-------------------+------------------+-------------------------+-------------------+----------------------+ | Windows Server 2022 | SKIPPED | SKIPPED | SKIPPED | PASS | PASS | PASS | +-------------------------------+--------------------+-------------------+------------------+-------------------------+-------------------+----------------------+ CentOS Stream 9 Kernel: 5.15 Compiler: gcc gcc (GCC) 11.5.0 20240719 (Red Hat 11.5.0-7) CentOS Stream 10 Kernel: 5.15 Compiler: gcc gcc (GCC) 14.2.1 20250110 (Red Hat 14.2.1-8) Debian GNU/Linux 12 Kernel: 5.15 Compiler: gcc gcc (Debian 12.2.0-14+deb12u1) 12.2.0 Fedora Linux 40 Kernel: 5.15 Compiler: gcc gcc (GCC) 14.2.1 20240912 (Red Hat 14.2.1-3) openSUSE Leap 15.6 Kernel: 5.15 Compiler: gcc gcc (SUSE Linux) 7.5.0 Fedora Linux 41 Kernel: 5.15 Compiler: gcc gcc (GCC) 14.3.1 20250523 (Red Hat 14.3.1-1) Red Hat Enterprise Linux 8.10 Kernel: 5.15 Compiler: gcc gcc (GCC) 8.5.0 20210514 (Red Hat 8.5.0-22) Red Hat Enterprise Linux 9.5 Kernel: 5.15 Compiler: gcc gcc (GCC) 11.5.0 20240719 (Red Hat 11.5.0-2) Ubuntu 20.04 Kernel: 5.15 Compiler: gcc gcc (Ubuntu 9.4.0-1ubuntu1~20.04.2) 9.4.0 Ubuntu 24.04 Kernel: 5.15 Compiler: gcc gcc (Ubuntu 13.3.0-6ubuntu2~24.04) 13.3.0 Alpine Linux 3.22.0 Kernel: 5.15 Compiler: gcc gcc (Alpine 14.2.0) 14.2.0 FreeBSD 14.2 Kernel: 14.2-RELEASE Compiler: clang 18.1.6 Ubuntu 22.04 Kernel: 5.15 Compiler: gcc gcc (Ubuntu 11.4.0-1ubuntu1~22.04) 11.4.0 Windows Server 2022 Kernel: 10.0.20348.2031 Compiler: clang 15.0.7, gcc 14.1.0 (MinGW), and MSVC VS 19.39.33521 To view detailed results, visit: https://lab.dpdk.org/results/dashboard/patchsets/33659/ UNH-IOL DPDK Community Lab To manage your email subscriptions, visit: https://lab.dpdk.org/results/dashboard/preferences/subscriptions/