From mboxrd@z Thu Jan 1 00:00:00 1970 Return-Path: Received: from mails.dpdk.org (mails.dpdk.org [217.70.189.124]) by inbox.dpdk.org (Postfix) with ESMTP id CED3B46B82 for ; Tue, 15 Jul 2025 22:47:33 +0200 (CEST) Received: from mails.dpdk.org (localhost [127.0.0.1]) by mails.dpdk.org (Postfix) with ESMTP id AB9CF4013F; Tue, 15 Jul 2025 22:47:33 +0200 (CEST) Received: from mail-pj1-f97.google.com (mail-pj1-f97.google.com [209.85.216.97]) by mails.dpdk.org (Postfix) with ESMTP id 8969C4013F for ; Tue, 15 Jul 2025 22:47:32 +0200 (CEST) Received: by mail-pj1-f97.google.com with SMTP id 98e67ed59e1d1-313bb9b2f5bso5661730a91.3 for ; Tue, 15 Jul 2025 13:47:32 -0700 (PDT) DKIM-Signature: v=1; a=rsa-sha256; c=relaxed/relaxed; d=iol.unh.edu; s=unh-iol; t=1752612451; x=1753217251; darn=dpdk.org; h=references:in-reply-to:cc:to:from:subject:message-id:date:from:to :cc:subject:date:message-id:reply-to; bh=MtPThnVR/RinUpTNdew2TL+KTckNz1YZfg2fRndqxNQ=; b=Ze5N3QoP+MVgE0ET4hZSattM/mCS/AgA/E/zd5clISuUVskbulDRJqKyfdmgZD5Zss 3liriyA8HcF6/RccrKciY6IoHqI2jG2XUghToqDLWy8YHunxzOTdqhhiSwb+AFv6SRHk Vip1cxYvmcfibmNySMc/9YD0tGufp2HKisLbU= X-Google-DKIM-Signature: v=1; a=rsa-sha256; c=relaxed/relaxed; d=1e100.net; s=20230601; t=1752612451; x=1753217251; h=references:in-reply-to:cc:to:from:subject:message-id:date :x-gm-message-state:from:to:cc:subject:date:message-id:reply-to; bh=MtPThnVR/RinUpTNdew2TL+KTckNz1YZfg2fRndqxNQ=; b=fQknVAko7P95a4crW/TgbjrFJRpQ9WHfQnFp7TKFtIrrJ4+HoNO3RzYI6Dn4G9Y+Oh yZkD99dUXywMbgbsDbCoOJ/F8Nzi1H2lkNyikXAnyW/Gah7TNvc+GRtPxFVKq7yJ90Sm rFzoQWxK+yXn7/D18/Vlo3Zjb3zzaHAMn2ddVUScgZ612XsgS0EjQK/svELuNiLARNz8 UWlIG/P7fAWkS4lWGTXhVDWcprBICdtFY33bF60fcXd04YdAMWChQALSy4Wqm9rECgmt GuDDYPjRALI4MhW9zRSGzARDNqjFsou3KuFdICzbf9Q5pzW5fmn4ddqBdxNRb1xfrHQu iNew== X-Gm-Message-State: AOJu0Ywb1ZMNsIxcs3s4DQJCHid4KTj02+RQsOdzSXpeZsUMENaS4tj0 NvKutSC3SzjBxmRmXkiDaycnjtc00uWE/hdGfY7xtD++N5L4PpyBlJFsD84sjghJPKw8plBwvEx Ohh8zmog4fiAKJ9UJctf2QHT/tHgxdpuySBIAgRJ5K5qy+3kbX7rbEaXNDbnC X-Gm-Gg: ASbGnct4+FBeGUDcZhO6+y4UtB/9MWeYzkuxTxqniAzYOwTKyNbgLsX7J5RvFM+CQEH oHzQQA8rhHiQnmuW9QfrGK/PFUWEjkdJbOvELRYSlZKe+PCnTDHF3R4+aj5f08rsdsxq0n8OXGr IgwcwaoFIEc1LoWNrbQMlQM9Env6xjQUZpswKmn3OWjVsRCstLGkpiTgKEtWXZmd7bnjwrBd2PI 2xpo1JtFmA24hNJtTv/xnSa19cBXeCGduvQzC2cCSa2U1stoVAaFq1wepbB5iPfClfThluDJIr3 k738RmufeOKESAIgIiUo18TTKTWBHTGHpIbymolnntkNIwIlOw== X-Google-Smtp-Source: AGHT+IGDYQ6jrUiOG8TIx1AtuZ2osOLbVh/K6k3H+a6w1vPOjk6oEk322qNvAbrWAZVyY1a2Isxu8JhLtywa X-Received: by 2002:a17:90b:3b41:b0:315:7ddc:4c2a with SMTP id 98e67ed59e1d1-31c9e6ffc75mr860722a91.12.1752612451587; Tue, 15 Jul 2025 13:47:31 -0700 (PDT) Received: from postal.iol.unh.edu (postal.iol.unh.edu. [2606:4100:3880:1234::84]) by smtp-relay.gmail.com with ESMTPS id 98e67ed59e1d1-31c9f1e6808sm4920a91.4.2025.07.15.13.47.31 (version=TLS1_2 cipher=ECDHE-ECDSA-AES128-GCM-SHA256 bits=128/128); Tue, 15 Jul 2025 13:47:31 -0700 (PDT) X-Relaying-Domain: iol.unh.edu Date: Tue, 15 Jul 2025 13:47:31 -0700 (PDT) Message-ID: <6876be63.170a0220.a9ddd.0413SMTPIN_ADDED_MISSING@mx.google.com> Received: from [172.21.0.5] (unknown [172.18.0.240]) by postal.iol.unh.edu (Postfix) with ESMTP id D0868604D420; Tue, 15 Jul 2025 16:47:30 -0400 (EDT) Subject: |SUCCESS| pw155228-155240 [PATCH] [v4,13/13] pdump: mark API and app From: dpdklab@iol.unh.edu To: Test Report Cc: dpdk-test-reports@iol.unh.edu In-Reply-To: <20250715161700.103209-14-stephen@networkplumber.org> References: <20250715161700.103209-14-stephen@networkplumber.org> Content-Type: text/plain X-BeenThere: test-report@dpdk.org X-Mailman-Version: 2.1.29 Precedence: list List-Id: automatic DPDK test reports List-Unsubscribe: , List-Archive: List-Post: List-Help: List-Subscribe: , Errors-To: test-report-bounces@dpdk.org Test-Label: iol-compile-arm64-testing Test-Status: SUCCESS http://dpdk.org/patch/155240 _Testing PASS_ Submitter: Stephen Hemminger Date: Tuesday, July 15 2025 16:15:51 DPDK git baseline: Repo:dpdk Branch: master CommitID:9fe9c0b231c8da5435bfccb1963121b4277f961c 155228-155240 --> testing pass Upstream job id: Generic-DPDK-Compile-Meson#408916 Test environment and result as below: +------------------------------+--------------------+ | Environment | dpdk_meson_compile | +==============================+====================+ | Ubuntu 20.04 | PASS | +------------------------------+--------------------+ | Red Hat Enterprise Linux 9.5 | PASS | +------------------------------+--------------------+ | Debian GNU/Linux 12 | PASS | +------------------------------+--------------------+ | Fedora Linux 41 | PASS | +------------------------------+--------------------+ | Fedora Linux 40 | PASS | +------------------------------+--------------------+ | Ubuntu 24.04 | PASS | +------------------------------+--------------------+ | Ubuntu 22.04 | PASS | +------------------------------+--------------------+ | CentOS Stream 9 | PASS | +------------------------------+--------------------+ | CentOS Stream 10 | PASS | +------------------------------+--------------------+ Ubuntu 20.04 Kernel: 5.4 Compiler: gcc gcc (Ubuntu 9.4.0-1ubuntu1~20.04.2) 9.4.0 Red Hat Enterprise Linux 9.5 Kernel: 5.4 Compiler: gcc gcc (GCC) 11.5.0 20240719 (Red Hat 11.5.0-2) Debian GNU/Linux 12 Kernel: 5.4 Compiler: gcc gcc (Debian 12.2.0-14+deb12u1) 12.2.0 Fedora Linux 41 Kernel: 5.4 Compiler: gcc gcc (GCC) 14.3.1 20250523 (Red Hat 14.3.1-1) Fedora Linux 40 Kernel: 5.4 Compiler: gcc gcc (GCC) 14.2.1 20240912 (Red Hat 14.2.1-3) Ubuntu 24.04 Kernel: 5.4 Compiler: gcc gcc (Ubuntu 13.3.0-6ubuntu2~24.04) 13.3.0 Ubuntu 22.04 Kernel: 5.4 Compiler: gcc gcc (Ubuntu 11.4.0-1ubuntu1~22.04) 11.4.0 CentOS Stream 9 Kernel: 5.4 Compiler: gcc gcc (GCC) 11.5.0 20240719 (Red Hat 11.5.0-7) CentOS Stream 10 Kernel: 5.4 Compiler: gcc gcc (GCC) 14.2.1 20250110 (Red Hat 14.2.1-8) To view detailed results, visit: https://lab.dpdk.org/results/dashboard/patchsets/33660/ UNH-IOL DPDK Community Lab To manage your email subscriptions, visit: https://lab.dpdk.org/results/dashboard/preferences/subscriptions/