From mboxrd@z Thu Jan 1 00:00:00 1970 Return-Path: Received: from mails.dpdk.org (mails.dpdk.org [217.70.189.124]) by inbox.dpdk.org (Postfix) with ESMTP id 928E346B84 for ; Wed, 16 Jul 2025 03:14:28 +0200 (CEST) Received: from mails.dpdk.org (localhost [127.0.0.1]) by mails.dpdk.org (Postfix) with ESMTP id 718F44013F; Wed, 16 Jul 2025 03:14:28 +0200 (CEST) Received: from mail-yb1-f227.google.com (mail-yb1-f227.google.com [209.85.219.227]) by mails.dpdk.org (Postfix) with ESMTP id C0A094013F for ; Wed, 16 Jul 2025 03:14:26 +0200 (CEST) Received: by mail-yb1-f227.google.com with SMTP id 3f1490d57ef6-e8bc13221eeso482643276.3 for ; Tue, 15 Jul 2025 18:14:26 -0700 (PDT) DKIM-Signature: v=1; a=rsa-sha256; c=relaxed/relaxed; d=iol.unh.edu; s=unh-iol; t=1752628466; x=1753233266; darn=dpdk.org; h=cc:to:from:subject:message-id:date:from:to:cc:subject:date :message-id:reply-to; bh=0nxY1+Bs8c5VQuhGWtAECqD6xNex+gXJ/Szs5z6YN3E=; b=ifXaFO1NAALuM9InUjrijaenyUUPqsN8tYItQgb6+83Kt5Hm7H1CJkP4+fIOljdHTE 2O7Gl4PvjGmqKaZekORvsJduGAWND4Nn846mvSEwhriYIAk9Xd4E+Mmfta2XgWVbdHAB p0sVM7uANju2gYHjUhzRmm6CtckUTvh1jz994= X-Google-DKIM-Signature: v=1; a=rsa-sha256; c=relaxed/relaxed; d=1e100.net; s=20230601; t=1752628466; x=1753233266; h=cc:to:from:subject:message-id:date:x-gm-message-state:from:to:cc :subject:date:message-id:reply-to; bh=0nxY1+Bs8c5VQuhGWtAECqD6xNex+gXJ/Szs5z6YN3E=; b=cLL9qJ6MRGsR7qlwK1ys+DzjOM8ZWOx19os6wUr7uZ+qfDSM3z4Dxfj97Sr+1e+/JC vrj1lbClBwkunDgcP8QJxpYo2SDB9jO1pQA5a2eDu8oKS7MhBreNPfMP58wEnZYGZUJW p1S24uRE6occDnbbYc5rfQUIJhfEgh0g/pyqzzwxeq5z0HDEBbmJju+GOGzYh5WZ/pgI Jq9i/XDGDd/kWcYMtRKQofT1cu1UNpDJ04xKuCfSHT9G3VnoihxUMOsqcJc153HNdjRF 1NOrIlAaHWzc0VxaPIoCNXtpU7MoabuF6SShdyEDJ7Hn6syAjAmgMKHyWLQOy6XvB4OV 2qig== X-Gm-Message-State: AOJu0Yz16vhXCJPNlXYoQKWxIWUqaOVQMpfppq34y/GUFfm2QFjW79S4 ZzmhaICjqy4PpsVjR/pPPFcxX/S1kne3Bzq2dGJIOa8pzZkWMzvjt90Sy8oi5EvjhI8iDGj0Ba5 KsQz+2yeU91sICL3X6sYk4tDIzqOI5tDALiZ5qZtRKsQv X-Gm-Gg: ASbGncv/G/DPeuVCGNVxB1qIUhx4G4TvebnE5UCubt4NsojOGcdan4NX/LmvizEdF3n vHBdHAbHrIwdJvVTnuBTAeK0b6qhGPCMStvR+L3eg2KxpkomWYLXeunETyuKidOq5nQFLwWMNsV Zkc02DvVDNOUpQkjR6Zi3wCCoC8Ki0vGfVGcygmi0I7WpznRP7FM5Uui75qzVNKju1AN9TK+FCo RdCEHwPSMBA7oUrw8VUqROm/R9JPPQ3JCC12iGbeELDgI2rKxYGIh4crnn1Bn6Hxyl1bOYYQyyy rqDP2FxBetn+VA7rcVpgjfIhPg0RiHA68BTD+FmT3u7KP9Vcd7Jqg0UB4omlYDjdzWHNYhOK X-Google-Smtp-Source: AGHT+IHVoQ6sZ1H5YeIKlO427XIblKV1uXhFH0l3Xpxt74DLlsmf1CgV3zpmQ83fqPzLy95RK6suk7t1XCZd X-Received: by 2002:a05:690c:6d0a:b0:70e:7503:1181 with SMTP id 00721157ae682-7183513ba02mr20533457b3.18.1752628465935; Tue, 15 Jul 2025 18:14:25 -0700 (PDT) Received: from postal.iol.unh.edu (postal.iol.unh.edu. [132.177.123.84]) by smtp-relay.gmail.com with ESMTPS id 00721157ae682-717c5d86839sm4349367b3.6.2025.07.15.18.14.25 (version=TLS1_2 cipher=ECDHE-ECDSA-AES128-GCM-SHA256 bits=128/128); Tue, 15 Jul 2025 18:14:25 -0700 (PDT) X-Relaying-Domain: iol.unh.edu Date: Tue, 15 Jul 2025 18:14:25 -0700 (PDT) Message-ID: <6876fcf1.050a0220.1c4996.7912SMTPIN_ADDED_MISSING@mx.google.com> Received: from [172.21.0.5] (unknown [172.18.0.240]) by postal.iol.unh.edu (Postfix) with ESMTP id 989716050A61; Tue, 15 Jul 2025 21:14:25 -0400 (EDT) Subject: |SUCCESS| [GIT MASTER] 9fe9c0b231c8da5435bfccb1963121b4277f961c From: dpdklab@iol.unh.edu To: Test Report Cc: dpdk-test-reports@iol.unh.edu Content-Type: text/plain X-BeenThere: test-report@dpdk.org X-Mailman-Version: 2.1.29 Precedence: list List-Id: automatic DPDK test reports List-Unsubscribe: , List-Archive: List-Post: List-Help: List-Subscribe: , Errors-To: test-report-bounces@dpdk.org _Testing PASS_ Branch: dpdk 9fe9c0b231c8da5435bfccb1963121b4277f961c --> testing pass Upstream job id: Generic-Unit-Test-DPDK#355580 Test environment and result as below: +-------------------------------+----------------+ | Environment | dpdk_unit_test | +===============================+================+ | CentOS Stream 10 | PASS | +-------------------------------+----------------+ | Ubuntu 22.04 | PASS | +-------------------------------+----------------+ | CentOS Stream 9 | PASS | +-------------------------------+----------------+ | Arch Linux 20250613.0.365270 | PASS | +-------------------------------+----------------+ | Ubuntu 24.04 | PASS | +-------------------------------+----------------+ | Red Hat Enterprise Linux 9.5 | PASS | +-------------------------------+----------------+ | Fedora Linux 40 | PASS | +-------------------------------+----------------+ | Fedora Linux 41 | PASS | +-------------------------------+----------------+ | Debian GNU/Linux 12 | PASS | +-------------------------------+----------------+ | Ubuntu 20.04 | PASS | +-------------------------------+----------------+ | Red Hat Enterprise Linux 8.10 | PASS | +-------------------------------+----------------+ | Windows Server 2022 | PASS | +-------------------------------+----------------+ CentOS Stream 10 Kernel: 5.15 Compiler: gcc gcc (GCC) 14.2.1 20250110 (Red Hat 14.2.1-8) Ubuntu 22.04 Kernel: 5.15 Compiler: gcc gcc (Ubuntu 11.4.0-1ubuntu1~22.04) 11.4.0 CentOS Stream 9 Kernel: 5.15 Compiler: gcc gcc (GCC) 11.5.0 20240719 (Red Hat 11.5.0-7) Arch Linux 20250613.0.365270 Kernel: 5.15 Compiler: gcc gcc (GCC) 15.1.1 20250425 Ubuntu 24.04 Kernel: 5.15 Compiler: gcc gcc (Ubuntu 13.3.0-6ubuntu2~24.04) 13.3.0 Red Hat Enterprise Linux 9.5 Kernel: 5.15 Compiler: gcc gcc (GCC) 11.5.0 20240719 (Red Hat 11.5.0-2) Fedora Linux 40 Kernel: 5.15 Compiler: gcc gcc (GCC) 14.2.1 20240912 (Red Hat 14.2.1-3) Fedora Linux 41 Kernel: 5.15 Compiler: gcc gcc (GCC) 14.3.1 20250523 (Red Hat 14.3.1-1) Debian GNU/Linux 12 Kernel: 5.15 Compiler: gcc gcc (Debian 12.2.0-14+deb12u1) 12.2.0 Ubuntu 20.04 Kernel: 5.15 Compiler: gcc gcc (Ubuntu 9.4.0-1ubuntu1~20.04.2) 9.4.0 Red Hat Enterprise Linux 8.10 Kernel: 5.15 Compiler: gcc gcc (GCC) 8.5.0 20210514 (Red Hat 8.5.0-22) Windows Server 2022 Kernel: 10.0.20348.2031 Compiler: clang 15.0.7, gcc 14.1.0 (MinGW), and MSVC VS 19.39.33521 To view detailed results, visit: https://lab.dpdk.org/results/dashboard/tarballs/34276/ UNH-IOL DPDK Community Lab To manage your email subscriptions, visit: https://lab.dpdk.org/results/dashboard/preferences/subscriptions/