From mboxrd@z Thu Jan 1 00:00:00 1970 Return-Path: Received: from mails.dpdk.org (mails.dpdk.org [217.70.189.124]) by inbox.dpdk.org (Postfix) with ESMTP id 41E7F46B84 for ; Wed, 16 Jul 2025 03:21:56 +0200 (CEST) Received: from mails.dpdk.org (localhost [127.0.0.1]) by mails.dpdk.org (Postfix) with ESMTP id 1CA4A4013F; Wed, 16 Jul 2025 03:21:56 +0200 (CEST) Received: from mail-pg1-f226.google.com (mail-pg1-f226.google.com [209.85.215.226]) by mails.dpdk.org (Postfix) with ESMTP id 793B34013F for ; Wed, 16 Jul 2025 03:21:55 +0200 (CEST) Received: by mail-pg1-f226.google.com with SMTP id 41be03b00d2f7-b26f5f47ba1so4951633a12.1 for ; Tue, 15 Jul 2025 18:21:55 -0700 (PDT) DKIM-Signature: v=1; a=rsa-sha256; c=relaxed/relaxed; d=iol.unh.edu; s=unh-iol; t=1752628914; x=1753233714; darn=dpdk.org; h=cc:to:from:subject:message-id:date:from:to:cc:subject:date :message-id:reply-to; bh=YceAaOw6cUpVq224EP10KX7sLoNO3iGnOJVhygtk2pw=; b=PL1d/Yf0vCoaHuhZPJGe6nc3AscYRiEjqCHr2tKfWW+yZcs9iGU57cdJrzNtPS4FnS 3CJK/i+wJHWJjJmogsmwQZpIe9eREZD5cOH4omj68LLDI9+ZnsktdG+2IxaAnvPx6BNG J4jtiviOa0ui9F/9J5VAi3wtNXjTUIsy67qf4= X-Google-DKIM-Signature: v=1; a=rsa-sha256; c=relaxed/relaxed; d=1e100.net; s=20230601; t=1752628914; x=1753233714; h=cc:to:from:subject:message-id:date:x-gm-message-state:from:to:cc :subject:date:message-id:reply-to; bh=YceAaOw6cUpVq224EP10KX7sLoNO3iGnOJVhygtk2pw=; b=s1u0bTXaGaIM1c8cHSYRHOKii0vvafLN2jEovkZsDef/mqjD5H27D11uSbzQMCIpC6 lDFwsW44H9RUdw5UaLj+5vSvuXpPj0WKtLHkoiTRvJ3brm2St1boygeb7RREmX95P6eg rLnw10uXoQll/IEsd9ZqhymjWxHCsdTImaMNmDutoA2xcYS4bP3mQE+DLH+tVMqTg0Mc FpqNta+3jfOTj2Q7sy2LOeTaq9byxUrWh+qqrv/CoEkfas8KM3GkV1IvGBoeNrrh1xCt cUujIrykV7UY3SLAupX2LQjJeMSus6bumSypL3OWjDFiAcoBnY62DQ17QzvqY5rOZtso V60g== X-Gm-Message-State: AOJu0Yx7MaqWY9BuY759H5zBUxMORKSYdMD48WJFShQuXr0GWx4jUN37 ddAf2lcMdMev81bIFpSuqXC6dQmJU2AlE0kLEiPYDeBV0vZKO1sAwvJidZZx2OxB/cNvQPTKHYm zPwsn4nc9nk7yNXpjJlU8pkBo8Nh2Awvlq8BEDyiPWoCS X-Gm-Gg: ASbGnctoFcVdCy6rFOUowRKInFNH9+0AJyH9F24qLFD7sIGHg1JGhE6BA07n6fbanFc r+OiOcTN/QxZX4fbvFIkKzyKOZuFfQsZ9Jx4pCCvmiETzLxzB9UtvfpEONvL89/2UQydgN5Fzge MhwGlFWlZ2T7Lzsuzwq9Jkb7Wko9HX4eL8zS6lGH+YPm5o1lAw+kBX3Yl8MUtmlDuPn7Q7A+MsP UCC7HwYmOkWGGAbHEpH0H1aPDvkSCGoQ/2ELpiJTZAdaf4il1B64rZlLSpNK44fW9i+8SKdqzNf 8MT47UEoPdhlhtvUC/N3Bzf2dADxSDQoGWmnPWiAQMNvFKysNT8gXQgQHe1GZyDtcWgPZFgs X-Google-Smtp-Source: AGHT+IGprrEWEc5qAZhFCWqLo6+YE9D98WY5MsGCVbRT+XngthK1QNLuDNp8gaI2eU5sQ+s9a/P65M/29qLh X-Received: by 2002:a17:90b:5866:b0:31c:3651:2d18 with SMTP id 98e67ed59e1d1-31c9f42eb38mr1202653a91.16.1752628914520; Tue, 15 Jul 2025 18:21:54 -0700 (PDT) Received: from postal.iol.unh.edu (postal.iol.unh.edu. [132.177.123.84]) by smtp-relay.gmail.com with ESMTPS id d9443c01a7336-23de43389e6sm7376485ad.99.2025.07.15.18.21.54 (version=TLS1_2 cipher=ECDHE-ECDSA-AES128-GCM-SHA256 bits=128/128); Tue, 15 Jul 2025 18:21:54 -0700 (PDT) X-Relaying-Domain: iol.unh.edu Date: Tue, 15 Jul 2025 18:21:54 -0700 (PDT) Message-ID: <6876feb2.170a0220.2121c4.83fbSMTPIN_ADDED_MISSING@mx.google.com> Received: from [172.21.0.5] (unknown [172.18.0.240]) by postal.iol.unh.edu (Postfix) with ESMTP id 948F86050A61; Tue, 15 Jul 2025 21:21:53 -0400 (EDT) Subject: |SUCCESS| [GIT MASTER] 9fe9c0b231c8da5435bfccb1963121b4277f961c From: dpdklab@iol.unh.edu To: Test Report Cc: dpdk-test-reports@iol.unh.edu Content-Type: text/plain X-BeenThere: test-report@dpdk.org X-Mailman-Version: 2.1.29 Precedence: list List-Id: automatic DPDK test reports List-Unsubscribe: , List-Archive: List-Post: List-Help: List-Subscribe: , Errors-To: test-report-bounces@dpdk.org _Testing PASS_ Branch: dpdk 9fe9c0b231c8da5435bfccb1963121b4277f961c --> testing pass Upstream job id: Generic-DPDK-Compile-ABI#134444 Test environment and result as below: +-------------------------------+----------+ | Environment | abi_test | +===============================+==========+ | openSUSE Leap 15.6 | PASS | +-------------------------------+----------+ | CentOS Stream 9 | PASS | +-------------------------------+----------+ | Fedora Linux 40 | PASS | +-------------------------------+----------+ | Debian GNU/Linux 12 | PASS | +-------------------------------+----------+ | CentOS Stream 10 | PASS | +-------------------------------+----------+ | Fedora Linux 41 | PASS | +-------------------------------+----------+ | Red Hat Enterprise Linux 9.5 | PASS | +-------------------------------+----------+ | Ubuntu 22.04 | PASS | +-------------------------------+----------+ | Ubuntu 24.04 | PASS | +-------------------------------+----------+ | Red Hat Enterprise Linux 8.10 | PASS | +-------------------------------+----------+ | Arch Linux 20250613.0.365270 | PASS | +-------------------------------+----------+ openSUSE Leap 15.6 Kernel: 5.15 Compiler: gcc gcc (SUSE Linux) 7.5.0 CentOS Stream 9 Kernel: 5.15 Compiler: gcc gcc (GCC) 11.5.0 20240719 (Red Hat 11.5.0-7) Fedora Linux 40 Kernel: 5.15 Compiler: gcc gcc (GCC) 14.2.1 20240912 (Red Hat 14.2.1-3) Debian GNU/Linux 12 Kernel: 5.15 Compiler: gcc gcc (Debian 12.2.0-14+deb12u1) 12.2.0 CentOS Stream 10 Kernel: 5.15 Compiler: gcc gcc (GCC) 14.2.1 20250110 (Red Hat 14.2.1-8) Fedora Linux 41 Kernel: 5.15 Compiler: gcc gcc (GCC) 14.3.1 20250523 (Red Hat 14.3.1-1) Red Hat Enterprise Linux 9.5 Kernel: 5.15 Compiler: gcc gcc (GCC) 11.5.0 20240719 (Red Hat 11.5.0-2) Ubuntu 22.04 Kernel: 5.15 Compiler: gcc gcc (Ubuntu 11.4.0-1ubuntu1~22.04) 11.4.0 Ubuntu 24.04 Kernel: 5.15 Compiler: gcc gcc (Ubuntu 13.3.0-6ubuntu2~24.04) 13.3.0 Red Hat Enterprise Linux 8.10 Kernel: 5.15 Compiler: gcc gcc (GCC) 8.5.0 20210514 (Red Hat 8.5.0-22) Arch Linux 20250613.0.365270 Kernel: 5.15 Compiler: gcc gcc (GCC) 15.1.1 20250425 To view detailed results, visit: https://lab.dpdk.org/results/dashboard/tarballs/34276/ UNH-IOL DPDK Community Lab To manage your email subscriptions, visit: https://lab.dpdk.org/results/dashboard/preferences/subscriptions/