From mboxrd@z Thu Jan 1 00:00:00 1970 Return-Path: Received: from mails.dpdk.org (mails.dpdk.org [217.70.189.124]) by inbox.dpdk.org (Postfix) with ESMTP id 4DE9346B84 for ; Wed, 16 Jul 2025 03:23:08 +0200 (CEST) Received: from mails.dpdk.org (localhost [127.0.0.1]) by mails.dpdk.org (Postfix) with ESMTP id 464234013F; Wed, 16 Jul 2025 03:23:08 +0200 (CEST) Received: from mail-pl1-f226.google.com (mail-pl1-f226.google.com [209.85.214.226]) by mails.dpdk.org (Postfix) with ESMTP id C9EF44013F for ; Wed, 16 Jul 2025 03:23:07 +0200 (CEST) Received: by mail-pl1-f226.google.com with SMTP id d9443c01a7336-23c8f179e1bso63340185ad.1 for ; Tue, 15 Jul 2025 18:23:07 -0700 (PDT) DKIM-Signature: v=1; a=rsa-sha256; c=relaxed/relaxed; d=iol.unh.edu; s=unh-iol; t=1752628987; x=1753233787; darn=dpdk.org; h=cc:to:from:subject:message-id:date:from:to:cc:subject:date :message-id:reply-to; bh=DJaNVdIK6BQOZAAj52iijb4NY7urM6pewpB8+iJyqvc=; b=ak6E5VRSCgRhEKTAglFvjDAcGxHqIikEIacIXU1KNef1Cq5qrtM/7c5EwzhErMWO7A Xd6NXQ1J1d8AP+fu7NMgsqW+v28THzEC8dtV75n46gs1bc/2sONTcLhtn2ehMvutJt3B woufs9rAAvlKl3IgQ93jvD9CV9dUW0WDAi7lU= X-Google-DKIM-Signature: v=1; a=rsa-sha256; c=relaxed/relaxed; d=1e100.net; s=20230601; t=1752628987; x=1753233787; h=cc:to:from:subject:message-id:date:x-gm-message-state:from:to:cc :subject:date:message-id:reply-to; bh=DJaNVdIK6BQOZAAj52iijb4NY7urM6pewpB8+iJyqvc=; b=EHgI3aW/mZWeDaQ4jMLZBcX0B7kBG6WIUvw4IQOtl5OWuCWtllLXGyPyk3f8lc/TpO 8OemvXJSxB0lSC/jMWqiBhHc/ahD6qbDGXM70nvRhiD2pG4g2nAC2ST3ua9KL4PhDuR7 Sls+O7YozgKsO8vaNAFNfvPDnAyRWm/fjlFbt5OC2x6prfnxIy14DX3IsxtaYdMKkcfR wLircjaQSXsYTrJ2tVkDWw1EZs0PAa16FuQHgecP8tq+JayiWwdxcJ9QJkZm/ZbZQoTA KdX0gEqecXZLl/qDRRFRS3n5TOOHSk8aBnXElvpJLyAif3ZipEvL7nWkY/JZuKISGEXM or4g== X-Gm-Message-State: AOJu0YwRfc/a3uycUTuf+hvNidcDwZALI957i7V2vPk93nmE+1PxMJbQ 5ru+GmqpE83t49cULyUR2hW4LcHa8TG7YdHbJJQwNUIN6E6NvZRDH7j1k5IkmIKoKVkFZVXAgWA PJNm5KGGdsPY2mbhytwKVvUrNxPLie2xroAWfhigLRkDM X-Gm-Gg: ASbGncvzAtFfNBAjQ4E51FsLaWJI6qvUGUAa0s2/x3+epLLI3DYaNWNIySahIsHUa/5 anQXf81Q41cCmDsbG5Js6NgwVjNaEXJEfNIn819xJM3GELrzuPZtM+835vq8wp0YMJi8s2kcmlx lI0dSJ5AkM1O+rtTv/iu3L56qabyjmvnvf/atQfj+iXZ7C9Br5vVwAQWubDS/Bw0h7caNNPEPqx nrzX3QBAB0whE/dElJDF0oSVRkSPS8gPY3tcDvKAY9eLbz1/ioFw3JJA7K4GjNUCb/PIS5zaT51 jWjNsZuAbPTLajsAa4NOiTvVGajbJYn/G+WdwbCNb7kVJbgmTzGZQLbBQSxn5R05+GjeFfj6 X-Google-Smtp-Source: AGHT+IGNY/xc708Xt2BggW879L9wQwcu9GeSKdIWbRRU9t7zZ07zKaebDMucEGflAlgHQBl8r8zOBd5KvAp1 X-Received: by 2002:a17:903:28d:b0:234:c7e6:8459 with SMTP id d9443c01a7336-23e256cd95dmr13171815ad.20.1752628986901; Tue, 15 Jul 2025 18:23:06 -0700 (PDT) Received: from postal.iol.unh.edu (postal.iol.unh.edu. [132.177.123.84]) by smtp-relay.gmail.com with ESMTPS id d9443c01a7336-23de433d67asm6862485ad.116.2025.07.15.18.23.06 (version=TLS1_2 cipher=ECDHE-ECDSA-AES128-GCM-SHA256 bits=128/128); Tue, 15 Jul 2025 18:23:06 -0700 (PDT) X-Relaying-Domain: iol.unh.edu Date: Tue, 15 Jul 2025 18:23:06 -0700 (PDT) Message-ID: <6876fefa.170a0220.86e82.42aaSMTPIN_ADDED_MISSING@mx.google.com> Received: from [172.21.0.5] (unknown [172.18.0.240]) by postal.iol.unh.edu (Postfix) with ESMTP id 0F8706050A61; Tue, 15 Jul 2025 21:23:06 -0400 (EDT) Subject: |SUCCESS| [GIT MASTER] 9fe9c0b231c8da5435bfccb1963121b4277f961c From: dpdklab@iol.unh.edu To: Test Report Cc: dpdk-test-reports@iol.unh.edu Content-Type: text/plain X-BeenThere: test-report@dpdk.org X-Mailman-Version: 2.1.29 Precedence: list List-Id: automatic DPDK test reports List-Unsubscribe: , List-Archive: List-Post: List-Help: List-Subscribe: , Errors-To: test-report-bounces@dpdk.org _Testing PASS_ Branch: dpdk 9fe9c0b231c8da5435bfccb1963121b4277f961c --> testing pass Upstream job id: Generic-Unit-Test-DPDK#355581 Test environment and result as below: +------------------------------+--------------+------------------------------+---------------------------+----------------+ | Environment | lpm_autotest | cryptodev_sw_snow3g_autotest | cryptodev_sw_zuc_autotest | dpdk_unit_test | +==============================+==============+==============================+===========================+================+ | Ubuntu 20.04 | PASS | SKIPPED | SKIPPED | PASS | +------------------------------+--------------+------------------------------+---------------------------+----------------+ | Debian 12 (arm) | SKIPPED | PASS | PASS | SKIPPED | +------------------------------+--------------+------------------------------+---------------------------+----------------+ | CentOS Stream 10 | SKIPPED | SKIPPED | SKIPPED | PASS | +------------------------------+--------------+------------------------------+---------------------------+----------------+ | Fedora Linux 40 | SKIPPED | SKIPPED | SKIPPED | PASS | +------------------------------+--------------+------------------------------+---------------------------+----------------+ | CentOS Stream 9 | SKIPPED | SKIPPED | SKIPPED | PASS | +------------------------------+--------------+------------------------------+---------------------------+----------------+ | Ubuntu 22.04 | SKIPPED | SKIPPED | SKIPPED | PASS | +------------------------------+--------------+------------------------------+---------------------------+----------------+ | Fedora Linux 41 | SKIPPED | SKIPPED | SKIPPED | PASS | +------------------------------+--------------+------------------------------+---------------------------+----------------+ | Debian GNU/Linux 12 | SKIPPED | SKIPPED | SKIPPED | PASS | +------------------------------+--------------+------------------------------+---------------------------+----------------+ | Ubuntu 24.04 | SKIPPED | SKIPPED | SKIPPED | PASS | +------------------------------+--------------+------------------------------+---------------------------+----------------+ | Red Hat Enterprise Linux 9.5 | SKIPPED | SKIPPED | SKIPPED | PASS | +------------------------------+--------------+------------------------------+---------------------------+----------------+ Ubuntu 20.04 Kernel: 5.4 Compiler: gcc gcc (Ubuntu 9.4.0-1ubuntu1~20.04.2) 9.4.0 Debian 12 (arm) Kernel: Depends on container host Compiler: gcc (Debian 12.2.0-14) 12.2.0 CentOS Stream 10 Kernel: 5.4 Compiler: gcc gcc (GCC) 14.2.1 20250110 (Red Hat 14.2.1-8) Fedora Linux 40 Kernel: 5.4 Compiler: gcc gcc (GCC) 14.2.1 20240912 (Red Hat 14.2.1-3) CentOS Stream 9 Kernel: 5.4 Compiler: gcc gcc (GCC) 11.5.0 20240719 (Red Hat 11.5.0-7) Ubuntu 22.04 Kernel: 5.4 Compiler: gcc gcc (Ubuntu 11.4.0-1ubuntu1~22.04) 11.4.0 Fedora Linux 41 Kernel: 5.4 Compiler: gcc gcc (GCC) 14.3.1 20250523 (Red Hat 14.3.1-1) Debian GNU/Linux 12 Kernel: 5.4 Compiler: gcc gcc (Debian 12.2.0-14+deb12u1) 12.2.0 Ubuntu 24.04 Kernel: 5.4 Compiler: gcc gcc (Ubuntu 13.3.0-6ubuntu2~24.04) 13.3.0 Red Hat Enterprise Linux 9.5 Kernel: 5.4 Compiler: gcc gcc (GCC) 11.5.0 20240719 (Red Hat 11.5.0-2) To view detailed results, visit: https://lab.dpdk.org/results/dashboard/tarballs/34276/ UNH-IOL DPDK Community Lab To manage your email subscriptions, visit: https://lab.dpdk.org/results/dashboard/preferences/subscriptions/