From mboxrd@z Thu Jan 1 00:00:00 1970 Return-Path: Received: from mails.dpdk.org (mails.dpdk.org [217.70.189.124]) by inbox.dpdk.org (Postfix) with ESMTP id 617B046B85 for ; Wed, 16 Jul 2025 05:29:15 +0200 (CEST) Received: from mails.dpdk.org (localhost [127.0.0.1]) by mails.dpdk.org (Postfix) with ESMTP id 2FB014013F; Wed, 16 Jul 2025 05:29:15 +0200 (CEST) Received: from mail-qv1-f99.google.com (mail-qv1-f99.google.com [209.85.219.99]) by mails.dpdk.org (Postfix) with ESMTP id D61374013F for ; Wed, 16 Jul 2025 05:29:13 +0200 (CEST) Received: by mail-qv1-f99.google.com with SMTP id 6a1803df08f44-6fac7147cb8so90451356d6.1 for ; Tue, 15 Jul 2025 20:29:13 -0700 (PDT) DKIM-Signature: v=1; a=rsa-sha256; c=relaxed/relaxed; d=iol.unh.edu; s=unh-iol; t=1752636553; x=1753241353; darn=dpdk.org; h=cc:to:from:subject:message-id:date:from:to:cc:subject:date :message-id:reply-to; bh=4k/f382kUx+wA3Dz0zsLYy/JozkeYEu+yfCHgqrkelY=; b=MGabKayq/6aqvxyu0FkFfW1GoYNGUAvBF4/6vfzXoo4Gcxb1JOijlNmTn47GhSx8H7 E+WXteXC/rZ9ENje4YejonpUw0LV6zvgtL7JERHbJRQBHwmIGK6jluM3QEa8oU4YjTB7 SORHfqXgF73CIufbr0C65FBVHbReb1E/HBbJQ= X-Google-DKIM-Signature: v=1; a=rsa-sha256; c=relaxed/relaxed; d=1e100.net; s=20230601; t=1752636553; x=1753241353; h=cc:to:from:subject:message-id:date:x-gm-message-state:from:to:cc :subject:date:message-id:reply-to; bh=4k/f382kUx+wA3Dz0zsLYy/JozkeYEu+yfCHgqrkelY=; b=O/5QOPdVQDVCZj183JMQBag3hUHB/xxSyxis9HNfEu6qeP5QssFmZAGacEmiWwqB+5 zV8gUncpav27cExBrAoc7PUwmowmc9YSfYJteWrW4ft5zMDpZKI/u8e8nkl6CIZLbBZO 4tU4lE3CJwAqTA7byta7P34ShCktAK6RP892n45JicvB/6kVhIngpo3StuLZIz65lrrP aKemqd5VlOshNb4lMN/aFsEnBF7SlBTiu48GTpgL5S4wuaA8DoL4PT6f1gK+jJgzyGmS xNxb/u0wkNLn84iR0VePvMBIGVVUnr9ocgmg4pazZO8FR0kl7kUwIhVo5nOY/MWl2pC5 qlnw== X-Gm-Message-State: AOJu0YyXBooE22hfub41NlZBxezs1701wlNNsziI6CF2TmZ47rB4F128 uzOYi03VrYHC/h3svyGyJvo3b1oARFrnGTERXozv9vor7PfNBetEeLSjX6P/FdGpyuyyxRUmxgy RygODELCxhPoHwpFmfXV9jrCqhMQ4je6q27/iWBHUS/ZM X-Gm-Gg: ASbGncuulb1/GHTwSaxK/g43tTYN28qTPxecfwWFhomzFyfNDy5zfxT1V6qepTF+OmG OSdUEeAsFXIj8a4Qsc6MIbxwpGnXj7KUSuZ+hJAldkmDer2YY08HUsbl4JYdsi1VAzIHFtUfcH6 U85JRdnBYCidQJILqPOdlUwEg/Bynq9wce/fOS8MG8AEtjdlCPRvEPjCFPFqnlTnqPPQrRjs6LD AFxKK0wJTqUVbz/MaUy4NoPvwQ8Xo5cDzCZf5DtsiAI/dDPPbL8vrxINBHfLAFbp6Bv0ChFzObm pD6yMyHGK2GXhYcZUGJHAh1SWoMIzvzsGShf8EnMmytxH62z5Z+QAbxQRM5DJAYJJl/0ZkAM X-Google-Smtp-Source: AGHT+IGFWrbKLde3UXwU8YDNJrYwwdv35/dgs9g2Uj0bVJl4MQ1VrqGpLVUIQnupxH1u1OrGFr/Y7pSmzWqn X-Received: by 2002:a05:6214:800e:b0:704:f952:1884 with SMTP id 6a1803df08f44-704f9521f80mr3738476d6.49.1752636553138; Tue, 15 Jul 2025 20:29:13 -0700 (PDT) Received: from postal.iol.unh.edu (postal.iol.unh.edu. [132.177.123.84]) by smtp-relay.gmail.com with ESMTPS id 6a1803df08f44-70497d59bb8sm6971566d6.50.2025.07.15.20.29.13 (version=TLS1_2 cipher=ECDHE-ECDSA-AES128-GCM-SHA256 bits=128/128); Tue, 15 Jul 2025 20:29:13 -0700 (PDT) X-Relaying-Domain: iol.unh.edu Date: Tue, 15 Jul 2025 20:29:13 -0700 (PDT) Message-ID: <68771c89.d40a0220.15e16b.538dSMTPIN_ADDED_MISSING@mx.google.com> Received: from [172.21.0.5] (unknown [172.18.0.240]) by postal.iol.unh.edu (Postfix) with ESMTP id 890436051830; Tue, 15 Jul 2025 23:29:12 -0400 (EDT) Subject: |SUCCESS| [GIT MASTER] 9fe9c0b231c8da5435bfccb1963121b4277f961c From: dpdklab@iol.unh.edu To: Test Report Cc: dpdk-test-reports@iol.unh.edu Content-Type: text/plain X-BeenThere: test-report@dpdk.org X-Mailman-Version: 2.1.29 Precedence: list List-Id: automatic DPDK test reports List-Unsubscribe: , List-Archive: List-Post: List-Help: List-Subscribe: , Errors-To: test-report-bounces@dpdk.org _Testing PASS_ Branch: dpdk 9fe9c0b231c8da5435bfccb1963121b4277f961c --> testing pass Upstream job id: Generic-DPDK-Compile-Meson#408944 Test environment and result as below: +------------------------------+--------------------+ | Environment | dpdk_meson_compile | +==============================+====================+ | Ubuntu 20.04 | PASS | +------------------------------+--------------------+ | Fedora Linux 40 | PASS | +------------------------------+--------------------+ | Red Hat Enterprise Linux 9.5 | PASS | +------------------------------+--------------------+ | Debian GNU/Linux 12 | PASS | +------------------------------+--------------------+ | Fedora Linux 41 | PASS | +------------------------------+--------------------+ | Ubuntu 22.04 | PASS | +------------------------------+--------------------+ | Ubuntu 24.04 | PASS | +------------------------------+--------------------+ | CentOS Stream 9 | PASS | +------------------------------+--------------------+ | CentOS Stream 10 | PASS | +------------------------------+--------------------+ Ubuntu 20.04 Kernel: 5.4 Compiler: gcc gcc (Ubuntu 9.4.0-1ubuntu1~20.04.2) 9.4.0 Fedora Linux 40 Kernel: 5.4 Compiler: gcc gcc (GCC) 14.2.1 20240912 (Red Hat 14.2.1-3) Red Hat Enterprise Linux 9.5 Kernel: 5.4 Compiler: gcc gcc (GCC) 11.5.0 20240719 (Red Hat 11.5.0-2) Debian GNU/Linux 12 Kernel: 5.4 Compiler: gcc gcc (Debian 12.2.0-14+deb12u1) 12.2.0 Fedora Linux 41 Kernel: 5.4 Compiler: clang gcc (GCC) 14.3.1 20250523 (Red Hat 14.3.1-1) Ubuntu 22.04 Kernel: 5.4 Compiler: gcc gcc (Ubuntu 11.4.0-1ubuntu1~22.04) 11.4.0 Ubuntu 24.04 Kernel: 5.4 Compiler: gcc gcc (Ubuntu 13.3.0-6ubuntu2~24.04) 13.3.0 CentOS Stream 9 Kernel: 5.4 Compiler: gcc gcc (GCC) 11.5.0 20240719 (Red Hat 11.5.0-7) CentOS Stream 10 Kernel: 5.4 Compiler: gcc gcc (GCC) 14.2.1 20250110 (Red Hat 14.2.1-8) To view detailed results, visit: https://lab.dpdk.org/results/dashboard/tarballs/34276/ UNH-IOL DPDK Community Lab To manage your email subscriptions, visit: https://lab.dpdk.org/results/dashboard/preferences/subscriptions/