From mboxrd@z Thu Jan 1 00:00:00 1970 Return-Path: Received: from mails.dpdk.org (mails.dpdk.org [217.70.189.124]) by inbox.dpdk.org (Postfix) with ESMTP id 7ED7F46B8A for ; Wed, 16 Jul 2025 12:15:43 +0200 (CEST) Received: from mails.dpdk.org (localhost [127.0.0.1]) by mails.dpdk.org (Postfix) with ESMTP id 7AC8F4013F; Wed, 16 Jul 2025 12:15:43 +0200 (CEST) Received: from mail-pf1-f228.google.com (mail-pf1-f228.google.com [209.85.210.228]) by mails.dpdk.org (Postfix) with ESMTP id 0D21F4013F for ; Wed, 16 Jul 2025 12:15:42 +0200 (CEST) Received: by mail-pf1-f228.google.com with SMTP id d2e1a72fcca58-748e81d37a7so3907712b3a.1 for ; Wed, 16 Jul 2025 03:15:41 -0700 (PDT) DKIM-Signature: v=1; a=rsa-sha256; c=relaxed/relaxed; d=iol.unh.edu; s=unh-iol; t=1752660941; x=1753265741; darn=dpdk.org; h=references:in-reply-to:cc:to:from:subject:message-id:date:from:to :cc:subject:date:message-id:reply-to; bh=9VW4RXbNhU9V5US6HZGL33KkCWqVC/g0z8363wNoRWc=; b=GSA2UcbI1TR63KIT99rhx9/AdL8dqNWknZWSEy6MFNQ/0qLSGTyoGF+2746zAJgr5f VRZmGWSAQCTAiJqZCzEcexwLxUJ+p1eDTfUFDyxOFKwz4jZ4An+qhYBMyXwRYevb2o5s ERKSTMoLyo1epc21U9Lm6v++0LZORT/+ZwzUU= X-Google-DKIM-Signature: v=1; a=rsa-sha256; c=relaxed/relaxed; d=1e100.net; s=20230601; t=1752660941; x=1753265741; h=references:in-reply-to:cc:to:from:subject:message-id:date :x-gm-message-state:from:to:cc:subject:date:message-id:reply-to; bh=9VW4RXbNhU9V5US6HZGL33KkCWqVC/g0z8363wNoRWc=; b=ucT8l03t+nzlVHQDPUYusi+JBLCM2ixFX5mLU5rgycWG7uKnhofN/toGHyLM6RXWy7 3Is794V8oTecSlP7hhIxQiGbNmyjWoii0tKxOLQTZ/ubAH1bM477xDxO35o3ykBNhrH5 Nz7qrUFCR9y4wC5FMZTSshb2Thk4pjytO2JF35A8ayA73WiTwZZsc7Du3EirdreWVgC0 NCi+VHhP4SdKsRZlh2huYZjmQX/81ua3OHtgGFjWz4dRyE2HV6irFxzRqcKYIP4y9z4M D6N3KJRiSXB24Lsu6ITJKZUo4TRNQq98yhU9NVIo1c0qOj7IYIX4TM6MtLbrFDhk1EPE ePjA== X-Gm-Message-State: AOJu0Yz1z9BdXRqqeOcrUHTfHLUPAjp54ZX/qNNvXXJ0nf4r56Bii5np jf8v1boa7JF8hJ2StRKuMZhKyggitm/EJ5i/rl4qAHIr2bT9T1GE/66Z1oaRq6zCOcx9Qk7WoAM 5JMHIHNG4BD1EY9W5ztwwNF42WkFex1qsGKLECrbM6Pjrzw4OQa7imGSmUYFl X-Gm-Gg: ASbGncvtrzWTGoTZIVhJfbqEhpjTGwZzIXbKzso8nmoTtKQiVIsYaP0Z1qK+jhuFcWv J5jM2nkrox8sGlbrppjB1pu7z3wxL6PCQzfMOxyQPBVVFPu0DIssdZ3DLAvHEbzeGBysT7Ac+R7 dzQmlJ1snkquW1zphihW+FgLFm2ioK8l+13NPKx6FnXmJzo0pdqLefxCI5/D4ALUM2iuQAD9fqt Cnjsj4FcVll9nVnXsJVCJHQ2S+q1ioza7tDT85EF8857lmSu/RsQelp44SD6sTYCxun+skk+BDv /Krr9Y65JeE/Kn1es4+w9UHi7iXI6LECiAAlHhyFByzb24IaWg== X-Google-Smtp-Source: AGHT+IH2GTT6br2kJFMB6AynLMNbhm0eHOScgWFqV1FbMUxG49mWfEuWJ3QLfCRcYL7d7SctgowFnBTa3U3K X-Received: by 2002:a05:6a21:e8c:b0:21c:fa68:c33a with SMTP id adf61e73a8af0-237d702aa68mr4906288637.23.1752660941181; Wed, 16 Jul 2025 03:15:41 -0700 (PDT) Received: from postal.iol.unh.edu (postal.iol.unh.edu. [2606:4100:3880:1234::84]) by smtp-relay.gmail.com with ESMTPS id 41be03b00d2f7-b3bbe57025csm773760a12.7.2025.07.16.03.15.41 (version=TLS1_2 cipher=ECDHE-ECDSA-AES128-GCM-SHA256 bits=128/128); Wed, 16 Jul 2025 03:15:41 -0700 (PDT) X-Relaying-Domain: iol.unh.edu Date: Wed, 16 Jul 2025 03:15:41 -0700 (PDT) Message-ID: <68777bcd.630a0220.1d7308.93cdSMTPIN_ADDED_MISSING@mx.google.com> Received: from [172.21.0.7] (unknown [172.18.0.240]) by postal.iol.unh.edu (Postfix) with ESMTP id 6DAEF6051830; Wed, 16 Jul 2025 06:15:40 -0400 (EDT) Subject: |SUCCESS| pw155243-155256 [PATCH] [v9,14/14] net/sxe: add Solve comp From: dpdklab@iol.unh.edu To: Test Report Cc: dpdk-test-reports@iol.unh.edu In-Reply-To: <20250716082930.83026-14-liujie5@linkdatatechnology.com> References: <20250716082930.83026-14-liujie5@linkdatatechnology.com> Content-Type: text/plain X-BeenThere: test-report@dpdk.org X-Mailman-Version: 2.1.29 Precedence: list List-Id: automatic DPDK test reports List-Unsubscribe: , List-Archive: List-Post: List-Help: List-Subscribe: , Errors-To: test-report-bounces@dpdk.org Test-Label: iol-unit-amd64-testing Test-Status: SUCCESS http://dpdk.org/patch/155256 _Testing PASS_ Submitter: Jie Liu Date: Wednesday, July 16 2025 08:29:30 DPDK git baseline: Repo:dpdk Branch: master CommitID:9fe9c0b231c8da5435bfccb1963121b4277f961c 155243-155256 --> testing pass Upstream job id: Generic-Unit-Test-DPDK#355667 Test environment and result as below: +-------------------------------+----------------+ | Environment | dpdk_unit_test | +===============================+================+ | CentOS Stream 9 | PASS | +-------------------------------+----------------+ | Debian GNU/Linux 12 | PASS | +-------------------------------+----------------+ | CentOS Stream 10 | PASS | +-------------------------------+----------------+ | Fedora Linux 40 | PASS | +-------------------------------+----------------+ | Red Hat Enterprise Linux 8.10 | PASS | +-------------------------------+----------------+ | Ubuntu 20.04 | PASS | +-------------------------------+----------------+ | Fedora Linux 41 | PASS | +-------------------------------+----------------+ | Ubuntu 22.04 | PASS | +-------------------------------+----------------+ | Red Hat Enterprise Linux 9.5 | PASS | +-------------------------------+----------------+ | Ubuntu 24.04 | PASS | +-------------------------------+----------------+ | Windows Server 2022 | PASS | +-------------------------------+----------------+ CentOS Stream 9 Kernel: 5.15 Compiler: gcc gcc (GCC) 11.5.0 20240719 (Red Hat 11.5.0-7) Debian GNU/Linux 12 Kernel: 5.15 Compiler: gcc gcc (Debian 12.2.0-14+deb12u1) 12.2.0 CentOS Stream 10 Kernel: 5.15 Compiler: gcc gcc (GCC) 14.2.1 20250110 (Red Hat 14.2.1-8) Fedora Linux 40 Kernel: 5.15 Compiler: gcc gcc (GCC) 14.2.1 20240912 (Red Hat 14.2.1-3) Red Hat Enterprise Linux 8.10 Kernel: 5.15 Compiler: gcc gcc (GCC) 8.5.0 20210514 (Red Hat 8.5.0-22) Ubuntu 20.04 Kernel: 5.15 Compiler: gcc gcc (Ubuntu 9.4.0-1ubuntu1~20.04.2) 9.4.0 Fedora Linux 41 Kernel: 5.15 Compiler: clang gcc (GCC) 14.3.1 20250523 (Red Hat 14.3.1-1) Ubuntu 22.04 Kernel: 5.15 Compiler: gcc gcc (Ubuntu 11.4.0-1ubuntu1~22.04) 11.4.0 Red Hat Enterprise Linux 9.5 Kernel: 5.15 Compiler: gcc gcc (GCC) 11.5.0 20240719 (Red Hat 11.5.0-2) Ubuntu 24.04 Kernel: 5.15 Compiler: gcc gcc (Ubuntu 13.3.0-6ubuntu2~24.04) 13.3.0 Windows Server 2022 Kernel: 10.0.20348.2031 Compiler: clang 15.0.7, gcc 14.1.0 (MinGW), and MSVC VS 19.39.33521 To view detailed results, visit: https://lab.dpdk.org/results/dashboard/patchsets/33662/ UNH-IOL DPDK Community Lab To manage your email subscriptions, visit: https://lab.dpdk.org/results/dashboard/preferences/subscriptions/