From mboxrd@z Thu Jan 1 00:00:00 1970 Return-Path: Received: from mails.dpdk.org (mails.dpdk.org [217.70.189.124]) by inbox.dpdk.org (Postfix) with ESMTP id 8CDAD46B8A for ; Wed, 16 Jul 2025 12:15:53 +0200 (CEST) Received: from mails.dpdk.org (localhost [127.0.0.1]) by mails.dpdk.org (Postfix) with ESMTP id 89A0F4021E; Wed, 16 Jul 2025 12:15:53 +0200 (CEST) Received: from mail-il1-f227.google.com (mail-il1-f227.google.com [209.85.166.227]) by mails.dpdk.org (Postfix) with ESMTP id 1AB0F4021E for ; Wed, 16 Jul 2025 12:15:53 +0200 (CEST) Received: by mail-il1-f227.google.com with SMTP id e9e14a558f8ab-3e058c64a76so38114875ab.0 for ; Wed, 16 Jul 2025 03:15:53 -0700 (PDT) DKIM-Signature: v=1; a=rsa-sha256; c=relaxed/relaxed; d=iol.unh.edu; s=unh-iol; t=1752660952; x=1753265752; darn=dpdk.org; h=references:in-reply-to:cc:to:from:subject:message-id:date:from:to :cc:subject:date:message-id:reply-to; bh=vhFJQOogOzO0ORegQwMViu2sCD+fvsO9YgHZxCSRAgU=; b=K4wZqidgl4iVHsuV19hzme2pthWsPbFLE9deZqXmAMinpUYPGPdEQOoORVmTKCiEWo uVXvW6dhKiIIyI8KG8Ak/mAHL2hMys86tn+DHv7M6bazxpL7BzBP1toVu6fQaNBfw01Z WAHpaZTYKVLNugo+SFR/nuVeKLUDEnw+Ynszc= X-Google-DKIM-Signature: v=1; a=rsa-sha256; c=relaxed/relaxed; d=1e100.net; s=20230601; t=1752660952; x=1753265752; h=references:in-reply-to:cc:to:from:subject:message-id:date :x-gm-message-state:from:to:cc:subject:date:message-id:reply-to; bh=vhFJQOogOzO0ORegQwMViu2sCD+fvsO9YgHZxCSRAgU=; b=Em7F1oNz+Imr+6hiH9Upo3/iRadCoCFH23WMYuYNUmz5brqcZVkjpKu607aVg484uO zPdpJna3RqKh9rDFUrMCdebaJJTui+8Tc2wzepSIc/6Ly86B5MMvtT3/AkUE9NxPJdU1 IgJb2anIYkZ9aII3/76l0PebMJ2rC6N11oJqPgx5FSPWTYvOT+dzZ+rO3VlhKvcSV7c4 d9t4jZPd9djNOaGfZMXSX13oOiBzNDSmCTKWnQyDQUuy+mL3T2RcnhDoCf65O0YBG8IN +C5tq4BP9bN4WneCadEyNktEBk9WqywqSOyFOLtCvqi/F2aprBw1Cn355QvbWX/3FrJi tMJw== X-Gm-Message-State: AOJu0Yyoe9lohga6VufDxzdDUxg9FcSzx0ZNKtO91jZVvj5WfaBIAEo+ PeVyEQkhibPdGYGgrfzWL3bn9Y0RETF4SdYmv9aRzh+dfMCzjh7V8S9Rnuf3O+GeUuZ8OArATZl CFZmfJ4xvmvVdX/D5xcGJQo8upZJy4k153AfdzevgVcKa3fot2hoK/ozz4/Ix X-Gm-Gg: ASbGncvNJ1y7IUwOF0CyFMCZtmw7Noiza8hYgrGdwKXU9giW5fs1JvaA21+25W56OgY cijra04z7y6vIyeO1/J360BCDCHgJse84Hkewlkwk1IZGGw5JIMk6/fmAosQX6nC109EOTu6Xq3 MzAGHOFMwy6AfUDGVqaMCEShm4FE028m9Z3OG0Hb4GD8xKNST0NrrVuR77h+d9Zqj5PiINnplCG T1tULewFCgEvaRCOqBjZcgFnneQVilj5fESz46imR2gH4NiOEyonJkBS22Te4lLv8gyPmRzVSfL iD+cBFWH/AGKHGpCJwZ+OzxeSN5xXcVAwAHWbDatgCmo5Cs5YQ== X-Google-Smtp-Source: AGHT+IFRGJgdc+JeSE7LLmthbvB+hKWqTDlpTqr2zsZajC3MxjADr9BUd4cWGi6el/bP2r3k2cWkojE8WpL7 X-Received: by 2002:a05:6602:3a13:b0:86d:71:d9a with SMTP id ca18e2360f4ac-879c284b37fmr206460439f.2.1752660952326; Wed, 16 Jul 2025 03:15:52 -0700 (PDT) Received: from postal.iol.unh.edu (postal.iol.unh.edu. [2606:4100:3880:1234::84]) by smtp-relay.gmail.com with ESMTPS id ca18e2360f4ac-8796bbf103bsm60179339f.21.2025.07.16.03.15.52 (version=TLS1_2 cipher=ECDHE-ECDSA-AES128-GCM-SHA256 bits=128/128); Wed, 16 Jul 2025 03:15:52 -0700 (PDT) X-Relaying-Domain: iol.unh.edu Date: Wed, 16 Jul 2025 03:15:52 -0700 (PDT) Message-ID: <68777bd8.050a0220.1d1aaf.f892SMTPIN_ADDED_MISSING@mx.google.com> Received: from [172.21.0.5] (unknown [172.18.0.240]) by postal.iol.unh.edu (Postfix) with ESMTP id D2E116051830; Wed, 16 Jul 2025 06:15:51 -0400 (EDT) Subject: |SUCCESS| pw155243-155256 [PATCH] [v9,14/14] net/sxe: add Solve comp From: dpdklab@iol.unh.edu To: Test Report Cc: dpdk-test-reports@iol.unh.edu In-Reply-To: <20250716082930.83026-14-liujie5@linkdatatechnology.com> References: <20250716082930.83026-14-liujie5@linkdatatechnology.com> Content-Type: text/plain X-BeenThere: test-report@dpdk.org X-Mailman-Version: 2.1.29 Precedence: list List-Id: automatic DPDK test reports List-Unsubscribe: , List-Archive: List-Post: List-Help: List-Subscribe: , Errors-To: test-report-bounces@dpdk.org Test-Label: iol-unit-amd64-testing Test-Status: SUCCESS http://dpdk.org/patch/155256 _Testing PASS_ Submitter: Jie Liu Date: Wednesday, July 16 2025 08:29:30 DPDK git baseline: Repo:dpdk Branch: master CommitID:9fe9c0b231c8da5435bfccb1963121b4277f961c 155243-155256 --> testing pass Upstream job id: Generic-Unit-Test-DPDK#355680 Test environment and result as below: +-------------------------------+----------------+ | Environment | dpdk_unit_test | +===============================+================+ | CentOS Stream 9 | PASS | +-------------------------------+----------------+ | Debian GNU/Linux 12 | PASS | +-------------------------------+----------------+ | CentOS Stream 10 | PASS | +-------------------------------+----------------+ | Fedora Linux 40 | PASS | +-------------------------------+----------------+ | Red Hat Enterprise Linux 8.10 | PASS | +-------------------------------+----------------+ | Ubuntu 20.04 | PASS | +-------------------------------+----------------+ | Fedora Linux 41 | PASS | +-------------------------------+----------------+ | Ubuntu 22.04 | PASS | +-------------------------------+----------------+ | Red Hat Enterprise Linux 9.5 | PASS | +-------------------------------+----------------+ | Ubuntu 24.04 | PASS | +-------------------------------+----------------+ | Windows Server 2022 | PASS | +-------------------------------+----------------+ CentOS Stream 9 Kernel: 5.15 Compiler: gcc gcc (GCC) 11.5.0 20240719 (Red Hat 11.5.0-7) Debian GNU/Linux 12 Kernel: 5.15 Compiler: gcc gcc (Debian 12.2.0-14+deb12u1) 12.2.0 CentOS Stream 10 Kernel: 5.15 Compiler: gcc gcc (GCC) 14.2.1 20250110 (Red Hat 14.2.1-8) Fedora Linux 40 Kernel: 5.15 Compiler: gcc gcc (GCC) 14.2.1 20240912 (Red Hat 14.2.1-3) Red Hat Enterprise Linux 8.10 Kernel: 5.15 Compiler: gcc gcc (GCC) 8.5.0 20210514 (Red Hat 8.5.0-22) Ubuntu 20.04 Kernel: 5.15 Compiler: gcc gcc (Ubuntu 9.4.0-1ubuntu1~20.04.2) 9.4.0 Fedora Linux 41 Kernel: 5.15 Compiler: clang gcc (GCC) 14.3.1 20250523 (Red Hat 14.3.1-1) Ubuntu 22.04 Kernel: 5.15 Compiler: gcc gcc (Ubuntu 11.4.0-1ubuntu1~22.04) 11.4.0 Red Hat Enterprise Linux 9.5 Kernel: 5.15 Compiler: gcc gcc (GCC) 11.5.0 20240719 (Red Hat 11.5.0-2) Ubuntu 24.04 Kernel: 5.15 Compiler: gcc gcc (Ubuntu 13.3.0-6ubuntu2~24.04) 13.3.0 Windows Server 2022 Kernel: 10.0.20348.2031 Compiler: clang 15.0.7, gcc 14.1.0 (MinGW), and MSVC VS 19.39.33521 To view detailed results, visit: https://lab.dpdk.org/results/dashboard/patchsets/33662/ UNH-IOL DPDK Community Lab To manage your email subscriptions, visit: https://lab.dpdk.org/results/dashboard/preferences/subscriptions/