From mboxrd@z Thu Jan 1 00:00:00 1970 Return-Path: Received: from mails.dpdk.org (mails.dpdk.org [217.70.189.124]) by inbox.dpdk.org (Postfix) with ESMTP id 2C36E46B8A for ; Wed, 16 Jul 2025 12:27:03 +0200 (CEST) Received: from mails.dpdk.org (localhost [127.0.0.1]) by mails.dpdk.org (Postfix) with ESMTP id 270B74021E; Wed, 16 Jul 2025 12:27:03 +0200 (CEST) Received: from mail-yw1-f227.google.com (mail-yw1-f227.google.com [209.85.128.227]) by mails.dpdk.org (Postfix) with ESMTP id BE465402F1 for ; Wed, 16 Jul 2025 12:27:01 +0200 (CEST) Received: by mail-yw1-f227.google.com with SMTP id 00721157ae682-712be7e034cso62255877b3.0 for ; Wed, 16 Jul 2025 03:27:01 -0700 (PDT) DKIM-Signature: v=1; a=rsa-sha256; c=relaxed/relaxed; d=iol.unh.edu; s=unh-iol; t=1752661621; x=1753266421; darn=dpdk.org; h=references:in-reply-to:cc:to:from:subject:message-id:date:from:to :cc:subject:date:message-id:reply-to; bh=A6K2xg/EE71bPsUYBwKVSC8JsmXToJrcH2Y3iKqbshU=; b=cFndb0UI28KQ1frL0sW6lxs/4shsm3o57+8vrybZO2qjx6pBbLLeTzNAXNyOq/Qprt RPXOe7dXyUeofrrcUa/haLgPAh5hWbKsjnJf7UsLJMO+oS/28cr2KEeQf+SdCG4X+veX B3wqLNau2jknmMJ3wb0mEt3hzqJ49w5i/fE10= X-Google-DKIM-Signature: v=1; a=rsa-sha256; c=relaxed/relaxed; d=1e100.net; s=20230601; t=1752661621; x=1753266421; h=references:in-reply-to:cc:to:from:subject:message-id:date :x-gm-message-state:from:to:cc:subject:date:message-id:reply-to; bh=A6K2xg/EE71bPsUYBwKVSC8JsmXToJrcH2Y3iKqbshU=; b=Lr9apIqz4rnSjZ8ezYqpMeX4sJP0OgwsHAQxgKYH1vQFPmb5EVcTXetDYTlQ6/pkhs yWkOZsQX2HdOJmc6Adm1Oi9jM4KvubWdfMT4CwsqopCDOFM8M5K5K78jvdVMyQKaz0sM eP/D+ZjI59pF5/kHU+pBabhO2FXROUSzjvNqys/7JzEEWit2rc33B68DBsb++ES5gYlo u9o5FjGySfOBnlA6sEiFaulPYfCevAT3qmW34PyClx7Jf4M4fjGr/P8yn3KJvPlGxKiL U6x9VVxLvQVjqbvyXRSxLlzlOifyF4rUceuCl8PzxTwcmEsW+aGMtHuj9K7sUHul35f4 ++SQ== X-Gm-Message-State: AOJu0Yz4h5lJXlfeYIro/lnl95CMYHf6baymIl1P5eZ0Mhw59aDKrGye 57B6xSZkFyW5s0mDzSkt0QyV8f3mGl/VrXR3LGUlrX78j6vIN673Ivap/edI1OSca3HETkKdilz B6hBx9m0VxuNQRZ893iW/4m2mv1PWgfp4nvzMc/l1Ch6g X-Gm-Gg: ASbGnctL/q1Kqg2GDeVHpWEvJTPzaJubIYXRq6X8ihz3qMPy3yn/69EKaMOg9uP8KYU qu0vDQkh50cARlRh9blgjm/OZUVFtV14Cyc6VemDH6TGF5Gt0Q+oGUtkpl2QdaiVgKaXdQr4d5J 0mpaRhX769G/IdTjHyseQtT3wp8GNwiQBbcL3RPmFZI6Re5Yuuuv4kWiLOsxPcCMmMS3hFXGSxs ah18GiltnEEPc7QvlvUWS0N2Iq+lhY1s1hSSjQEP+MHC7tdtFMj/3QI38+N1VqnoLgSJ/knylLY KgVbjHVuxpv3dQx8uklaamnP6NuoWtblswhRfJJIxR46dfcd0K/vuzeOqtjN3SXaf/+dzR3m X-Google-Smtp-Source: AGHT+IFfA2U3UM6dmRwtgxZdmypbJy/f8rqoY82offs4dXFgDgRRl8xtZcG1qmHDjG391GuWEbjya/jrlwww X-Received: by 2002:a05:690c:6d07:b0:708:21e9:a20d with SMTP id 00721157ae682-718370bb731mr27754077b3.16.1752661620737; Wed, 16 Jul 2025 03:27:00 -0700 (PDT) Received: from postal.iol.unh.edu (postal.iol.unh.edu. [132.177.123.84]) by smtp-relay.gmail.com with ESMTPS id 00721157ae682-7183982e8f8sm498697b3.60.2025.07.16.03.27.00 (version=TLS1_2 cipher=ECDHE-ECDSA-AES128-GCM-SHA256 bits=128/128); Wed, 16 Jul 2025 03:27:00 -0700 (PDT) X-Relaying-Domain: iol.unh.edu Date: Wed, 16 Jul 2025 03:27:00 -0700 (PDT) Message-ID: <68777e74.050a0220.1b3c1b.2a9aSMTPIN_ADDED_MISSING@mx.google.com> Received: from [172.21.0.5] (unknown [172.18.0.240]) by postal.iol.unh.edu (Postfix) with ESMTP id 63B2A6051830; Wed, 16 Jul 2025 06:27:00 -0400 (EDT) Subject: |SUCCESS| pw155243-155256 [PATCH] [v9,14/14] net/sxe: add Solve comp From: dpdklab@iol.unh.edu To: Test Report Cc: dpdk-test-reports@iol.unh.edu In-Reply-To: <20250716082930.83026-14-liujie5@linkdatatechnology.com> References: <20250716082930.83026-14-liujie5@linkdatatechnology.com> Content-Type: text/plain X-BeenThere: test-report@dpdk.org X-Mailman-Version: 2.1.29 Precedence: list List-Id: automatic DPDK test reports List-Unsubscribe: , List-Archive: List-Post: List-Help: List-Subscribe: , Errors-To: test-report-bounces@dpdk.org Test-Label: iol-abi-testing Test-Status: SUCCESS http://dpdk.org/patch/155256 _Testing PASS_ Submitter: Jie Liu Date: Wednesday, July 16 2025 08:29:30 DPDK git baseline: Repo:dpdk Branch: master CommitID:9fe9c0b231c8da5435bfccb1963121b4277f961c 155243-155256 --> testing pass Upstream job id: Generic-DPDK-Compile-ABI#134490 Test environment and result as below: +-------------------------------+----------+ | Environment | abi_test | +===============================+==========+ | CentOS Stream 9 | PASS | +-------------------------------+----------+ | Debian GNU/Linux 12 | PASS | +-------------------------------+----------+ | CentOS Stream 10 | PASS | +-------------------------------+----------+ | Fedora Linux 40 | PASS | +-------------------------------+----------+ | Fedora Linux 41 | PASS | +-------------------------------+----------+ | openSUSE Leap 15.6 | PASS | +-------------------------------+----------+ | Red Hat Enterprise Linux 9.5 | PASS | +-------------------------------+----------+ | Red Hat Enterprise Linux 8.10 | PASS | +-------------------------------+----------+ | Ubuntu 24.04 | PASS | +-------------------------------+----------+ | Ubuntu 22.04 | PASS | +-------------------------------+----------+ CentOS Stream 9 Kernel: 5.15 Compiler: gcc gcc (GCC) 11.5.0 20240719 (Red Hat 11.5.0-7) Debian GNU/Linux 12 Kernel: 5.15 Compiler: gcc gcc (Debian 12.2.0-14+deb12u1) 12.2.0 CentOS Stream 10 Kernel: 5.15 Compiler: gcc gcc (GCC) 14.2.1 20250110 (Red Hat 14.2.1-8) Fedora Linux 40 Kernel: 5.15 Compiler: clang gcc (GCC) 14.2.1 20240912 (Red Hat 14.2.1-3) Fedora Linux 41 Kernel: 5.15 Compiler: clang gcc (GCC) 14.3.1 20250523 (Red Hat 14.3.1-1) openSUSE Leap 15.6 Kernel: 5.15 Compiler: gcc gcc (SUSE Linux) 7.5.0 Red Hat Enterprise Linux 9.5 Kernel: 5.15 Compiler: gcc gcc (GCC) 11.5.0 20240719 (Red Hat 11.5.0-2) Red Hat Enterprise Linux 8.10 Kernel: 5.15 Compiler: gcc gcc (GCC) 8.5.0 20210514 (Red Hat 8.5.0-22) Ubuntu 24.04 Kernel: 5.15 Compiler: gcc gcc (Ubuntu 13.3.0-6ubuntu2~24.04) 13.3.0 Ubuntu 22.04 Kernel: 5.15 Compiler: gcc gcc (Ubuntu 11.4.0-1ubuntu1~22.04) 11.4.0 To view detailed results, visit: https://lab.dpdk.org/results/dashboard/patchsets/33662/ UNH-IOL DPDK Community Lab To manage your email subscriptions, visit: https://lab.dpdk.org/results/dashboard/preferences/subscriptions/